BEGIN:VCALENDAR
VERSION:2.0
PRODID:-//Salmon Bay Eagles 2141 - ECPv6.15.17.1//NONSGML v1.0//EN
CALSCALE:GREGORIAN
METHOD:PUBLISH
X-WR-CALNAME:Salmon Bay Eagles 2141
X-ORIGINAL-URL:https://salmonbayeagles.com
X-WR-CALDESC:Events for Salmon Bay Eagles 2141
REFRESH-INTERVAL;VALUE=DURATION:PT1H
X-Robots-Tag:noindex
X-PUBLISHED-TTL:PT1H
BEGIN:VTIMEZONE
TZID:America/Los_Angeles
BEGIN:DAYLIGHT
TZOFFSETFROM:-0800
TZOFFSETTO:-0700
TZNAME:PDT
DTSTART:20240310T100000
END:DAYLIGHT
BEGIN:STANDARD
TZOFFSETFROM:-0700
TZOFFSETTO:-0800
TZNAME:PST
DTSTART:20241103T090000
END:STANDARD
BEGIN:DAYLIGHT
TZOFFSETFROM:-0800
TZOFFSETTO:-0700
TZNAME:PDT
DTSTART:20250309T100000
END:DAYLIGHT
BEGIN:STANDARD
TZOFFSETFROM:-0700
TZOFFSETTO:-0800
TZNAME:PST
DTSTART:20251102T090000
END:STANDARD
BEGIN:DAYLIGHT
TZOFFSETFROM:-0800
TZOFFSETTO:-0700
TZNAME:PDT
DTSTART:20260308T100000
END:DAYLIGHT
BEGIN:STANDARD
TZOFFSETFROM:-0700
TZOFFSETTO:-0800
TZNAME:PST
DTSTART:20261101T090000
END:STANDARD
END:VTIMEZONE
BEGIN:VEVENT
DTSTART;TZID=America/Los_Angeles:20250612T190000
DTEND;TZID=America/Los_Angeles:20250612T190000
DTSTAMP:20260421T185129
CREATED:20250605T062933Z
LAST-MODIFIED:20250605T063844Z
UID:8345-1749754800-1749754800@salmonbayeagles.com
SUMMARY:Classic Italian Dinner
DESCRIPTION:
URL:https://salmonbayeagles.com/event/classic-italian-dinner-2/
LOCATION:Social Room
END:VEVENT
BEGIN:VEVENT
DTSTART;TZID=America/Los_Angeles:20250612T200000
DTEND;TZID=America/Los_Angeles:20250612T200000
DTSTAMP:20260421T185129
CREATED:20250605T062954Z
LAST-MODIFIED:20250605T072224Z
UID:8354-1749758400-1749758400@salmonbayeagles.com
SUMMARY:Di & the Blue Hearts
DESCRIPTION:Di and the Blue Hearts\, nominated for Best New Band of 2025 by the WBS\, is a five-piece classic blues ensemble made up of award-winning\, lifelong blues lovers who are passionate performers.
URL:https://salmonbayeagles.com/event/di-the-blue-hearts/
LOCATION:Social Room
END:VEVENT
END:VCALENDAR