BEGIN:VCALENDAR
VERSION:2.0
PRODID:-//Salmon Bay Eagles 2141 - ECPv6.15.17.1//NONSGML v1.0//EN
CALSCALE:GREGORIAN
METHOD:PUBLISH
X-ORIGINAL-URL:https://salmonbayeagles.com
X-WR-CALDESC:Events for Salmon Bay Eagles 2141
REFRESH-INTERVAL;VALUE=DURATION:PT1H
X-Robots-Tag:noindex
X-PUBLISHED-TTL:PT1H
BEGIN:VTIMEZONE
TZID:America/Los_Angeles
BEGIN:DAYLIGHT
TZOFFSETFROM:-0800
TZOFFSETTO:-0700
TZNAME:PDT
DTSTART:20240310T100000
END:DAYLIGHT
BEGIN:STANDARD
TZOFFSETFROM:-0700
TZOFFSETTO:-0800
TZNAME:PST
DTSTART:20241103T090000
END:STANDARD
BEGIN:DAYLIGHT
TZOFFSETFROM:-0800
TZOFFSETTO:-0700
TZNAME:PDT
DTSTART:20250309T100000
END:DAYLIGHT
BEGIN:STANDARD
TZOFFSETFROM:-0700
TZOFFSETTO:-0800
TZNAME:PST
DTSTART:20251102T090000
END:STANDARD
BEGIN:DAYLIGHT
TZOFFSETFROM:-0800
TZOFFSETTO:-0700
TZNAME:PDT
DTSTART:20260308T100000
END:DAYLIGHT
BEGIN:STANDARD
TZOFFSETFROM:-0700
TZOFFSETTO:-0800
TZNAME:PST
DTSTART:20261101T090000
END:STANDARD
END:VTIMEZONE
BEGIN:VEVENT
DTSTART;TZID=America/Los_Angeles:20250613T190000
DTEND;TZID=America/Los_Angeles:20250613T190000
DTSTAMP:20260421T174035
CREATED:20250605T062935Z
LAST-MODIFIED:20250605T062935Z
UID:8346-1749841200-1749841200@salmonbayeagles.com
SUMMARY:Classic Italian Dinner
DESCRIPTION:
URL:https://salmonbayeagles.com/event/classic-italian-dinner-3/
LOCATION:Social Room
END:VEVENT
BEGIN:VEVENT
DTSTART;TZID=America/Los_Angeles:20250613T200000
DTEND;TZID=America/Los_Angeles:20250613T200000
DTSTAMP:20260421T174035
CREATED:20250605T063007Z
LAST-MODIFIED:20250605T072131Z
UID:8358-1749844800-1749844800@salmonbayeagles.com
SUMMARY:Trouble at Home & Big Fun Trio
DESCRIPTION:Tangents perform infectious music. Ron has been pleasing audiences with his showmanship since back when. The history of these performers would fill a book and includes some of the best-known bands around the Sound. Ron & the Tangents fill the dance floor from the opening song until closing time\, so get ready to shake ëem on down! Ron is accompanied by Kelly Van Camp on drums\, Rod Cook on guitar\, Mark Dalton on bass and Steve Flynn-keys.
URL:https://salmonbayeagles.com/event/trouble-at-home-big-fun-trio/
LOCATION:Social Room
END:VEVENT
END:VCALENDAR