BEGIN:VCALENDAR
VERSION:2.0
PRODID:-//Salmon Bay Eagles 2141 - ECPv6.15.17.1//NONSGML v1.0//EN
CALSCALE:GREGORIAN
METHOD:PUBLISH
X-WR-CALNAME:Salmon Bay Eagles 2141
X-ORIGINAL-URL:https://salmonbayeagles.com
X-WR-CALDESC:Events for Salmon Bay Eagles 2141
REFRESH-INTERVAL;VALUE=DURATION:PT1H
X-Robots-Tag:noindex
X-PUBLISHED-TTL:PT1H
BEGIN:VTIMEZONE
TZID:America/Los_Angeles
BEGIN:DAYLIGHT
TZOFFSETFROM:-0800
TZOFFSETTO:-0700
TZNAME:PDT
DTSTART:20240310T100000
END:DAYLIGHT
BEGIN:STANDARD
TZOFFSETFROM:-0700
TZOFFSETTO:-0800
TZNAME:PST
DTSTART:20241103T090000
END:STANDARD
BEGIN:DAYLIGHT
TZOFFSETFROM:-0800
TZOFFSETTO:-0700
TZNAME:PDT
DTSTART:20250309T100000
END:DAYLIGHT
BEGIN:STANDARD
TZOFFSETFROM:-0700
TZOFFSETTO:-0800
TZNAME:PST
DTSTART:20251102T090000
END:STANDARD
BEGIN:DAYLIGHT
TZOFFSETFROM:-0800
TZOFFSETTO:-0700
TZNAME:PDT
DTSTART:20260308T100000
END:DAYLIGHT
BEGIN:STANDARD
TZOFFSETFROM:-0700
TZOFFSETTO:-0800
TZNAME:PST
DTSTART:20261101T090000
END:STANDARD
END:VTIMEZONE
BEGIN:VEVENT
DTSTART;VALUE=DATE:20251219
DTEND;VALUE=DATE:20251220
DTSTAMP:20260422T183515
CREATED:20251203T003314Z
LAST-MODIFIED:20251203T220023Z
UID:8714-1766102400-1766188799@salmonbayeagles.com
SUMMARY:Holiday Party & Bake Off
DESCRIPTION:Enjoy great tunes from Salmon Dan’s Holiday Jams starting at 8pm\, with cookies and treats served at 7 PM. Bring your favorite holiday goodies—cookies\, fruitcake\, or gingerbread—to enter our bake-off supporting the Ballard Food Bank.
URL:https://salmonbayeagles.com/event/holiday-party-bake-off/
LOCATION:Social Room
END:VEVENT
BEGIN:VEVENT
DTSTART;TZID=America/Los_Angeles:20251219T190000
DTEND;TZID=America/Los_Angeles:20251219T190000
DTSTAMP:20260422T183515
CREATED:20251203T002842Z
LAST-MODIFIED:20251203T002842Z
UID:8693-1766170800-1766170800@salmonbayeagles.com
SUMMARY:Honey Glazed Salmon
DESCRIPTION:December 18-20 Judy’s Honey Gingered Steelhead – $15 Succulent steelhead fillets glazed with sweet and savory honey-ginger sauce. Proceeds benefit the Ballard Food Bank.
URL:https://salmonbayeagles.com/event/honey-glazed-salmon-5/
LOCATION:Social Room
END:VEVENT
BEGIN:VEVENT
DTSTART;TZID=America/Los_Angeles:20251219T200000
DTEND;TZID=America/Los_Angeles:20251219T200000
DTSTAMP:20260422T183515
CREATED:20251203T003312Z
LAST-MODIFIED:20251203T003312Z
UID:8713-1766174400-1766174400@salmonbayeagles.com
SUMMARY:Salmon Dan's Jam
DESCRIPTION:Salmon Dan hosts a monthly blues jam on the last Thursday\, backed by Billy Reed (piano)\, Marty Vadalabene (drums)\, and Walter White (bass). Professional and aspiring musicians welcome to join this revived Salmon Bay Eagles tradition.
URL:https://salmonbayeagles.com/event/salmon-dans-jam-21/
LOCATION:Social Room
END:VEVENT
END:VCALENDAR