BEGIN:VCALENDAR
VERSION:2.0
PRODID:-//Salmon Bay Eagles 2141 - ECPv6.15.17.1//NONSGML v1.0//EN
CALSCALE:GREGORIAN
METHOD:PUBLISH
X-ORIGINAL-URL:https://salmonbayeagles.com
X-WR-CALDESC:Events for Salmon Bay Eagles 2141
REFRESH-INTERVAL;VALUE=DURATION:PT1H
X-Robots-Tag:noindex
X-PUBLISHED-TTL:PT1H
BEGIN:VTIMEZONE
TZID:America/Los_Angeles
BEGIN:DAYLIGHT
TZOFFSETFROM:-0800
TZOFFSETTO:-0700
TZNAME:PDT
DTSTART:20250309T100000
END:DAYLIGHT
BEGIN:STANDARD
TZOFFSETFROM:-0700
TZOFFSETTO:-0800
TZNAME:PST
DTSTART:20251102T090000
END:STANDARD
BEGIN:DAYLIGHT
TZOFFSETFROM:-0800
TZOFFSETTO:-0700
TZNAME:PDT
DTSTART:20260308T100000
END:DAYLIGHT
BEGIN:STANDARD
TZOFFSETFROM:-0700
TZOFFSETTO:-0800
TZNAME:PST
DTSTART:20261101T090000
END:STANDARD
BEGIN:DAYLIGHT
TZOFFSETFROM:-0800
TZOFFSETTO:-0700
TZNAME:PDT
DTSTART:20270314T100000
END:DAYLIGHT
BEGIN:STANDARD
TZOFFSETFROM:-0700
TZOFFSETTO:-0800
TZNAME:PST
DTSTART:20271107T090000
END:STANDARD
END:VTIMEZONE
BEGIN:VEVENT
DTSTART;TZID=America/Los_Angeles:20260212T190000
DTEND;TZID=America/Los_Angeles:20260212T190000
DTSTAMP:20260424T143709
CREATED:20260202T035923Z
LAST-MODIFIED:20260202T035923Z
UID:8790-1770922800-1770922800@salmonbayeagles.com
SUMMARY:TomasÕs Beef Stew
DESCRIPTION:Feb 12Ð14: TomasÕs Beef Stew DinnerÑWarm up with a big bowl of love! Tender beef\, hearty veggies\, and rich gravyÑcomfort food done right.
URL:https://salmonbayeagles.com/event/tomasos-beef-stew/
LOCATION:Social Room
END:VEVENT
BEGIN:VEVENT
DTSTART;TZID=America/Los_Angeles:20260212T200000
DTEND;TZID=America/Los_Angeles:20260212T200000
DTSTAMP:20260424T143709
CREATED:20260202T040332Z
LAST-MODIFIED:20260202T040332Z
UID:8802-1770926400-1770926400@salmonbayeagles.com
SUMMARY:Polly O'Keary & The Rhythm Method
DESCRIPTION:Polly OÕKeary and the Rhythm Method ignite the stage with a fresh\, fiery blend of blues rooted in tradition and spiced with funk\, rock\, and soul. With Tommy Cook on drums and David Miller on guitar\, this powerhouse trio delivers pure 21st_century blues energy.
URL:https://salmonbayeagles.com/event/polly-okeary-the-rhythm-method-6/
LOCATION:Social Room
END:VEVENT
END:VCALENDAR