BEGIN:VCALENDAR
VERSION:2.0
PRODID:-//Salmon Bay Eagles 2141 - ECPv6.15.17.1//NONSGML v1.0//EN
CALSCALE:GREGORIAN
METHOD:PUBLISH
X-WR-CALNAME:Salmon Bay Eagles 2141
X-ORIGINAL-URL:https://salmonbayeagles.com
X-WR-CALDESC:Events for Salmon Bay Eagles 2141
REFRESH-INTERVAL;VALUE=DURATION:PT1H
X-Robots-Tag:noindex
X-PUBLISHED-TTL:PT1H
BEGIN:VTIMEZONE
TZID:America/Los_Angeles
BEGIN:DAYLIGHT
TZOFFSETFROM:-0800
TZOFFSETTO:-0700
TZNAME:PDT
DTSTART:20250309T100000
END:DAYLIGHT
BEGIN:STANDARD
TZOFFSETFROM:-0700
TZOFFSETTO:-0800
TZNAME:PST
DTSTART:20251102T090000
END:STANDARD
BEGIN:DAYLIGHT
TZOFFSETFROM:-0800
TZOFFSETTO:-0700
TZNAME:PDT
DTSTART:20260308T100000
END:DAYLIGHT
BEGIN:STANDARD
TZOFFSETFROM:-0700
TZOFFSETTO:-0800
TZNAME:PST
DTSTART:20261101T090000
END:STANDARD
BEGIN:DAYLIGHT
TZOFFSETFROM:-0800
TZOFFSETTO:-0700
TZNAME:PDT
DTSTART:20270314T100000
END:DAYLIGHT
BEGIN:STANDARD
TZOFFSETFROM:-0700
TZOFFSETTO:-0800
TZNAME:PST
DTSTART:20271107T090000
END:STANDARD
END:VTIMEZONE
BEGIN:VEVENT
DTSTART;TZID=America/Los_Angeles:20260402T190000
DTEND;TZID=America/Los_Angeles:20260402T190000
DTSTAMP:20260424T104356
CREATED:20260402T012333Z
LAST-MODIFIED:20260402T012333Z
UID:8882-1775156400-1775156400@salmonbayeagles.com
SUMMARY:Murphy's Pulled Pork
DESCRIPTION:Slow-cooked\, tender\, and fall-apart delicious. Our signature pulled pork is savory perfection on every bite.
URL:https://salmonbayeagles.com/event/murphys-pulled-pork/
LOCATION:Social Room
END:VEVENT
BEGIN:VEVENT
DTSTART;TZID=America/Los_Angeles:20260402T200000
DTEND;TZID=America/Los_Angeles:20260402T200000
DTSTAMP:20260424T104356
CREATED:20260402T012934Z
LAST-MODIFIED:20260402T012934Z
UID:8897-1775160000-1775160000@salmonbayeagles.com
SUMMARY:Jeff Herzog & The Jet City Fliers
DESCRIPTION:Jeff and the Jet City Fliers deliver high-energy Blues\, New Orleans music\, R&B\, and classic Rock & Roll. Drawing inspiration from New Orleans entertainers\, the band creates an engaging atmosphere that helps audiences escape their daily concerns. Lead singer Jeff Herzog brings passionate vocals and dynamic harmonica playing to each performance.
URL:https://salmonbayeagles.com/event/jeff-herzog-the-jet-city-fliers-14/
LOCATION:Social Room
END:VEVENT
END:VCALENDAR