BEGIN:VCALENDAR
VERSION:2.0
PRODID:-//Salmon Bay Eagles 2141 - ECPv6.15.17.1//NONSGML v1.0//EN
CALSCALE:GREGORIAN
METHOD:PUBLISH
X-ORIGINAL-URL:https://salmonbayeagles.com
X-WR-CALDESC:Events for Salmon Bay Eagles 2141
REFRESH-INTERVAL;VALUE=DURATION:PT1H
X-Robots-Tag:noindex
X-PUBLISHED-TTL:PT1H
BEGIN:VTIMEZONE
TZID:America/Los_Angeles
BEGIN:DAYLIGHT
TZOFFSETFROM:-0800
TZOFFSETTO:-0700
TZNAME:PDT
DTSTART:20240310T100000
END:DAYLIGHT
BEGIN:STANDARD
TZOFFSETFROM:-0700
TZOFFSETTO:-0800
TZNAME:PST
DTSTART:20241103T090000
END:STANDARD
BEGIN:DAYLIGHT
TZOFFSETFROM:-0800
TZOFFSETTO:-0700
TZNAME:PDT
DTSTART:20250309T100000
END:DAYLIGHT
BEGIN:STANDARD
TZOFFSETFROM:-0700
TZOFFSETTO:-0800
TZNAME:PST
DTSTART:20251102T090000
END:STANDARD
BEGIN:DAYLIGHT
TZOFFSETFROM:-0800
TZOFFSETTO:-0700
TZNAME:PDT
DTSTART:20260308T100000
END:DAYLIGHT
BEGIN:STANDARD
TZOFFSETFROM:-0700
TZOFFSETTO:-0800
TZNAME:PST
DTSTART:20261101T090000
END:STANDARD
END:VTIMEZONE
BEGIN:VEVENT
DTSTART;TZID=America/Los_Angeles:20250801T200000
DTEND;TZID=America/Los_Angeles:20250801T200000
DTSTAMP:20260424T104445
CREATED:20250627T023325Z
LAST-MODIFIED:20250627T023325Z
UID:8447-1754078400-1754078400@salmonbayeagles.com
SUMMARY:All Stars\, No Stripes
DESCRIPTION:Stan Eike & All Stars No Stripes Band bring dual guitars\, powerhouse rhythm & keys for a night of blues\, R&B & rock. Featuring Stan & Scotty Lind\, Howard Hooper\, Billy Reed & Marty Vadalabene. Get ready to rock!
URL:https://salmonbayeagles.com/event/all-stars-no-stripes-7/
LOCATION:Social Room
CATEGORIES:Blues
END:VEVENT
BEGIN:VEVENT
DTSTART;TZID=America/Los_Angeles:20250802T200000
DTEND;TZID=America/Los_Angeles:20250802T200000
DTSTAMP:20260424T104445
CREATED:20250627T023326Z
LAST-MODIFIED:20250627T023326Z
UID:8448-1754164800-1754164800@salmonbayeagles.com
SUMMARY:Ron Bailey & The Tangents
DESCRIPTION:Ron & the Tangents\, featuring seasoned musicians from renowned local bands\, deliver infectious music that fills dance floors. Led by showman Ron\, with a lineup on drums\, guitar\, bass\, and keys\, they keep the party going all night long.
URL:https://salmonbayeagles.com/event/ron-bailey-the-tangents-20/
LOCATION:Social Room
CATEGORIES:Blues
END:VEVENT
END:VCALENDAR