BEGIN:VCALENDAR
VERSION:2.0
PRODID:-//Salmon Bay Eagles 2141 - ECPv6.15.17.1//NONSGML v1.0//EN
CALSCALE:GREGORIAN
METHOD:PUBLISH
X-ORIGINAL-URL:https://salmonbayeagles.com
X-WR-CALDESC:Events for Salmon Bay Eagles 2141
REFRESH-INTERVAL;VALUE=DURATION:PT1H
X-Robots-Tag:noindex
X-PUBLISHED-TTL:PT1H
BEGIN:VTIMEZONE
TZID:America/Los_Angeles
BEGIN:DAYLIGHT
TZOFFSETFROM:-0800
TZOFFSETTO:-0700
TZNAME:PDT
DTSTART:20200308T100000
END:DAYLIGHT
BEGIN:STANDARD
TZOFFSETFROM:-0700
TZOFFSETTO:-0800
TZNAME:PST
DTSTART:20201101T090000
END:STANDARD
BEGIN:DAYLIGHT
TZOFFSETFROM:-0800
TZOFFSETTO:-0700
TZNAME:PDT
DTSTART:20210314T100000
END:DAYLIGHT
BEGIN:STANDARD
TZOFFSETFROM:-0700
TZOFFSETTO:-0800
TZNAME:PST
DTSTART:20211107T090000
END:STANDARD
BEGIN:DAYLIGHT
TZOFFSETFROM:-0800
TZOFFSETTO:-0700
TZNAME:PDT
DTSTART:20220313T100000
END:DAYLIGHT
BEGIN:STANDARD
TZOFFSETFROM:-0700
TZOFFSETTO:-0800
TZNAME:PST
DTSTART:20221106T090000
END:STANDARD
BEGIN:DAYLIGHT
TZOFFSETFROM:-0800
TZOFFSETTO:-0700
TZNAME:PDT
DTSTART:20230312T100000
END:DAYLIGHT
BEGIN:STANDARD
TZOFFSETFROM:-0700
TZOFFSETTO:-0800
TZNAME:PST
DTSTART:20231105T090000
END:STANDARD
BEGIN:DAYLIGHT
TZOFFSETFROM:-0800
TZOFFSETTO:-0700
TZNAME:PDT
DTSTART:20240310T100000
END:DAYLIGHT
BEGIN:STANDARD
TZOFFSETFROM:-0700
TZOFFSETTO:-0800
TZNAME:PST
DTSTART:20241103T090000
END:STANDARD
BEGIN:DAYLIGHT
TZOFFSETFROM:-0800
TZOFFSETTO:-0700
TZNAME:PDT
DTSTART:20250309T100000
END:DAYLIGHT
BEGIN:STANDARD
TZOFFSETFROM:-0700
TZOFFSETTO:-0800
TZNAME:PST
DTSTART:20251102T090000
END:STANDARD
BEGIN:DAYLIGHT
TZOFFSETFROM:-0800
TZOFFSETTO:-0700
TZNAME:PDT
DTSTART:20260308T100000
END:DAYLIGHT
BEGIN:STANDARD
TZOFFSETFROM:-0700
TZOFFSETTO:-0800
TZNAME:PST
DTSTART:20261101T090000
END:STANDARD
END:VTIMEZONE
BEGIN:VEVENT
DTSTART;TZID=America/Los_Angeles:20250712T190000
DTEND;TZID=America/Los_Angeles:20250712T190000
DTSTAMP:20260419T142824
CREATED:20250627T022916Z
LAST-MODIFIED:20250627T022916Z
UID:8427-1752346800-1752346800@salmonbayeagles.com
SUMMARY:Honey -Glazed Salmon
DESCRIPTION:Savor the flavors of the sea at Ballard Seafoodfest! We’re serving up delectable honey-glazed salmon\, perfectly grilled and drizzled with local honey. A true taste of the Pacific Northwest. Join us for this mouthwatering dish and more maritime delights!
URL:https://salmonbayeagles.com/event/honey-glazed-salmon-3/
LOCATION:Social Room
CATEGORIES:Blues
END:VEVENT
BEGIN:VEVENT
DTSTART;TZID=America/Los_Angeles:20250711T200000
DTEND;TZID=America/Los_Angeles:20250711T200000
DTSTAMP:20260419T142824
CREATED:20250627T022948Z
LAST-MODIFIED:20250627T022948Z
UID:8438-1752264000-1752264000@salmonbayeagles.com
SUMMARY:Blue Healers
DESCRIPTION:Award-winning duo Blue Healers bring raw\, soulful blues from Snohomish! 2023 IBC winners & 3x Best Blues Awards champions. Catch Don’s innovative guitar work & Diane’s powerful vocals.
URL:https://salmonbayeagles.com/event/blue-healers-9/
LOCATION:Social Room
CATEGORIES:Blues
END:VEVENT
BEGIN:VEVENT
DTSTART;TZID=America/Los_Angeles:20250711T190000
DTEND;TZID=America/Los_Angeles:20250711T190000
DTSTAMP:20260419T142824
CREATED:20250627T022723Z
LAST-MODIFIED:20250627T022723Z
UID:8426-1752260400-1752260400@salmonbayeagles.com
SUMMARY:Honey -Glazed Salmon
DESCRIPTION:Savor the flavors of the sea at Ballard Seafoodfest! We’re serving up delectable honey-glazed salmon\, perfectly grilled and drizzled with local honey. A true taste of the Pacific Northwest. Join us for this mouthwatering dish and more maritime delights!
URL:https://salmonbayeagles.com/event/honey-glazed-salmon-2/
LOCATION:Social Room
CATEGORIES:Blues
END:VEVENT
BEGIN:VEVENT
DTSTART;TZID=America/Los_Angeles:20250710T200000
DTEND;TZID=America/Los_Angeles:20250710T200000
DTSTAMP:20260419T142824
CREATED:20250627T022946Z
LAST-MODIFIED:20250627T022946Z
UID:8437-1752177600-1752177600@salmonbayeagles.com
SUMMARY:Women's Rockin' Blues Jam
DESCRIPTION:Join us for a special jam session hosted by Cheri Adams\, showcasing an all-female ensemble. Beth Wulff will enchant on keyboards\, Patty Mey will groove on bass\, and Kathie Flood will keep the beat on drums.
URL:https://salmonbayeagles.com/event/womens-rockin-blues-jam-4/
LOCATION:Social Room
CATEGORIES:Blues
END:VEVENT
BEGIN:VEVENT
DTSTART;TZID=America/Los_Angeles:20250710T190000
DTEND;TZID=America/Los_Angeles:20250710T190000
DTSTAMP:20260419T142824
CREATED:20250627T022721Z
LAST-MODIFIED:20250627T022721Z
UID:8425-1752174000-1752174000@salmonbayeagles.com
SUMMARY:Honey -Glazed Salmon
DESCRIPTION:Savor the flavors of the sea at Ballard Seafoodfest! We’re serving up delectable honey-glazed salmon\, perfectly grilled and drizzled with local honey. A true taste of the Pacific Northwest. Join us for this mouthwatering dish and more maritime delights!
URL:https://salmonbayeagles.com/event/honey-glazed-salmon/
LOCATION:Social Room
CATEGORIES:Blues
END:VEVENT
BEGIN:VEVENT
DTSTART;TZID=America/Los_Angeles:20250709T181500
DTEND;TZID=America/Los_Angeles:20250709T181500
DTSTAMP:20260419T142824
CREATED:20250627T022518Z
LAST-MODIFIED:20250627T022518Z
UID:8419-1752084900-1752084900@salmonbayeagles.com
SUMMARY:Trustee Meeting
DESCRIPTION:Speak with the Aerie Trustees! Any Aerie can come to a Trustee Meeting (every Wednesday at 6:15) and ask questions about club operations or voice concerns and ideas during the first part of our weekly meeting.
URL:https://salmonbayeagles.com/event/trustee-meeting-41/
LOCATION:Social Room
CATEGORIES:Blues
END:VEVENT
BEGIN:VEVENT
DTSTART;TZID=America/Los_Angeles:20250709T181500
DTEND;TZID=America/Los_Angeles:20250709T181500
DTSTAMP:20260419T142824
CREATED:20250627T022507Z
LAST-MODIFIED:20250627T022507Z
UID:8415-1752084900-1752084900@salmonbayeagles.com
SUMMARY:Calendar Meeting
DESCRIPTION:Calendar meetings occur on the first Wednesday of the month at 6pm in the game room. This monthly meeting communicates upcoming events and volunteer needs to members.
URL:https://salmonbayeagles.com/event/calendar-meeting-11/
LOCATION:Social Room
CATEGORIES:Blues
END:VEVENT
BEGIN:VEVENT
DTSTART;TZID=America/Los_Angeles:20250709T180000
DTEND;TZID=America/Los_Angeles:20250709T180000
DTSTAMP:20260419T142824
CREATED:20250627T022452Z
LAST-MODIFIED:20250627T022452Z
UID:8408-1752084000-1752084000@salmonbayeagles.com
SUMMARY:Joker Poker
DESCRIPTION:Wednesdays are Poker Joker nights. If no one pulls the Joker\, the pot grows every week. The next winner could be you. HOW TO PLAY: Joker Poker raffles tickets cost $1 each and maybe purchased from the bartender or conductor of the raffle up until 6pm.
URL:https://salmonbayeagles.com/event/joker-poker-143/
LOCATION:Social Room
CATEGORIES:Blues
END:VEVENT
BEGIN:VEVENT
DTSTART;TZID=America/Los_Angeles:20250705T190000
DTEND;TZID=America/Los_Angeles:20250705T190000
DTSTAMP:20260419T142824
CREATED:20250627T022719Z
LAST-MODIFIED:20250627T022719Z
UID:8424-1751742000-1751742000@salmonbayeagles.com
SUMMARY:Free Hot Dog Night
DESCRIPTION:Join us for our July 4th Free Hot Dog Night! Celebrate Independence Day with complimentary dogs\, all the fixings\, and great live music. Bring your patriotic spirit & appetite – while supplies last. Regular drink prices apply. Let’s make it a sizzling celebration!
URL:https://salmonbayeagles.com/event/free-hot-dog-night-3/
LOCATION:Social Room
CATEGORIES:Blues
END:VEVENT
BEGIN:VEVENT
DTSTART;TZID=America/Los_Angeles:20250704T190000
DTEND;TZID=America/Los_Angeles:20250704T190000
DTSTAMP:20260419T142824
CREATED:20250627T022717Z
LAST-MODIFIED:20250627T022717Z
UID:8423-1751655600-1751655600@salmonbayeagles.com
SUMMARY:Free Hot Dog Night
DESCRIPTION:Join us for our July 4th Free Hot Dog Night! Celebrate Independence Day with complimentary dogs\, all the fixings\, and great live music. Bring your patriotic spirit & appetite – while supplies last. Regular drink prices apply. Let’s make it a sizzling celebration!
URL:https://salmonbayeagles.com/event/free-hot-dog-night-2/
LOCATION:Social Room
CATEGORIES:Blues
END:VEVENT
BEGIN:VEVENT
DTSTART;TZID=America/Los_Angeles:20250703T190000
DTEND;TZID=America/Los_Angeles:20250703T190000
DTSTAMP:20260419T142824
CREATED:20250627T022715Z
LAST-MODIFIED:20250627T022715Z
UID:8422-1751569200-1751569200@salmonbayeagles.com
SUMMARY:Free Hot Dog Night
DESCRIPTION:Join us for our July 4th Free Hot Dog Night! Celebrate Independence Day with complimentary dogs\, all the fixings\, and great live music. Bring your patriotic spirit & appetite – while supplies last. Regular drink prices apply. Let’s make it a sizzling celebration!
URL:https://salmonbayeagles.com/event/free-hot-dog-night/
LOCATION:Social Room
CATEGORIES:Blues
END:VEVENT
BEGIN:VEVENT
DTSTART;TZID=America/Los_Angeles:20250702T190000
DTEND;TZID=America/Los_Angeles:20250702T190000
DTSTAMP:20260419T142824
CREATED:20250627T022508Z
LAST-MODIFIED:20250627T022508Z
UID:8416-1751482800-1751482800@salmonbayeagles.com
SUMMARY:Aerie Meeting
DESCRIPTION:Aerie meetings are held the first and third Wednesdays of each month at 7:00 P.M. in the Grand Hall on the second floor. All members are welcome. Initiation of new members occurs during the meeting held on the 2nd Wednesday of each month.
URL:https://salmonbayeagles.com/event/aerie-meeting-64/
LOCATION:Social Room
CATEGORIES:Blues
END:VEVENT
BEGIN:VEVENT
DTSTART;TZID=America/Los_Angeles:20250702T181500
DTEND;TZID=America/Los_Angeles:20250702T181500
DTSTAMP:20260419T142824
CREATED:20250627T022517Z
LAST-MODIFIED:20250627T022517Z
UID:8418-1751480100-1751480100@salmonbayeagles.com
SUMMARY:Trustee Meeting
DESCRIPTION:Speak with the Aerie Trustees! Any Aerie can come to a Trustee Meeting (every Wednesday at 6:15) and ask questions about club operations or voice concerns and ideas during the first part of our weekly meeting.
URL:https://salmonbayeagles.com/event/trustee-meeting-40/
LOCATION:Social Room
CATEGORIES:Blues
END:VEVENT
BEGIN:VEVENT
DTSTART;TZID=America/Los_Angeles:20250702T180000
DTEND;TZID=America/Los_Angeles:20250702T180000
DTSTAMP:20260419T142824
CREATED:20250627T022451Z
LAST-MODIFIED:20250627T022451Z
UID:8407-1751479200-1751479200@salmonbayeagles.com
SUMMARY:Joker Poker
DESCRIPTION:Wednesdays are Poker Joker nights. If no one pulls the Joker\, the pot grows every week. The next winner could be you. HOW TO PLAY: Joker Poker raffles tickets cost $1 each and maybe purchased from the bartender or conductor of the raffle up until 6pm.
URL:https://salmonbayeagles.com/event/joker-poker-142/
LOCATION:Social Room
CATEGORIES:Blues
END:VEVENT
BEGIN:VEVENT
DTSTART;TZID=America/Los_Angeles:20250116T200000
DTEND;TZID=America/Los_Angeles:20250116T200000
DTSTAMP:20260419T142824
CREATED:20241126T195029Z
LAST-MODIFIED:20241126T195029Z
UID:8012-1737057600-1737057600@salmonbayeagles.com
SUMMARY:35th Anniversary of Blues ft. Duffy Bishop
DESCRIPTION:LEGENDARY DUFFY BISHOP RETURNS\, JAN 16\nMark your calendars for Thursday\, January 16th\, as we celebrate the Salmon Bay Eagles 35th Anniversary of Blues with a special performance by the legendary Duffy Bishop! This is a rare opportunity to see one of the Pacific Northwest’s favorite blues artists live\, as she makes her way from Florida for this exclusive event.\nDuffy Bishop is a force of nature in the blues scene and a true living legend who’s opened for greats like Etta James and Bo Diddley. She is honored in the Washington Blues Society Hall of Fame\, the Cascade Blues Association\, and the Oregon Music Hall of Fame. Don’t miss out on this unforgettable night filled with soulful music and celebration.\nTickets will be sold for this special engagement and sells out quickly
URL:https://salmonbayeagles.com/event/35th-anniversary-of-blues-ft-duffy-bishop/
CATEGORIES:Blues,Celebration,Members Only,Music
ATTACH;FMTTYPE=image/png:https://salmonbayeagles.com/wp-content/uploads/2024/11/Black-Simple-Music-Festival-Instagram-Post-Template-1.png
END:VEVENT
BEGIN:VEVENT
DTSTART;TZID=America/Los_Angeles:20241231T200000
DTEND;TZID=America/Los_Angeles:20241231T200000
DTSTAMP:20260419T142824
CREATED:20241126T194712Z
LAST-MODIFIED:20241126T201012Z
UID:8009-1735675200-1735675200@salmonbayeagles.com
SUMMARY:NYE Party ft. Mark DuFresne
DESCRIPTION:NEW YEAR’S EVE PARTY\, DEC 31\nRing in the New Year at the Salmon Bay Eagles with the incredible Mark DuFresne! Join us on Tuesday\, December 31\, for a lively celebration featuring exciting door prizes and a complimentary champagne toast.\nMark DuFresne\, a Grammy-nominated vocalist and multi-award-winning harmonica player\, will lead his band in a high-energy performance that blends original rhythm and blues\, soul\, ballads\, and classic blues. With a remarkable three-octave tenor range and a captivating stage presence\, DuFresne is a true showman.\nOn stage with him will be his talented band members: Billy Stapleton on guitar\, Kelly Leifer on bass\, and Steve Peterson on drums and vocals. Prepare to be blown away by their powerful sound and electrifying performances!\nDoors open at 5pm. Music starts at 8pm and goes to midnight. Free to members and their guests. $5 for non-members.
URL:https://salmonbayeagles.com/event/nye-party-ft-mark-dufresne/
CATEGORIES:Blues,Celebration,Members Only,Music
ATTACH;FMTTYPE=image/png:https://salmonbayeagles.com/wp-content/uploads/2024/11/Beige-Red-Vintage-Fathers-Day-BBQ-Party-Poster-6-e1732650401343.png
END:VEVENT
BEGIN:VEVENT
DTSTART;TZID=America/Los_Angeles:20240713T120000
DTEND;TZID=America/Los_Angeles:20240713T120000
DTSTAMP:20260419T142824
CREATED:20240607T224902Z
LAST-MODIFIED:20240607T225232Z
UID:7691-1720872000-1720872000@salmonbayeagles.com
SUMMARY:SBE SeafoodFest Open House ft. Polly O'Keary
DESCRIPTION:The annual Ballard SeafoodFest is happening July 13-14 and the Salmon Bay Eagles will be hosting an Open House all weekend long. We invite the public to come visit our booth and our club during the festival. Get to know your local\, charitable\, Fraternal Order of Eagles. Tour our space and grab a drink whilst you mingle with our members and experience the club’s atmosphere. Don’t miss Polly O’Keary & The Rhythm Method as they take the stage Saturday\, July 13 at 8 pm! Doors open from 12pm-12am.
URL:https://salmonbayeagles.com/event/sbe-seafoodfest-open-house-2/
CATEGORIES:Blues,Celebration,Charity,Music
END:VEVENT
BEGIN:VEVENT
DTSTART;TZID=America/Los_Angeles:20231203T170000
DTEND;TZID=America/Los_Angeles:20231203T190000
DTSTAMP:20260419T142824
CREATED:20231122T204325Z
LAST-MODIFIED:20231122T204345Z
UID:7085-1701622800-1701630000@salmonbayeagles.com
SUMMARY:Open Mic Night w/host Tony Lease
DESCRIPTION:
URL:https://salmonbayeagles.com/event/open-mic-night-w-host-tony-lease/
CATEGORIES:Blues
END:VEVENT
BEGIN:VEVENT
DTSTART;TZID=America/Los_Angeles:20230728T180000
DTEND;TZID=America/Los_Angeles:20230728T180000
DTSTAMP:20260419T142824
CREATED:20230711T000647Z
LAST-MODIFIED:20230711T000647Z
UID:6654-1690567200-1690567200@salmonbayeagles.com
SUMMARY:Marcia Jackson's Bday Bash
DESCRIPTION:Friday July 28th\, 2023 \nMarcia’s Birthday Bash featuring The Spider Lounge Small Band w/ Special Guests \nMarcia is having her annual multi-day\, multi-venue Birthday Bash\, and it is kicking off at Salmon Bay Eagles. For this event\, Marcia requested Spider Lounge\, a horn driven band performing their own brand of funk\, jazz and more from Miles Davis to Tower of Power and all points in between. Band leader\, Andreas Stollar is putting together a special smaller crew for this event. I have heard great things about this band and I think it will be a night not to be missed.
URL:https://salmonbayeagles.com/event/marcia-jacksons-bday-bash/
CATEGORIES:Blues,Celebration,Members Only,Music
END:VEVENT
BEGIN:VEVENT
DTSTART;TZID=America/Los_Angeles:20230203T200000
DTEND;TZID=America/Los_Angeles:20230203T200000
DTSTAMP:20260419T142824
CREATED:20230221T221309Z
LAST-MODIFIED:20230221T221309Z
UID:6355-1675454400-1675454400@salmonbayeagles.com
SUMMARY:Ron Bailey & The Tangents
DESCRIPTION:
URL:https://salmonbayeagles.com/event/ron-bailey-the-tangents-3/
CATEGORIES:Blues
END:VEVENT
BEGIN:VEVENT
DTSTART;TZID=America/Los_Angeles:20220917T130000
DTEND;TZID=America/Los_Angeles:20220917T130000
DTSTAMP:20260419T142824
CREATED:20220914T062640Z
LAST-MODIFIED:20220914T062653Z
UID:6186-1663419600-1663419600@salmonbayeagles.com
SUMMARY:The Seattle Houserockers
DESCRIPTION:
URL:https://salmonbayeagles.com/event/the-seattle-houserockers/
CATEGORIES:Blues
END:VEVENT
BEGIN:VEVENT
DTSTART;TZID=America/Los_Angeles:20220915T130000
DTEND;TZID=America/Los_Angeles:20220915T130000
DTSTAMP:20260419T142824
CREATED:20220914T062512Z
LAST-MODIFIED:20220914T062512Z
UID:6182-1663246800-1663246800@salmonbayeagles.com
SUMMARY:Johnny Atomic & The Silver Tongued Devils
DESCRIPTION:
URL:https://salmonbayeagles.com/event/johnny-atomic-the-silver-tongued-devils-2/
CATEGORIES:Blues
END:VEVENT
BEGIN:VEVENT
DTSTART;TZID=America/Los_Angeles:20220203T120000
DTEND;TZID=America/Los_Angeles:20220203T120000
DTSTAMP:20260419T142824
CREATED:20220204T111752Z
LAST-MODIFIED:20220204T231358Z
UID:4505-1643889600-1643889600@salmonbayeagles.com
SUMMARY:LIVE MUSIC
DESCRIPTION:Eric Madis & Blue Madness
URL:https://salmonbayeagles.com/event/live-music/
CATEGORIES:Blues,Music
END:VEVENT
BEGIN:VEVENT
DTSTART;TZID=America/Los_Angeles:20211218T113000
DTEND;TZID=America/Los_Angeles:20211218T113000
DTSTAMP:20260419T142824
CREATED:20211117T123026Z
LAST-MODIFIED:20211202T083257Z
UID:3251-1639827000-1639827000@salmonbayeagles.com
SUMMARY:Jimmy Bee's Blues Jams
DESCRIPTION:Open mic jam session with Jimmy Bee and The Stingers. Signups start at 7pm.
URL:https://salmonbayeagles.com/event/jimmy-bees-blues-jams/
CATEGORIES:Blues,Music
END:VEVENT
BEGIN:VEVENT
DTSTART;TZID=America/Los_Angeles:20211204T120000
DTEND;TZID=America/Los_Angeles:20211204T120000
DTSTAMP:20260419T142824
CREATED:20211117T125419Z
LAST-MODIFIED:20211202T084204Z
UID:3273-1638619200-1638619200@salmonbayeagles.com
SUMMARY:Tim Sherman’s Market Street Dixieland Jazz Band
DESCRIPTION:Tim Sherman is a Seattle blues guitar legend\, having performed blues on the west coast\, Midwest and Pacific Northwest for over thirty years. He is a three-time recipient of the Washington Blues Society’s prestigious B.B. Award for Best Electric Guitarist.Tim plays in several bands including The Market Street Dixieland Jazz Band where he performs gutbucket blues and jazz on plectrum banjo.
URL:https://salmonbayeagles.com/event/tim-sherman-band/
CATEGORIES:Blues,Members Only,Music
END:VEVENT
BEGIN:VEVENT
DTSTART;TZID=America/Los_Angeles:20211126T120000
DTEND;TZID=America/Los_Angeles:20211126T150000
DTSTAMP:20260419T142824
CREATED:20211117T122541Z
LAST-MODIFIED:20211117T122541Z
UID:3249-1637928000-1637938800@salmonbayeagles.com
SUMMARY:Town Hall Brawl
DESCRIPTION:We close out the month with Town Hall Brawl on Friday\, Nov 26\, the day after Thanksgiving. Grab a plate of turkey-goodness for dinner then sway to a mixture of roots\, blues\, rock and soul. The band rounds out their sets with Neil Young\, Tom Waits\, Dylan\, classic blues\, soul and country songs. Fans say it’s hard to tell the originals from the cover songs. See you there all month!
URL:https://salmonbayeagles.com/event/town-hall-brawl/
CATEGORIES:Blues,Food,Music
END:VEVENT
BEGIN:VEVENT
DTSTART;TZID=America/Los_Angeles:20211125T060000
DTEND;TZID=America/Los_Angeles:20211125T090000
DTSTAMP:20260419T142824
CREATED:20211117T122119Z
LAST-MODIFIED:20211117T122119Z
UID:3247-1637820000-1637830800@salmonbayeagles.com
SUMMARY:Thanksgiving Dinner
DESCRIPTION:Come celebrate Thanksgiving at the Eagles!\nJoin us at the Salmon Bay Eagles to give thanks Thursday\, November 25th\, with a free turkey dinner potluck and live music by Jimmy Bee and the Stingers. Eagle members and their friends and family are welcome to join in the festivities. This year\, we are thrilled to be inviting the staff and volunteers of the Ballard Food Bank to be our guests in appreciation for all they do for the community. \nThursday\, November 25thDinner served from 2-5 pm(doors open at noon) \nVolunteers and donation for this event are very appreciated!\nPlease RSVP HERE for the event and let us know if you are able to help with one of the following: \n\nBring a potluck item\, or helping with food prep (Potluck sign ups are also welcome on the clipboard at the bar)\nDay-of support including kitchen help\, serving\, bussing\, and clean up\nContributions to the food drive in support of the Ballard Food Bank (nonperishable items can be dropped off in the bin at the club from now until Thanksgiving Day)\n\nFor any questions regarding this event\, please feel free to contact: \nJim Barrett at jimmybeebarrett@gmail.com or (206)305-9978J Scott at jscottworddancer@yahoo.com or (206)303-9897 \nPlease keep in mind\, proof of vaccination or negative Covid-19 test will be required\, per King County Health Order.
URL:https://salmonbayeagles.com/event/thanksgiving-dinner/
LOCATION:Social Room
CATEGORIES:Blues,Charity,Food,Music
END:VEVENT
BEGIN:VEVENT
DTSTART;TZID=America/Los_Angeles:20211119T110000
DTEND;TZID=America/Los_Angeles:20211119T150000
DTSTAMP:20260419T142824
CREATED:20211117T121426Z
LAST-MODIFIED:20211117T121426Z
UID:3239-1637319600-1637334000@salmonbayeagles.com
SUMMARY:Open House ft. Red House
DESCRIPTION:On Friday\, Nov 19\, the Salmon Bay Eagles is hosting an Open House\, Can Jams\, and Fish Friday all in one day! Our open house is FREE TO THE PUBLIC. We invite members and the public to come and enjoy a night of fish ’n chips\, live music featuring Red House and help support one of our dearest local charities\, the Ballard Food Bank. Everyone is encouraged to come with donations for the Ballard Food Bank that can include canned foods\, dried goods\, cereals and much more. To see what is needed\, visit www.ballardfoodbank.org/donate. We’ll take a collection at the club and drop it off at their new location on Leary Way.
URL:https://salmonbayeagles.com/event/open-house-ft-red-house/
LOCATION:Social Room
CATEGORIES:Blues,Charity,Food,Music
END:VEVENT
BEGIN:VEVENT
DTSTART;TZID=America/Los_Angeles:20211106T130000
DTEND;TZID=America/Los_Angeles:20211106T160000
DTSTAMP:20260419T142824
CREATED:20211117T123613Z
LAST-MODIFIED:20211117T123613Z
UID:3255-1636203600-1636214400@salmonbayeagles.com
SUMMARY:Joe Cook Blues Band
DESCRIPTION:It’s going to be lively here at the club this month! We have a great lineup of shows staring with the Joe T Cook band on Saturday\, Nov 6. \nJoe T. Cook is a multiple Twin Cities Music Awards winner for his smokin’ harmonica\, vocals and songwriting. The band performs high energy Chicago and west coast blues originals with a Texas feel. We invite you to check out our calendar of upcoming performances\, video and sound clips as well as our band bio. \nThe band features west coast blues guitarist and B.B. Award winner Tim “Stoop Down” Sherman as well as the fabulous Conrad “Machete” Ormsby on drums.
URL:https://salmonbayeagles.com/event/joe-cook-blues-band/
CATEGORIES:Blues,Music
END:VEVENT
BEGIN:VEVENT
DTSTART;TZID=America/Los_Angeles:20211029T130000
DTEND;TZID=America/Los_Angeles:20211029T160000
DTSTAMP:20260419T142824
CREATED:20211015T045245Z
LAST-MODIFIED:20211015T045245Z
UID:3023-1635512400-1635523200@salmonbayeagles.com
SUMMARY:Kimball and the Fugitives
DESCRIPTION:Kimball and the Fugitives has been one of the top live bands in the Greater Seattle Area for over 30 years\, with thousands of gigs played and have lit up this stage many times at SBE with their lively tunes. They can’t get enough of the club and are back to show you a very good time again. These guys know where the groove is and plan to dig it a little deeper! Kimball started playing bass in 1967 and has gone on to successfully play many different styles of music with many of the NW’s very best musicians. He has anchored the bass chair with Kimball & the Fugitives and Maia Santell & House Blend for several years. Phil Bowden has made his living as a full time musician playing a wide variety of styles including rock\, blues\, jazz\, and big band. In 1997 he began to concentrate on playing the blues. He has played with Dave Conant\, David Brewer\, Mauva Bell\, John Stephan\, Maia Santell\, Isaac Scott\, and has been with Kimball since 2001.
URL:https://salmonbayeagles.com/event/kimball-and-the-fugitives/
LOCATION:Social Room
CATEGORIES:Blues
END:VEVENT
END:VCALENDAR