BEGIN:VCALENDAR
VERSION:2.0
PRODID:-//Salmon Bay Eagles 2141 - ECPv6.15.17.1//NONSGML v1.0//EN
CALSCALE:GREGORIAN
METHOD:PUBLISH
X-WR-CALNAME:Salmon Bay Eagles 2141
X-ORIGINAL-URL:https://salmonbayeagles.com
X-WR-CALDESC:Events for Salmon Bay Eagles 2141
REFRESH-INTERVAL;VALUE=DURATION:PT1H
X-Robots-Tag:noindex
X-PUBLISHED-TTL:PT1H
BEGIN:VTIMEZONE
TZID:America/Los_Angeles
BEGIN:DAYLIGHT
TZOFFSETFROM:-0800
TZOFFSETTO:-0700
TZNAME:PDT
DTSTART:20190310T100000
END:DAYLIGHT
BEGIN:STANDARD
TZOFFSETFROM:-0700
TZOFFSETTO:-0800
TZNAME:PST
DTSTART:20191103T090000
END:STANDARD
BEGIN:DAYLIGHT
TZOFFSETFROM:-0800
TZOFFSETTO:-0700
TZNAME:PDT
DTSTART:20200308T100000
END:DAYLIGHT
BEGIN:STANDARD
TZOFFSETFROM:-0700
TZOFFSETTO:-0800
TZNAME:PST
DTSTART:20201101T090000
END:STANDARD
BEGIN:DAYLIGHT
TZOFFSETFROM:-0800
TZOFFSETTO:-0700
TZNAME:PDT
DTSTART:20210314T100000
END:DAYLIGHT
BEGIN:STANDARD
TZOFFSETFROM:-0700
TZOFFSETTO:-0800
TZNAME:PST
DTSTART:20211107T090000
END:STANDARD
END:VTIMEZONE
BEGIN:VEVENT
DTSTART;TZID=America/Los_Angeles:20200812T110000
DTEND;TZID=America/Los_Angeles:20200812T113000
DTSTAMP:20260419T085010
CREATED:20200718T042308Z
LAST-MODIFIED:20200718T043313Z
UID:631-1597230000-1597231800@salmonbayeagles.com
SUMMARY:Joker Poker & Membership Drawing
DESCRIPTION:Come down to the club every Wednesday (or any time during the week) and buy your $1 tickets. All tickets purchased over the week are entered into a drawing. If your ticket is selected\, you get to draw a playing card from the deck. If you get the joker\, the accumulated money in the pot is yours! If no one wins\, the card drawn is throw out\, and we start over the next week with one less card in our deck. \n\n\n\n\nAll proceeds benefit The Medic One Foundation.
URL:https://salmonbayeagles.com/event/joker-poker-membership-drawing/
LOCATION:Salmon Bay Eagles\, Social Room
CATEGORIES:Charity,Members Only,Raffle
END:VEVENT
END:VCALENDAR