BEGIN:VCALENDAR
VERSION:2.0
PRODID:-//Salmon Bay Eagles 2141 - ECPv6.15.17.1//NONSGML v1.0//EN
CALSCALE:GREGORIAN
METHOD:PUBLISH
X-ORIGINAL-URL:https://salmonbayeagles.com
X-WR-CALDESC:Events for Salmon Bay Eagles 2141
REFRESH-INTERVAL;VALUE=DURATION:PT1H
X-Robots-Tag:noindex
X-PUBLISHED-TTL:PT1H
BEGIN:VTIMEZONE
TZID:America/Los_Angeles
BEGIN:DAYLIGHT
TZOFFSETFROM:-0800
TZOFFSETTO:-0700
TZNAME:PDT
DTSTART:20230312T100000
END:DAYLIGHT
BEGIN:STANDARD
TZOFFSETFROM:-0700
TZOFFSETTO:-0800
TZNAME:PST
DTSTART:20231105T090000
END:STANDARD
BEGIN:DAYLIGHT
TZOFFSETFROM:-0800
TZOFFSETTO:-0700
TZNAME:PDT
DTSTART:20240310T100000
END:DAYLIGHT
BEGIN:STANDARD
TZOFFSETFROM:-0700
TZOFFSETTO:-0800
TZNAME:PST
DTSTART:20241103T090000
END:STANDARD
BEGIN:DAYLIGHT
TZOFFSETFROM:-0800
TZOFFSETTO:-0700
TZNAME:PDT
DTSTART:20250309T100000
END:DAYLIGHT
BEGIN:STANDARD
TZOFFSETFROM:-0700
TZOFFSETTO:-0800
TZNAME:PST
DTSTART:20251102T090000
END:STANDARD
END:VTIMEZONE
BEGIN:VEVENT
DTSTART;VALUE=DATE:20240310
DTEND;VALUE=DATE:20240311
DTSTAMP:20260424T200823
CREATED:20240308T213500Z
LAST-MODIFIED:20240308T220253Z
UID:7388-1710028800-1710115199@salmonbayeagles.com
SUMMARY:SBE 91st Anniversary
DESCRIPTION:
URL:https://salmonbayeagles.com/event/sbe-91st-anniversary/
LOCATION:Social Room
CATEGORIES:Members Only
END:VEVENT
BEGIN:VEVENT
DTSTART;TZID=America/Los_Angeles:20240310T163000
DTEND;TZID=America/Los_Angeles:20240310T163000
DTSTAMP:20260424T200823
CREATED:20240308T213505Z
LAST-MODIFIED:20240308T220225Z
UID:7389-1710088200-1710088200@salmonbayeagles.com
SUMMARY:WA State Pres Visit + Dinner
DESCRIPTION:On Sunday\, March 10\, Salmon Bay FOE #2141 celebrates the 91st Anniversary of our charter and Washington state Worthy President\, Rick McBee\, will be visiting to mark this special occasion.
URL:https://salmonbayeagles.com/event/wa-state-pres-visit-dinner/
LOCATION:Social Room
CATEGORIES:Members Only
END:VEVENT
BEGIN:VEVENT
DTSTART;TZID=America/Los_Angeles:20240310T170000
DTEND;TZID=America/Los_Angeles:20240310T170000
DTSTAMP:20260424T200823
CREATED:20240308T213511Z
LAST-MODIFIED:20240308T224314Z
UID:7390-1710090000-1710090000@salmonbayeagles.com
SUMMARY:Karaoke Night
DESCRIPTION:Karaoke Hosted by Nick Ackermann. Starting at 5PM\, bring your voice and talent to join Nick in a fun night of singing your favorites!
URL:https://salmonbayeagles.com/event/karaoke-night-6/
LOCATION:Social Room
CATEGORIES:Members Only
END:VEVENT
END:VCALENDAR