BEGIN:VCALENDAR
VERSION:2.0
PRODID:-//Salmon Bay Eagles 2141 - ECPv6.15.17.1//NONSGML v1.0//EN
CALSCALE:GREGORIAN
METHOD:PUBLISH
X-ORIGINAL-URL:https://salmonbayeagles.com
X-WR-CALDESC:Events for Salmon Bay Eagles 2141
REFRESH-INTERVAL;VALUE=DURATION:PT1H
X-Robots-Tag:noindex
X-PUBLISHED-TTL:PT1H
BEGIN:VTIMEZONE
TZID:America/Los_Angeles
BEGIN:DAYLIGHT
TZOFFSETFROM:-0800
TZOFFSETTO:-0700
TZNAME:PDT
DTSTART:20230312T100000
END:DAYLIGHT
BEGIN:STANDARD
TZOFFSETFROM:-0700
TZOFFSETTO:-0800
TZNAME:PST
DTSTART:20231105T090000
END:STANDARD
BEGIN:DAYLIGHT
TZOFFSETFROM:-0800
TZOFFSETTO:-0700
TZNAME:PDT
DTSTART:20240310T100000
END:DAYLIGHT
BEGIN:STANDARD
TZOFFSETFROM:-0700
TZOFFSETTO:-0800
TZNAME:PST
DTSTART:20241103T090000
END:STANDARD
BEGIN:DAYLIGHT
TZOFFSETFROM:-0800
TZOFFSETTO:-0700
TZNAME:PDT
DTSTART:20250309T100000
END:DAYLIGHT
BEGIN:STANDARD
TZOFFSETFROM:-0700
TZOFFSETTO:-0800
TZNAME:PST
DTSTART:20251102T090000
END:STANDARD
END:VTIMEZONE
BEGIN:VEVENT
DTSTART;TZID=America/Los_Angeles:20240315T190000
DTEND;TZID=America/Los_Angeles:20240315T190000
DTSTAMP:20260419T080641
CREATED:20240308T220533Z
LAST-MODIFIED:20240308T220533Z
UID:7447-1710529200-1710529200@salmonbayeagles.com
SUMMARY:Murphy's Corned Beef & Hash
DESCRIPTION:Mar 14-16\, weÕre serving MurphyÕs Corn Beef & Cabbage Dinner and dessert for $14 in honor of the St Patricks holiday.
URL:https://salmonbayeagles.com/event/murphys-corned-beef-hash-5/
LOCATION:Social Room
END:VEVENT
BEGIN:VEVENT
DTSTART;TZID=America/Los_Angeles:20240315T200000
DTEND;TZID=America/Los_Angeles:20240315T200000
DTSTAMP:20260419T080641
CREATED:20240308T213546Z
LAST-MODIFIED:20240308T220539Z
UID:7396-1710532800-1710532800@salmonbayeagles.com
SUMMARY:Red House
DESCRIPTION:
URL:https://salmonbayeagles.com/event/red-house-4/
LOCATION:Social Room
CATEGORIES:Members Only
END:VEVENT
BEGIN:VEVENT
DTSTART;TZID=America/Los_Angeles:20240316T100000
DTEND;TZID=America/Los_Angeles:20240316T100000
DTSTAMP:20260419T080641
CREATED:20240308T213551Z
LAST-MODIFIED:20240308T220543Z
UID:7397-1710583200-1710583200@salmonbayeagles.com
SUMMARY:District 5 Mtg @ White Center
DESCRIPTION:
URL:https://salmonbayeagles.com/event/district-5-mtg-white-center/
CATEGORIES:Members Only
END:VEVENT
BEGIN:VEVENT
DTSTART;TZID=America/Los_Angeles:20240316T190000
DTEND;TZID=America/Los_Angeles:20240316T190000
DTSTAMP:20260419T080641
CREATED:20240308T213748Z
LAST-MODIFIED:20240308T220548Z
UID:7398-1710615600-1710615600@salmonbayeagles.com
SUMMARY:Murphy's Corned Beef & Hash
DESCRIPTION:Mar 14-16\, weÕre serving MurphyÕs Corn Beef & Cabbage Dinner and dessert for $14 in honor of the St Patricks holiday.
URL:https://salmonbayeagles.com/event/murphys-corned-beef-hash-3/
LOCATION:Social Room
CATEGORIES:Members Only
END:VEVENT
BEGIN:VEVENT
DTSTART;TZID=America/Los_Angeles:20240316T200000
DTEND;TZID=America/Los_Angeles:20240316T200000
DTSTAMP:20260419T080641
CREATED:20240308T213753Z
LAST-MODIFIED:20240308T220552Z
UID:7399-1710619200-1710619200@salmonbayeagles.com
SUMMARY:Tony Lease Trio
DESCRIPTION:
URL:https://salmonbayeagles.com/event/tony-lease-trio-2/
LOCATION:Social Room
CATEGORIES:Members Only
END:VEVENT
BEGIN:VEVENT
DTSTART;TZID=America/Los_Angeles:20240317T120000
DTEND;TZID=America/Los_Angeles:20240317T120000
DTSTAMP:20260419T080641
CREATED:20240308T213757Z
LAST-MODIFIED:20240308T220557Z
UID:7400-1710676800-1710676800@salmonbayeagles.com
SUMMARY:Bel-Art Spring Market
DESCRIPTION:
URL:https://salmonbayeagles.com/event/bel-art-spring-market/
LOCATION:Social Room
CATEGORIES:Members Only
END:VEVENT
BEGIN:VEVENT
DTSTART;TZID=America/Los_Angeles:20240317T143000
DTEND;TZID=America/Los_Angeles:20240317T143000
DTSTAMP:20260419T080641
CREATED:20240308T220754Z
LAST-MODIFIED:20240308T220754Z
UID:7448-1710685800-1710685800@salmonbayeagles.com
SUMMARY:Blind Draw Darts
DESCRIPTION:
URL:https://salmonbayeagles.com/event/blind-draw-darts-4/
LOCATION:Social Room
END:VEVENT
BEGIN:VEVENT
DTSTART;TZID=America/Los_Angeles:20240317T170000
DTEND;TZID=America/Los_Angeles:20240317T170000
DTSTAMP:20260419T080641
CREATED:20240308T213806Z
LAST-MODIFIED:20240308T220758Z
UID:7402-1710694800-1710694800@salmonbayeagles.com
SUMMARY:Benefit for Pat Hewitt
DESCRIPTION:The Salmon Bay Eagles will be hosting a Benefit for Pat Hewitt\, who recently suffered a stroke\, on Sunday\, March 17 from 5pm-8pm. The benefit will host three musical performances plus a $15 buffet extravaganza courtesy of Marcia (aka The Kitchen Wench) to help raise money to help cover costs while Pat recovers.
URL:https://salmonbayeagles.com/event/benefit-for-pat-hewitt/
LOCATION:Social Room
CATEGORIES:Members Only
END:VEVENT
BEGIN:VEVENT
DTSTART;TZID=America/Los_Angeles:20240320T180000
DTEND;TZID=America/Los_Angeles:20240320T180000
DTSTAMP:20260419T080641
CREATED:20240308T220802Z
LAST-MODIFIED:20240308T220802Z
UID:7449-1710957600-1710957600@salmonbayeagles.com
SUMMARY:Joker Poker
DESCRIPTION:
URL:https://salmonbayeagles.com/event/joker-poker-78/
LOCATION:Social Room
END:VEVENT
BEGIN:VEVENT
DTSTART;TZID=America/Los_Angeles:20240320T190000
DTEND;TZID=America/Los_Angeles:20240320T190000
DTSTAMP:20260419T080641
CREATED:20240308T220807Z
LAST-MODIFIED:20240308T220807Z
UID:7450-1710961200-1710961200@salmonbayeagles.com
SUMMARY:Aerie Meeting
DESCRIPTION:
URL:https://salmonbayeagles.com/event/aerie-meeting-37/
LOCATION:Social Room
END:VEVENT
BEGIN:VEVENT
DTSTART;TZID=America/Los_Angeles:20240320T190000
DTEND;TZID=America/Los_Angeles:20240320T190000
DTSTAMP:20260419T080641
CREATED:20240308T220813Z
LAST-MODIFIED:20240308T220813Z
UID:7451-1710961200-1710961200@salmonbayeagles.com
SUMMARY:Movie Nite
DESCRIPTION:Rush Hour
URL:https://salmonbayeagles.com/event/movie-nite-5/
LOCATION:Social Room
END:VEVENT
BEGIN:VEVENT
DTSTART;TZID=America/Los_Angeles:20240321T190000
DTEND;TZID=America/Los_Angeles:20240321T190000
DTSTAMP:20260419T080641
CREATED:20240308T220954Z
LAST-MODIFIED:20240308T220954Z
UID:7452-1711047600-1711047600@salmonbayeagles.com
SUMMARY:Murphy's Pulled Pork Sammys
DESCRIPTION:Mar 21-23\, Murphy brings back her sell-out Pull Pork Sandwiches with dessert for $13. Proceeds benefit the Ballard Food Bank.
URL:https://salmonbayeagles.com/event/murphys-pulled-pork-sammys-2/
LOCATION:Social Room
END:VEVENT
BEGIN:VEVENT
DTSTART;TZID=America/Los_Angeles:20240321T200000
DTEND;TZID=America/Los_Angeles:20240321T200000
DTSTAMP:20260419T080641
CREATED:20240308T220958Z
LAST-MODIFIED:20240308T220958Z
UID:7453-1711051200-1711051200@salmonbayeagles.com
SUMMARY:Doug Lynn Band Reunion Tour
DESCRIPTION:
URL:https://salmonbayeagles.com/event/doug-lynn-band-reunion-tour-2/
LOCATION:Social Room
END:VEVENT
BEGIN:VEVENT
DTSTART;TZID=America/Los_Angeles:20240322T190000
DTEND;TZID=America/Los_Angeles:20240322T190000
DTSTAMP:20260419T080641
CREATED:20240308T221002Z
LAST-MODIFIED:20240308T221002Z
UID:7454-1711134000-1711134000@salmonbayeagles.com
SUMMARY:Murphy's Pulled Pork Sammys
DESCRIPTION:Mar 21-23\, Murphy brings back her sell-out Pull Pork Sandwiches with dessert for $13. Proceeds benefit the Ballard Food Bank.
URL:https://salmonbayeagles.com/event/murphys-pulled-pork-sammys-3/
LOCATION:Social Room
END:VEVENT
BEGIN:VEVENT
DTSTART;TZID=America/Los_Angeles:20240322T200000
DTEND;TZID=America/Los_Angeles:20240322T200000
DTSTAMP:20260419T080641
CREATED:20240308T221006Z
LAST-MODIFIED:20240308T221006Z
UID:7455-1711137600-1711137600@salmonbayeagles.com
SUMMARY:Mark Shaffer & Motown Cowboys
DESCRIPTION:
URL:https://salmonbayeagles.com/event/mark-shaffer-motown-cowboys-2/
LOCATION:Social Room
END:VEVENT
BEGIN:VEVENT
DTSTART;TZID=America/Los_Angeles:20240323T190000
DTEND;TZID=America/Los_Angeles:20240323T190000
DTSTAMP:20260419T080641
CREATED:20240308T221011Z
LAST-MODIFIED:20240308T221011Z
UID:7456-1711220400-1711220400@salmonbayeagles.com
SUMMARY:Murphy's Pulled Pork Sammys
DESCRIPTION:Mar 21-23\, Murphy brings back her sell-out Pull Pork Sandwiches with dessert for $13. Proceeds benefit the Ballard Food Bank.
URL:https://salmonbayeagles.com/event/murphys-pulled-pork-sammys-4/
LOCATION:Social Room
END:VEVENT
BEGIN:VEVENT
DTSTART;TZID=America/Los_Angeles:20240323T200000
DTEND;TZID=America/Los_Angeles:20240323T200000
DTSTAMP:20260419T080641
CREATED:20240308T221154Z
LAST-MODIFIED:20240308T221154Z
UID:7457-1711224000-1711224000@salmonbayeagles.com
SUMMARY:Annie Eastwood & Her All-Stars
DESCRIPTION:
URL:https://salmonbayeagles.com/event/annie-eastwood-her-all-stars-2/
LOCATION:Social Room
END:VEVENT
BEGIN:VEVENT
DTSTART;TZID=America/Los_Angeles:20240324T163000
DTEND;TZID=America/Los_Angeles:20240324T163000
DTSTAMP:20260419T080641
CREATED:20240308T221158Z
LAST-MODIFIED:20240308T221158Z
UID:7458-1711297800-1711297800@salmonbayeagles.com
SUMMARY:J Scott's Retirement Party
DESCRIPTION:Please come and give a toast to J Scott! HeÕll be making chili with all the fixings plus salad for $13. Proceeds benefit the Ballard Food Bank. The party is 4-7pm with karaoke starting at 5pm.
URL:https://salmonbayeagles.com/event/j-scotts-retirement-party-2/
LOCATION:Social Room
END:VEVENT
BEGIN:VEVENT
DTSTART;TZID=America/Los_Angeles:20240324T170000
DTEND;TZID=America/Los_Angeles:20240324T170000
DTSTAMP:20260419T080641
CREATED:20240308T221202Z
LAST-MODIFIED:20240308T224216Z
UID:7459-1711299600-1711299600@salmonbayeagles.com
SUMMARY:Karaoke Night
DESCRIPTION:Karaoke Hosted by Nick Ackermann. Starting at 5PM\, bring your voice and talent to join Nick in a fun night of singing your favorites!
URL:https://salmonbayeagles.com/event/karaoke-night-8/
LOCATION:Social Room
END:VEVENT
BEGIN:VEVENT
DTSTART;TZID=America/Los_Angeles:20240327T180000
DTEND;TZID=America/Los_Angeles:20240327T180000
DTSTAMP:20260419T080641
CREATED:20240308T221207Z
LAST-MODIFIED:20240308T221207Z
UID:7460-1711562400-1711562400@salmonbayeagles.com
SUMMARY:Joker Poker
DESCRIPTION:
URL:https://salmonbayeagles.com/event/joker-poker-79/
LOCATION:Social Room
END:VEVENT
BEGIN:VEVENT
DTSTART;TZID=America/Los_Angeles:20240327T190000
DTEND;TZID=America/Los_Angeles:20240327T190000
DTSTAMP:20260419T080641
CREATED:20240308T221212Z
LAST-MODIFIED:20240308T221212Z
UID:7461-1711566000-1711566000@salmonbayeagles.com
SUMMARY:Movie Nite
DESCRIPTION:Waking Ned Devin
URL:https://salmonbayeagles.com/event/movie-nite-6/
LOCATION:Social Room
END:VEVENT
BEGIN:VEVENT
DTSTART;TZID=America/Los_Angeles:20240327T190000
DTEND;TZID=America/Los_Angeles:20240327T190000
DTSTAMP:20260419T080641
CREATED:20240308T221354Z
LAST-MODIFIED:20240308T221354Z
UID:7462-1711566000-1711566000@salmonbayeagles.com
SUMMARY:Easter Egg Stuffing Party
DESCRIPTION:
URL:https://salmonbayeagles.com/event/easter-egg-stuffing-party-2/
LOCATION:Social Room
END:VEVENT
BEGIN:VEVENT
DTSTART;TZID=America/Los_Angeles:20240328T190000
DTEND;TZID=America/Los_Angeles:20240328T190000
DTSTAMP:20260419T080641
CREATED:20240308T221358Z
LAST-MODIFIED:20240308T224002Z
UID:7463-1711652400-1711652400@salmonbayeagles.com
SUMMARY:Lousiana Fish Fry
DESCRIPTION:Mar 28-30\, Judy’s Louisiana Fish Fry with Southern-style corn spoon-bread and coleslaw for $13. Proceeds benefit the Ballard Food Bank.
URL:https://salmonbayeagles.com/event/lousiana-fish-fry-2/
LOCATION:Social Room
END:VEVENT
BEGIN:VEVENT
DTSTART;TZID=America/Los_Angeles:20240328T200000
DTEND;TZID=America/Los_Angeles:20240328T200000
DTSTAMP:20260419T080641
CREATED:20240308T221402Z
LAST-MODIFIED:20240308T221402Z
UID:7464-1711656000-1711656000@salmonbayeagles.com
SUMMARY:Salmon Dan's Jam
DESCRIPTION:
URL:https://salmonbayeagles.com/event/salmon-dans-jam-2/
LOCATION:Social Room
END:VEVENT
BEGIN:VEVENT
DTSTART;TZID=America/Los_Angeles:20240329T190000
DTEND;TZID=America/Los_Angeles:20240329T190000
DTSTAMP:20260419T080641
CREATED:20240308T221406Z
LAST-MODIFIED:20240308T223925Z
UID:7465-1711738800-1711738800@salmonbayeagles.com
SUMMARY:Lousiana Fish Fry
DESCRIPTION:Mar 28-30\, Judy’s Louisiana Fish Fry with Southern-style corn spoon-bread and coleslaw for $13. Proceeds benefit the Ballard Food Bank.
URL:https://salmonbayeagles.com/event/lousiana-fish-fry-3/
LOCATION:Social Room
END:VEVENT
BEGIN:VEVENT
DTSTART;TZID=America/Los_Angeles:20240329T200000
DTEND;TZID=America/Los_Angeles:20240329T200000
DTSTAMP:20260419T080641
CREATED:20240308T221411Z
LAST-MODIFIED:20240308T221411Z
UID:7466-1711742400-1711742400@salmonbayeagles.com
SUMMARY:Pourboys
DESCRIPTION:
URL:https://salmonbayeagles.com/event/pourboys-2/
LOCATION:Social Room
END:VEVENT
BEGIN:VEVENT
DTSTART;TZID=America/Los_Angeles:20240330T190000
DTEND;TZID=America/Los_Angeles:20240330T190000
DTSTAMP:20260419T080641
CREATED:20240308T221555Z
LAST-MODIFIED:20240308T223850Z
UID:7467-1711825200-1711825200@salmonbayeagles.com
SUMMARY:Lousiana Fish Fry
DESCRIPTION:Mar 28-30\, Judy’s Louisiana Fish Fry with Southern-style corn spoon-bread and coleslaw for $13. Proceeds benefit the Ballard Food Bank.
URL:https://salmonbayeagles.com/event/lousiana-fish-fry-4/
LOCATION:Social Room
END:VEVENT
BEGIN:VEVENT
DTSTART;TZID=America/Los_Angeles:20240330T200000
DTEND;TZID=America/Los_Angeles:20240330T200000
DTSTAMP:20260419T080641
CREATED:20240308T221559Z
LAST-MODIFIED:20240308T221559Z
UID:7468-1711828800-1711828800@salmonbayeagles.com
SUMMARY:The Vududes
DESCRIPTION:
URL:https://salmonbayeagles.com/event/the-vududes-2/
LOCATION:Social Room
END:VEVENT
BEGIN:VEVENT
DTSTART;TZID=America/Los_Angeles:20240331T120000
DTEND;TZID=America/Los_Angeles:20240331T120000
DTSTAMP:20260419T080641
CREATED:20240308T221603Z
LAST-MODIFIED:20240308T221603Z
UID:7469-1711886400-1711886400@salmonbayeagles.com
SUMMARY:SBE Easter Egg Hunt
DESCRIPTION:Sunday\, March 31 at noon\, we start the the fun at Salmon Bay Park where weÕll host the Easter Egg Hunt and other family-friendly activities.Ê
URL:https://salmonbayeagles.com/event/sbe-easter-egg-hunt-2/
LOCATION:Social Room
END:VEVENT
BEGIN:VEVENT
DTSTART;TZID=America/Los_Angeles:20240403T180000
DTEND;TZID=America/Los_Angeles:20240403T180000
DTSTAMP:20260419T080641
CREATED:20240308T221607Z
LAST-MODIFIED:20240308T221607Z
UID:7470-1712167200-1712167200@salmonbayeagles.com
SUMMARY:Joker Poker
DESCRIPTION:
URL:https://salmonbayeagles.com/event/joker-poker-80/
LOCATION:Social Room
END:VEVENT
END:VCALENDAR