BEGIN:VCALENDAR
VERSION:2.0
PRODID:-//Salmon Bay Eagles 2141 - ECPv6.15.17.1//NONSGML v1.0//EN
CALSCALE:GREGORIAN
METHOD:PUBLISH
X-ORIGINAL-URL:https://salmonbayeagles.com
X-WR-CALDESC:Events for Salmon Bay Eagles 2141
REFRESH-INTERVAL;VALUE=DURATION:PT1H
X-Robots-Tag:noindex
X-PUBLISHED-TTL:PT1H
BEGIN:VTIMEZONE
TZID:America/Los_Angeles
BEGIN:DAYLIGHT
TZOFFSETFROM:-0800
TZOFFSETTO:-0700
TZNAME:PDT
DTSTART:20230312T100000
END:DAYLIGHT
BEGIN:STANDARD
TZOFFSETFROM:-0700
TZOFFSETTO:-0800
TZNAME:PST
DTSTART:20231105T090000
END:STANDARD
BEGIN:DAYLIGHT
TZOFFSETFROM:-0800
TZOFFSETTO:-0700
TZNAME:PDT
DTSTART:20240310T100000
END:DAYLIGHT
BEGIN:STANDARD
TZOFFSETFROM:-0700
TZOFFSETTO:-0800
TZNAME:PST
DTSTART:20241103T090000
END:STANDARD
BEGIN:DAYLIGHT
TZOFFSETFROM:-0800
TZOFFSETTO:-0700
TZNAME:PDT
DTSTART:20250309T100000
END:DAYLIGHT
BEGIN:STANDARD
TZOFFSETFROM:-0700
TZOFFSETTO:-0800
TZNAME:PST
DTSTART:20251102T090000
END:STANDARD
END:VTIMEZONE
BEGIN:VEVENT
DTSTART;TZID=America/Los_Angeles:20240329T190000
DTEND;TZID=America/Los_Angeles:20240329T190000
DTSTAMP:20260421T083122
CREATED:20240308T221406Z
LAST-MODIFIED:20240308T223925Z
UID:7465-1711738800-1711738800@salmonbayeagles.com
SUMMARY:Lousiana Fish Fry
DESCRIPTION:Mar 28-30\, Judy’s Louisiana Fish Fry with Southern-style corn spoon-bread and coleslaw for $13. Proceeds benefit the Ballard Food Bank.
URL:https://salmonbayeagles.com/event/lousiana-fish-fry-3/
LOCATION:Social Room
END:VEVENT
BEGIN:VEVENT
DTSTART;TZID=America/Los_Angeles:20240329T200000
DTEND;TZID=America/Los_Angeles:20240329T200000
DTSTAMP:20260421T083122
CREATED:20240308T221411Z
LAST-MODIFIED:20240308T221411Z
UID:7466-1711742400-1711742400@salmonbayeagles.com
SUMMARY:Pourboys
DESCRIPTION:
URL:https://salmonbayeagles.com/event/pourboys-2/
LOCATION:Social Room
END:VEVENT
BEGIN:VEVENT
DTSTART;TZID=America/Los_Angeles:20240330T190000
DTEND;TZID=America/Los_Angeles:20240330T190000
DTSTAMP:20260421T083122
CREATED:20240308T221555Z
LAST-MODIFIED:20240308T223850Z
UID:7467-1711825200-1711825200@salmonbayeagles.com
SUMMARY:Lousiana Fish Fry
DESCRIPTION:Mar 28-30\, Judy’s Louisiana Fish Fry with Southern-style corn spoon-bread and coleslaw for $13. Proceeds benefit the Ballard Food Bank.
URL:https://salmonbayeagles.com/event/lousiana-fish-fry-4/
LOCATION:Social Room
END:VEVENT
BEGIN:VEVENT
DTSTART;TZID=America/Los_Angeles:20240330T200000
DTEND;TZID=America/Los_Angeles:20240330T200000
DTSTAMP:20260421T083122
CREATED:20240308T221559Z
LAST-MODIFIED:20240308T221559Z
UID:7468-1711828800-1711828800@salmonbayeagles.com
SUMMARY:The Vududes
DESCRIPTION:
URL:https://salmonbayeagles.com/event/the-vududes-2/
LOCATION:Social Room
END:VEVENT
BEGIN:VEVENT
DTSTART;TZID=America/Los_Angeles:20240331T120000
DTEND;TZID=America/Los_Angeles:20240331T120000
DTSTAMP:20260421T083122
CREATED:20240308T221603Z
LAST-MODIFIED:20240308T221603Z
UID:7469-1711886400-1711886400@salmonbayeagles.com
SUMMARY:SBE Easter Egg Hunt
DESCRIPTION:Sunday\, March 31 at noon\, we start the the fun at Salmon Bay Park where weÕll host the Easter Egg Hunt and other family-friendly activities.Ê
URL:https://salmonbayeagles.com/event/sbe-easter-egg-hunt-2/
LOCATION:Social Room
END:VEVENT
BEGIN:VEVENT
DTSTART;TZID=America/Los_Angeles:20240403T180000
DTEND;TZID=America/Los_Angeles:20240403T180000
DTSTAMP:20260421T083122
CREATED:20240308T221607Z
LAST-MODIFIED:20240308T221607Z
UID:7470-1712167200-1712167200@salmonbayeagles.com
SUMMARY:Joker Poker
DESCRIPTION:
URL:https://salmonbayeagles.com/event/joker-poker-80/
LOCATION:Social Room
END:VEVENT
BEGIN:VEVENT
DTSTART;TZID=America/Los_Angeles:20240403T190000
DTEND;TZID=America/Los_Angeles:20240403T190000
DTSTAMP:20260421T083122
CREATED:20240308T221611Z
LAST-MODIFIED:20240308T221611Z
UID:7471-1712170800-1712170800@salmonbayeagles.com
SUMMARY:Aerie Meeting
DESCRIPTION:
URL:https://salmonbayeagles.com/event/aerie-meeting-38/
LOCATION:Social Room
END:VEVENT
BEGIN:VEVENT
DTSTART;TZID=America/Los_Angeles:20240403T190000
DTEND;TZID=America/Los_Angeles:20240403T190000
DTSTAMP:20260421T083122
CREATED:20240308T221755Z
LAST-MODIFIED:20240308T221755Z
UID:7472-1712170800-1712170800@salmonbayeagles.com
SUMMARY:Movie Nite
DESCRIPTION:
URL:https://salmonbayeagles.com/event/movie-nite-7/
LOCATION:Social Room
END:VEVENT
BEGIN:VEVENT
DTSTART;TZID=America/Los_Angeles:20240404T190000
DTEND;TZID=America/Los_Angeles:20240404T190000
DTSTAMP:20260421T083122
CREATED:20240320T004840Z
LAST-MODIFIED:20240320T004840Z
UID:7486-1712257200-1712257200@salmonbayeagles.com
SUMMARY:Meatloaf Dinner
DESCRIPTION:MurphyÕs glazed meatloaf with mashed potatoes\, veggies and garlic bread. Only $13 Proceeds benefit the Ballard Food Bank
URL:https://salmonbayeagles.com/event/meatloaf-dinner/
LOCATION:Social Room
CATEGORIES:Music
END:VEVENT
BEGIN:VEVENT
DTSTART;TZID=America/Los_Angeles:20240404T200000
DTEND;TZID=America/Los_Angeles:20240404T200000
DTSTAMP:20260421T083122
CREATED:20240308T221800Z
LAST-MODIFIED:20240327T222246Z
UID:7473-1712260800-1712260800@salmonbayeagles.com
SUMMARY:Vadavenus
DESCRIPTION:Vadavenus is a four-man band playing soul\, blues\, rock songs\, and jazz-rock instrumentals. The band lineup includes Marty Vadalabene on drums keys and vocal\, Chris Leighton (drums) Bill Reed (piano/organ) and Walter White (bass). Marty has been playing in the NW since the 70’s\, got a break in ‘76 touring and recording for Warner Bros artist\, Doug Kershaw\, which include appearances in ABC In Concert\, PBS Soundstage\, Farm Aid\, Grand Ole Opry\, New Orleans Jazz\, and Heritage Festivals. He came back to the northwest in the 90’s and became a five-time WA Blues Society Best Drummer nominee.
URL:https://salmonbayeagles.com/event/vadavenus-3/
LOCATION:Social Room
END:VEVENT
BEGIN:VEVENT
DTSTART;TZID=America/Los_Angeles:20240405T190000
DTEND;TZID=America/Los_Angeles:20240405T190000
DTSTAMP:20260421T083122
CREATED:20240320T004846Z
LAST-MODIFIED:20240320T004846Z
UID:7487-1712343600-1712343600@salmonbayeagles.com
SUMMARY:Meatloaf Dinner
DESCRIPTION:MurphyÕs glazed meatloaf with mashed potatoes\, veggies and garlic bread. Only $13 Proceeds benefit the Ballard Food Bank
URL:https://salmonbayeagles.com/event/meatloaf-dinner-2/
LOCATION:Social Room
CATEGORIES:Music
END:VEVENT
BEGIN:VEVENT
DTSTART;TZID=America/Los_Angeles:20240405T200000
DTEND;TZID=America/Los_Angeles:20240405T200000
DTSTAMP:20260421T083122
CREATED:20240308T221804Z
LAST-MODIFIED:20240327T222531Z
UID:7474-1712347200-1712347200@salmonbayeagles.com
SUMMARY:Tim Turner Band
DESCRIPTION:Singer\, songwriter\, guitar player extraordinaire\, Tim Turner has been plying his craft in the Seattle area for four decades. Tim has been playing his unique and special brand of blues\, rock and rhythm n blues since the 1970’s\, as a guitarist in Child\, and several incarnations of his own Tim Turner Band. Come out and enjoy some first-rate guitar playing\, great singing and outstanding original tunes.
URL:https://salmonbayeagles.com/event/tim-turner-band-4/
LOCATION:Social Room
CATEGORIES:Music
END:VEVENT
BEGIN:VEVENT
DTSTART;TZID=America/Los_Angeles:20240406T150000
DTEND;TZID=America/Los_Angeles:20240406T150000
DTSTAMP:20260421T083122
CREATED:20240308T221808Z
LAST-MODIFIED:20240308T223812Z
UID:7475-1712415600-1712415600@salmonbayeagles.com
SUMMARY:Motorcycle Charity Volunteer Mtg
DESCRIPTION:If you are interested  in helping with the Motorcycle Charity Poker run\, please join us at 3pm at the Salmon Bay Eagles
URL:https://salmonbayeagles.com/event/motorcycle-charity-volunteer-mtg-2/
LOCATION:Social Room
END:VEVENT
BEGIN:VEVENT
DTSTART;TZID=America/Los_Angeles:20240406T190000
DTEND;TZID=America/Los_Angeles:20240406T190000
DTSTAMP:20260421T083122
CREATED:20240320T004851Z
LAST-MODIFIED:20240320T004851Z
UID:7488-1712430000-1712430000@salmonbayeagles.com
SUMMARY:Meatloaf Dinner
DESCRIPTION:MurphyÕs glazed meatloaf with mashed potatoes\, veggies and garlic bread. Only $13 Proceeds benefit the Ballard Food Bank
URL:https://salmonbayeagles.com/event/meatloaf-dinner-3/
LOCATION:Social Room
CATEGORIES:Music
END:VEVENT
BEGIN:VEVENT
DTSTART;TZID=America/Los_Angeles:20240406T200000
DTEND;TZID=America/Los_Angeles:20240406T200000
DTSTAMP:20260421T083122
CREATED:20240308T221813Z
LAST-MODIFIED:20240327T222438Z
UID:7476-1712433600-1712433600@salmonbayeagles.com
SUMMARY:Polly O'Keary & the Rhythm Method
DESCRIPTION:Polly O’Keary and the Rhythm Method is the trio she built with her husband and drummer\, Tommy Cook. Pulling in influences from zydeco\, country\, funk\, jazz\, rockabilly\, surf and rock and roll\, they bring a searing and joyful performance of today’s blues to audiences across the U.S. and Canada. The band has released four critically acclaimed albums and received a total of 26 awards from the Washington Blues Society and the Inland Empire Blues Society\, including Best Songwriter\, Best Blues Guitar\, Best Blues Drummer\, Best Blues Vocalist\, and Best Blues Bass\, among others.
URL:https://salmonbayeagles.com/event/polly-okeary-2/
LOCATION:Social Room
END:VEVENT
BEGIN:VEVENT
DTSTART;TZID=America/Los_Angeles:20240407T170000
DTEND;TZID=America/Los_Angeles:20240407T170000
DTSTAMP:20260421T083122
CREATED:20240320T004855Z
LAST-MODIFIED:20240320T004855Z
UID:7489-1712509200-1712509200@salmonbayeagles.com
SUMMARY:Open Mic Nite Hosted by Tony Lease
DESCRIPTION:We host Open Mic Night on the 1st Sunday. Bring your instrument and playlist and get signed up before 5pm. Tony Lease will be your host and he’ll help you get set up. The Salmon Bay Eagles is now open on Sundays from 1pm to 8pm with fun events each week.
URL:https://salmonbayeagles.com/event/open-mic-nite-hosted-by-tony-lease/
LOCATION:Social Room
CATEGORIES:Music
END:VEVENT
BEGIN:VEVENT
DTSTART;TZID=America/Los_Angeles:20240410T180000
DTEND;TZID=America/Los_Angeles:20240410T180000
DTSTAMP:20260421T083122
CREATED:20240320T004900Z
LAST-MODIFIED:20240320T004900Z
UID:7490-1712772000-1712772000@salmonbayeagles.com
SUMMARY:Joker Poker
DESCRIPTION:
URL:https://salmonbayeagles.com/event/joker-poker-81/
LOCATION:Social Room
CATEGORIES:Music
END:VEVENT
BEGIN:VEVENT
DTSTART;TZID=America/Los_Angeles:20240410T190000
DTEND;TZID=America/Los_Angeles:20240410T190000
DTSTAMP:20260421T083122
CREATED:20240320T004918Z
LAST-MODIFIED:20240320T004918Z
UID:7491-1712775600-1712775600@salmonbayeagles.com
SUMMARY:Movie Nite
DESCRIPTION:
URL:https://salmonbayeagles.com/event/movie-nite-8/
LOCATION:Social Room
CATEGORIES:Music
END:VEVENT
BEGIN:VEVENT
DTSTART;TZID=America/Los_Angeles:20240410T190000
DTEND;TZID=America/Los_Angeles:20240410T190000
DTSTAMP:20260421T083122
CREATED:20240327T222044Z
LAST-MODIFIED:20240327T222044Z
UID:7528-1712775600-1712775600@salmonbayeagles.com
SUMMARY:Intro to Officer Roles and Duties
DESCRIPTION:If you are a member in good standing (i.e. your dues are paid for the year)\, YOU are eligible to be nominated for office. \nOfficer positions are generally one-year long commitments lasting from June 1 to May 31\, with the exception of some trustees\, which are longer. Positions will be available for: President\, Vice President\, Secretary\, Chaplin\, Conductor\, Treasurer\, Inside Guard\, and Trustee as well as various committee leaders. Here is a brief overview: https://foe3054.org/aerie-officer-duties/ \nAerie Election Meetings: \n\nIntro to Officer Roles and Duties: Wednesday\, April 10 @ 7pm\nOfficer Nominations: Wednesday\, April 24 @ 7:00pm\n2024/2025 Elections: Wednesday\, May 1 @ 7:00pm
URL:https://salmonbayeagles.com/event/intro-to-officer-roles-and-duties/
CATEGORIES:Members Only
END:VEVENT
BEGIN:VEVENT
DTSTART;TZID=America/Los_Angeles:20240411T190000
DTEND;TZID=America/Los_Angeles:20240411T190000
DTSTAMP:20260421T083122
CREATED:20240327T220948Z
LAST-MODIFIED:20240327T220948Z
UID:7515-1712862000-1712862000@salmonbayeagles.com
SUMMARY:Mama’s Dinner Surprise with Luv Luv
DESCRIPTION:Apr 11-12\, Mama is making a Surprise Dinner with Luv Luv for $13. You know it’s going to be good! To go orders are accepted. Proceeds go to Dementia Research.
URL:https://salmonbayeagles.com/event/mamas-dinner-surprise-with-luv-luv/
END:VEVENT
BEGIN:VEVENT
DTSTART;TZID=America/Los_Angeles:20240411T200000
DTEND;TZID=America/Los_Angeles:20240411T200000
DTSTAMP:20260421T083122
CREATED:20240320T004922Z
LAST-MODIFIED:20240320T004922Z
UID:7492-1712865600-1712865600@salmonbayeagles.com
SUMMARY:Trouble at Home
DESCRIPTION:Trouble at Home is the duo of Dan Newton and John Marshall. They perform a wide array of material primarily focusing on blues and R&B\, bringing years of performing skills to the table.
URL:https://salmonbayeagles.com/event/trouble-at-home-3/
LOCATION:Social Room
CATEGORIES:Music
END:VEVENT
BEGIN:VEVENT
DTSTART;TZID=America/Los_Angeles:20240412T190000
DTEND;TZID=America/Los_Angeles:20240412T190000
DTSTAMP:20260421T083122
CREATED:20240327T221044Z
LAST-MODIFIED:20240327T221044Z
UID:7517-1712948400-1712948400@salmonbayeagles.com
SUMMARY:Mama's Surprise Dinner with Luv Luv
DESCRIPTION:Apr 11-12\, Mama is making a Surprise Dinner with Luv Luv for $13. You know it’s going to be good! To go orders are accepted. Proceeds go to Dementia Research.
URL:https://salmonbayeagles.com/event/mamas-surprise-dinner-with-luv-luv/
END:VEVENT
BEGIN:VEVENT
DTSTART;TZID=America/Los_Angeles:20240412T200000
DTEND;TZID=America/Los_Angeles:20240412T200000
DTSTAMP:20260421T083122
CREATED:20240320T004927Z
LAST-MODIFIED:20240320T004927Z
UID:7493-1712952000-1712952000@salmonbayeagles.com
SUMMARY:Joe Cook Blues Band
DESCRIPTION:The Joe T. Cook Blues Band is one of the premier blues bands touring the west coast. The members are all award winning blues professionals with more than 30 years experience as gigging blues musicians. The band performs high energy traditional Chicago and west coast style blues\, with elements of the old school Texas sound.
URL:https://salmonbayeagles.com/event/joe-cook-blues-band-3/
LOCATION:Social Room
CATEGORIES:Music
END:VEVENT
BEGIN:VEVENT
DTSTART;TZID=America/Los_Angeles:20240413T200000
DTEND;TZID=America/Los_Angeles:20240413T200000
DTSTAMP:20260421T083122
CREATED:20240320T004931Z
LAST-MODIFIED:20240320T004931Z
UID:7494-1713038400-1713038400@salmonbayeagles.com
SUMMARY:Dain Norman & the Chrysalis Effect
DESCRIPTION:Dain Norman and the Chrysalis Effect is lead by singer/songwriter\, Dain Norman. Hailing influences from 1950’s-1970’s Rock n’ Roll\, Pop & Soul\, and blending it with modern indie rock\, to form a new yet familier sound.
URL:https://salmonbayeagles.com/event/dain-norman-the-chrysalis-effect-5/
LOCATION:Social Room
CATEGORIES:Music
END:VEVENT
BEGIN:VEVENT
DTSTART;TZID=America/Los_Angeles:20240414T170000
DTEND;TZID=America/Los_Angeles:20240414T170000
DTSTAMP:20260421T083122
CREATED:20240320T004939Z
LAST-MODIFIED:20240320T004939Z
UID:7495-1713114000-1713114000@salmonbayeagles.com
SUMMARY:Karaoke Night
DESCRIPTION:Occurs on every 2nd and 4th Sunday of the month. Hosted by Nick Ackermann
URL:https://salmonbayeagles.com/event/karaoke-night-9/
LOCATION:Social Room
CATEGORIES:Music
END:VEVENT
BEGIN:VEVENT
DTSTART;TZID=America/Los_Angeles:20240417T180000
DTEND;TZID=America/Los_Angeles:20240417T180000
DTSTAMP:20260421T083122
CREATED:20240320T004944Z
LAST-MODIFIED:20240320T004944Z
UID:7496-1713376800-1713376800@salmonbayeagles.com
SUMMARY:Joker Poker
DESCRIPTION:
URL:https://salmonbayeagles.com/event/joker-poker-82/
LOCATION:Social Room
CATEGORIES:Music
END:VEVENT
BEGIN:VEVENT
DTSTART;TZID=America/Los_Angeles:20240417T190000
DTEND;TZID=America/Los_Angeles:20240417T190000
DTSTAMP:20260421T083122
CREATED:20240320T004949Z
LAST-MODIFIED:20240320T004949Z
UID:7497-1713380400-1713380400@salmonbayeagles.com
SUMMARY:Movie Nite
DESCRIPTION:
URL:https://salmonbayeagles.com/event/movie-nite-9/
LOCATION:Social Room
CATEGORIES:Music
END:VEVENT
BEGIN:VEVENT
DTSTART;TZID=America/Los_Angeles:20240418T190000
DTEND;TZID=America/Los_Angeles:20240418T190000
DTSTAMP:20260421T083122
CREATED:20240327T221201Z
LAST-MODIFIED:20240327T221201Z
UID:7519-1713466800-1713466800@salmonbayeagles.com
SUMMARY:Murphy’s Italian Dinner
DESCRIPTION:Apr 18-20\, we’re serving Murphy’s Italian Dinner featuring hearty pasta Alfredo with pork chops and garlic bread plus dessert for $14. Your belly is going to be happy! Proceeds benefit the Ballard Food Bank. 
URL:https://salmonbayeagles.com/event/murphys-italian-dinner/
CATEGORIES:Food
END:VEVENT
BEGIN:VEVENT
DTSTART;TZID=America/Los_Angeles:20240418T200000
DTEND;TZID=America/Los_Angeles:20240418T200000
DTSTAMP:20260421T083122
CREATED:20240320T004958Z
LAST-MODIFIED:20240320T004958Z
UID:7499-1713470400-1713470400@salmonbayeagles.com
SUMMARY:All Stars No Stripes
DESCRIPTION:Playing a vibrant mix of blues\, R&B\, rock & roll\, and jazz All Stars No Stripes Band are truly all-stars and are known for delivering the goods every time they perform. Bring your dancing shoes and head on down to Ballard and Salmon Bay Eagles the home of the blues for a rocking good time.
URL:https://salmonbayeagles.com/event/all-stars-no-stripes-3/
LOCATION:Social Room
CATEGORIES:Music
END:VEVENT
BEGIN:VEVENT
DTSTART;TZID=America/Los_Angeles:20240419T190000
DTEND;TZID=America/Los_Angeles:20240419T190000
DTSTAMP:20260421T083122
CREATED:20240327T221311Z
LAST-MODIFIED:20240327T221311Z
UID:7521-1713553200-1713553200@salmonbayeagles.com
SUMMARY:Murphy’s Italian Dinner
DESCRIPTION:Apr 18-20\, we’re serving Murphy’s Italian Dinner featuring hearty pasta Alfredo with pork chops and garlic bread plus dessert for $14. Your belly is going to be happy! Proceeds benefit the Ballard Food Bank.
URL:https://salmonbayeagles.com/event/murphys-italian-dinner-2/
END:VEVENT
END:VCALENDAR