BEGIN:VCALENDAR
VERSION:2.0
PRODID:-//Salmon Bay Eagles 2141 - ECPv6.15.17.1//NONSGML v1.0//EN
CALSCALE:GREGORIAN
METHOD:PUBLISH
X-WR-CALNAME:Salmon Bay Eagles 2141
X-ORIGINAL-URL:https://salmonbayeagles.com
X-WR-CALDESC:Events for Salmon Bay Eagles 2141
REFRESH-INTERVAL;VALUE=DURATION:PT1H
X-Robots-Tag:noindex
X-PUBLISHED-TTL:PT1H
BEGIN:VTIMEZONE
TZID:America/Los_Angeles
BEGIN:DAYLIGHT
TZOFFSETFROM:-0800
TZOFFSETTO:-0700
TZNAME:PDT
DTSTART:20230312T100000
END:DAYLIGHT
BEGIN:STANDARD
TZOFFSETFROM:-0700
TZOFFSETTO:-0800
TZNAME:PST
DTSTART:20231105T090000
END:STANDARD
BEGIN:DAYLIGHT
TZOFFSETFROM:-0800
TZOFFSETTO:-0700
TZNAME:PDT
DTSTART:20240310T100000
END:DAYLIGHT
BEGIN:STANDARD
TZOFFSETFROM:-0700
TZOFFSETTO:-0800
TZNAME:PST
DTSTART:20241103T090000
END:STANDARD
BEGIN:DAYLIGHT
TZOFFSETFROM:-0800
TZOFFSETTO:-0700
TZNAME:PDT
DTSTART:20250309T100000
END:DAYLIGHT
BEGIN:STANDARD
TZOFFSETFROM:-0700
TZOFFSETTO:-0800
TZNAME:PST
DTSTART:20251102T090000
END:STANDARD
END:VTIMEZONE
BEGIN:VEVENT
DTSTART;TZID=America/Los_Angeles:20240414T170000
DTEND;TZID=America/Los_Angeles:20240414T170000
DTSTAMP:20260421T110905
CREATED:20240320T004939Z
LAST-MODIFIED:20240320T004939Z
UID:7495-1713114000-1713114000@salmonbayeagles.com
SUMMARY:Karaoke Night
DESCRIPTION:Occurs on every 2nd and 4th Sunday of the month. Hosted by Nick Ackermann
URL:https://salmonbayeagles.com/event/karaoke-night-9/
LOCATION:Social Room
CATEGORIES:Music
END:VEVENT
BEGIN:VEVENT
DTSTART;TZID=America/Los_Angeles:20240417T180000
DTEND;TZID=America/Los_Angeles:20240417T180000
DTSTAMP:20260421T110905
CREATED:20240320T004944Z
LAST-MODIFIED:20240320T004944Z
UID:7496-1713376800-1713376800@salmonbayeagles.com
SUMMARY:Joker Poker
DESCRIPTION:
URL:https://salmonbayeagles.com/event/joker-poker-82/
LOCATION:Social Room
CATEGORIES:Music
END:VEVENT
BEGIN:VEVENT
DTSTART;TZID=America/Los_Angeles:20240417T190000
DTEND;TZID=America/Los_Angeles:20240417T190000
DTSTAMP:20260421T110905
CREATED:20240320T004949Z
LAST-MODIFIED:20240320T004949Z
UID:7497-1713380400-1713380400@salmonbayeagles.com
SUMMARY:Movie Nite
DESCRIPTION:
URL:https://salmonbayeagles.com/event/movie-nite-9/
LOCATION:Social Room
CATEGORIES:Music
END:VEVENT
BEGIN:VEVENT
DTSTART;TZID=America/Los_Angeles:20240418T190000
DTEND;TZID=America/Los_Angeles:20240418T190000
DTSTAMP:20260421T110905
CREATED:20240327T221201Z
LAST-MODIFIED:20240327T221201Z
UID:7519-1713466800-1713466800@salmonbayeagles.com
SUMMARY:Murphy’s Italian Dinner
DESCRIPTION:Apr 18-20\, we’re serving Murphy’s Italian Dinner featuring hearty pasta Alfredo with pork chops and garlic bread plus dessert for $14. Your belly is going to be happy! Proceeds benefit the Ballard Food Bank. 
URL:https://salmonbayeagles.com/event/murphys-italian-dinner/
CATEGORIES:Food
END:VEVENT
BEGIN:VEVENT
DTSTART;TZID=America/Los_Angeles:20240418T200000
DTEND;TZID=America/Los_Angeles:20240418T200000
DTSTAMP:20260421T110905
CREATED:20240320T004958Z
LAST-MODIFIED:20240320T004958Z
UID:7499-1713470400-1713470400@salmonbayeagles.com
SUMMARY:All Stars No Stripes
DESCRIPTION:Playing a vibrant mix of blues\, R&B\, rock & roll\, and jazz All Stars No Stripes Band are truly all-stars and are known for delivering the goods every time they perform. Bring your dancing shoes and head on down to Ballard and Salmon Bay Eagles the home of the blues for a rocking good time.
URL:https://salmonbayeagles.com/event/all-stars-no-stripes-3/
LOCATION:Social Room
CATEGORIES:Music
END:VEVENT
BEGIN:VEVENT
DTSTART;TZID=America/Los_Angeles:20240419T190000
DTEND;TZID=America/Los_Angeles:20240419T190000
DTSTAMP:20260421T110905
CREATED:20240327T221311Z
LAST-MODIFIED:20240327T221311Z
UID:7521-1713553200-1713553200@salmonbayeagles.com
SUMMARY:Murphy’s Italian Dinner
DESCRIPTION:Apr 18-20\, we’re serving Murphy’s Italian Dinner featuring hearty pasta Alfredo with pork chops and garlic bread plus dessert for $14. Your belly is going to be happy! Proceeds benefit the Ballard Food Bank.
URL:https://salmonbayeagles.com/event/murphys-italian-dinner-2/
END:VEVENT
BEGIN:VEVENT
DTSTART;TZID=America/Los_Angeles:20240419T200000
DTEND;TZID=America/Los_Angeles:20240419T200000
DTSTAMP:20260421T110905
CREATED:20240320T005003Z
LAST-MODIFIED:20240320T005003Z
UID:7500-1713556800-1713556800@salmonbayeagles.com
SUMMARY:Jack Cook & the Phantoms of Soul
DESCRIPTION:The Phantoms of Soul is a group specializing in forgotten Blues Songs from the 1920’s through the 1960’s. Sources of material range from singers of the Deep South to the Great Northwest Corner. The leader is Guitarist/Singer/Jazz hornist/Songwriter Jack Cook\, who has been performing traditional Blues in the Seattle area for over 40 years.
URL:https://salmonbayeagles.com/event/jack-cook-the-phantoms-of-soul-5/
LOCATION:Social Room
CATEGORIES:Music
END:VEVENT
BEGIN:VEVENT
DTSTART;TZID=America/Los_Angeles:20240420T100000
DTEND;TZID=America/Los_Angeles:20240420T100000
DTSTAMP:20260421T110905
CREATED:20240320T005014Z
LAST-MODIFIED:20240320T005014Z
UID:7502-1713607200-1713607200@salmonbayeagles.com
SUMMARY:District Meeting at White Center
DESCRIPTION:
URL:https://salmonbayeagles.com/event/district-meeting-at-white-center/
LOCATION:Social Room
CATEGORIES:Music
END:VEVENT
BEGIN:VEVENT
DTSTART;TZID=America/Los_Angeles:20240420T190000
DTEND;TZID=America/Los_Angeles:20240420T190000
DTSTAMP:20260421T110905
CREATED:20240327T221358Z
LAST-MODIFIED:20240327T221358Z
UID:7523-1713639600-1713639600@salmonbayeagles.com
SUMMARY:Murphy’s Italian Dinner
DESCRIPTION:Apr 18-20\, we’re serving Murphy’s Italian Dinner featuring hearty pasta Alfredo with pork chops and garlic bread plus dessert for $14. Your belly is going to be happy! Proceeds benefit the Ballard Food Bank.
URL:https://salmonbayeagles.com/event/murphys-italian-dinner-3/
END:VEVENT
BEGIN:VEVENT
DTSTART;TZID=America/Los_Angeles:20240420T200000
DTEND;TZID=America/Los_Angeles:20240420T200000
DTSTAMP:20260421T110905
CREATED:20240320T005009Z
LAST-MODIFIED:20240320T005009Z
UID:7501-1713643200-1713643200@salmonbayeagles.com
SUMMARY:Ron Bailey & the Tangents
DESCRIPTION:Ron Bailey & the Tangents perform infectious music. Ron has been pleasing audiences with his showmanship since back when. The history of these performers would fill a book and includes some of the best-known bands around the Sound. Ron & the Tangents fill the dancefloor from the opening song until closing time\, so get ready to shake Ôem on down!
URL:https://salmonbayeagles.com/event/ron-bailey-the-tangents-12/
LOCATION:Social Room
CATEGORIES:Music
END:VEVENT
BEGIN:VEVENT
DTSTART;TZID=America/Los_Angeles:20240421T170000
DTEND;TZID=America/Los_Angeles:20240421T170000
DTSTAMP:20260421T110905
CREATED:20240320T005019Z
LAST-MODIFIED:20240327T220801Z
UID:7503-1713718800-1713718800@salmonbayeagles.com
SUMMARY:Open Mic Nite Hosted by Tony Lease
DESCRIPTION:We host Open Mic Night on the 1st Sunday. Bring your instrument and playlist and get ready to jam. Tony Lease will be your host and he’ll help you get set up. Show is from 5pm – 7pm. The Salmon Bay Eagles is open on Sundays from 1pm to 8pm with fun events each week.
URL:https://salmonbayeagles.com/event/salmon-dan-6/
LOCATION:Social Room
CATEGORIES:Music
END:VEVENT
BEGIN:VEVENT
DTSTART;TZID=America/Los_Angeles:20240424T180000
DTEND;TZID=America/Los_Angeles:20240424T180000
DTSTAMP:20260421T110905
CREATED:20240320T005024Z
LAST-MODIFIED:20240320T005024Z
UID:7504-1713981600-1713981600@salmonbayeagles.com
SUMMARY:Joker Poker
DESCRIPTION:
URL:https://salmonbayeagles.com/event/joker-poker-83/
LOCATION:Social Room
CATEGORIES:Music
END:VEVENT
BEGIN:VEVENT
DTSTART;TZID=America/Los_Angeles:20240424T190000
DTEND;TZID=America/Los_Angeles:20240424T190000
DTSTAMP:20260421T110905
CREATED:20240320T004954Z
LAST-MODIFIED:20240327T221911Z
UID:7498-1713985200-1713985200@salmonbayeagles.com
SUMMARY:Aerie Meeting + Officer Nominations
DESCRIPTION:If you are a member in good standing (i.e. your dues are paid for the year)\, YOU are eligible to be nominated for office. \nOfficer positions are generally one-year long commitments lasting from June 1 to May 31\, with the exception of some trustees\, which are longer. Positions will be available for: President\, Vice President\, Secretary\, Chaplin\, Conductor\, Treasurer\, Inside Guard\, and Trustee as well as various committee leaders. Here is a brief overview: https://foe3054.org/aerie-officer-duties/ \nAerie Election Meetings: \n\nIntro to Officer Roles and Duties: Wednesday\, April 10 @ 7pm\nOfficer Nominations: Wednesday\, April 24 @ 7:00pm \n2024/2025 Elections: Wednesday\, May 1 @ 7:00pm
URL:https://salmonbayeagles.com/event/aerie-initiation-meeting-8/
LOCATION:Social Room
CATEGORIES:Music
END:VEVENT
BEGIN:VEVENT
DTSTART;TZID=America/Los_Angeles:20240424T190000
DTEND;TZID=America/Los_Angeles:20240424T190000
DTSTAMP:20260421T110905
CREATED:20240320T005028Z
LAST-MODIFIED:20240320T005028Z
UID:7505-1713985200-1713985200@salmonbayeagles.com
SUMMARY:Movie Nite
DESCRIPTION:
URL:https://salmonbayeagles.com/event/movie-nite-10/
LOCATION:Social Room
CATEGORIES:Music
END:VEVENT
BEGIN:VEVENT
DTSTART;TZID=America/Los_Angeles:20240425T190000
DTEND;TZID=America/Los_Angeles:20240425T190000
DTSTAMP:20260421T110905
CREATED:20240320T005034Z
LAST-MODIFIED:20240327T221548Z
UID:7506-1714071600-1714071600@salmonbayeagles.com
SUMMARY:Parmesan Crusted Salmon Dinner
DESCRIPTION:Apr 25\, Judy will be making her delicious Parmesan Crusted Salmon Dinner with savory rice and vegetable for $15. Proceeds benefit the Ballard Food Bank.
URL:https://salmonbayeagles.com/event/parmesan-crusted-salmon-dinner/
LOCATION:Social Room
CATEGORIES:Music
END:VEVENT
BEGIN:VEVENT
DTSTART;TZID=America/Los_Angeles:20240425T200000
DTEND;TZID=America/Los_Angeles:20240425T200000
DTSTAMP:20260421T110905
CREATED:20240320T005039Z
LAST-MODIFIED:20240320T005039Z
UID:7507-1714075200-1714075200@salmonbayeagles.com
SUMMARY:Salmon Dan's Jam
DESCRIPTION:Well known blues slinger Dan Abernethy is performing his new Covid era originals as well as traditional classics\, this artist\, now known as Salmon Dan is sure to delight the discerning music lover with crafty lyrics\, soulful vocals\, and fleet fingered guitar stylings.
URL:https://salmonbayeagles.com/event/salmon-dans-jam-3/
LOCATION:Social Room
CATEGORIES:Music
END:VEVENT
BEGIN:VEVENT
DTSTART;TZID=America/Los_Angeles:20240426T200000
DTEND;TZID=America/Los_Angeles:20240426T200000
DTSTAMP:20260421T110905
CREATED:20240320T005043Z
LAST-MODIFIED:20240320T005043Z
UID:7508-1714161600-1714161600@salmonbayeagles.com
SUMMARY:The Pinetree Music Collective
DESCRIPTION:The band features Eddie Mendoza\, Eric Thompson\, Michael Marcus and John Pinetree performing blues\, funk\, jazz and soul.
URL:https://salmonbayeagles.com/event/the-pinetree-music-collective/
LOCATION:Social Room
CATEGORIES:Music
END:VEVENT
BEGIN:VEVENT
DTSTART;TZID=America/Los_Angeles:20240427T200000
DTEND;TZID=America/Los_Angeles:20240427T200000
DTSTAMP:20260421T110905
CREATED:20240320T005048Z
LAST-MODIFIED:20240320T005048Z
UID:7509-1714248000-1714248000@salmonbayeagles.com
SUMMARY:Dana Lupinacci Band
DESCRIPTION:Dana Lupinacci is a versatile and accomplished Seattle blues\, jazz and roots music performer.  Whether she’s belting the blues or singing in a soulful whisper\, Dana conveys the love\, joy and passion of the music with an engaging presence.  Joined by a stellar band comprised of Jeff Ziontz on Guitar\, Jack Cook on guitar and vocals\, Guy Quintino on Bass and Marty Vadalabene on Drums.
URL:https://salmonbayeagles.com/event/dana-lupinacci-band-2/
LOCATION:Social Room
CATEGORIES:Music
END:VEVENT
BEGIN:VEVENT
DTSTART;TZID=America/Los_Angeles:20240428T170000
DTEND;TZID=America/Los_Angeles:20240428T170000
DTSTAMP:20260421T110905
CREATED:20240320T005053Z
LAST-MODIFIED:20240320T005053Z
UID:7510-1714323600-1714323600@salmonbayeagles.com
SUMMARY:Karaoke Night
DESCRIPTION:Occurs on every 2nd and 4th Sunday of the month. Hosted by Nick Ackermann
URL:https://salmonbayeagles.com/event/karaoke-night-10/
LOCATION:Social Room
CATEGORIES:Music
END:VEVENT
BEGIN:VEVENT
DTSTART;TZID=America/Los_Angeles:20240501T180000
DTEND;TZID=America/Los_Angeles:20240501T180000
DTSTAMP:20260421T110905
CREATED:20240501T014019Z
LAST-MODIFIED:20240501T014019Z
UID:7541-1714586400-1714586400@salmonbayeagles.com
SUMMARY:Joker Poker
DESCRIPTION:Wednesdays are Poker Joker nights. If no one pulls the Joker\, the pot grows every week. The next winner could be you. HOW TO PLAY: Joker Poker raffles tickets cost $1 each and maybe purchased from the bartender or conductor of the raffle up until 6pm.
URL:https://salmonbayeagles.com/event/joker-poker-84/
LOCATION:Social Room
END:VEVENT
BEGIN:VEVENT
DTSTART;TZID=America/Los_Angeles:20240501T180000
DTEND;TZID=America/Los_Angeles:20240501T180000
DTSTAMP:20260421T110905
CREATED:20240501T014028Z
LAST-MODIFIED:20240501T014028Z
UID:7543-1714586400-1714586400@salmonbayeagles.com
SUMMARY:Calendar Meetings
DESCRIPTION:Calendar meetings occur on the first Wednesday of the month at 6pm in the game room. This monthly meeting communicates upcoming events and volunteer needs to members.
URL:https://salmonbayeagles.com/event/calendar-meetings/
LOCATION:Social Room
END:VEVENT
BEGIN:VEVENT
DTSTART;TZID=America/Los_Angeles:20240501T190000
DTEND;TZID=America/Los_Angeles:20240501T190000
DTSTAMP:20260421T110905
CREATED:20240501T014024Z
LAST-MODIFIED:20240501T014024Z
UID:7542-1714590000-1714590000@salmonbayeagles.com
SUMMARY:Movie Nite
DESCRIPTION:Mr Deeds
URL:https://salmonbayeagles.com/event/movie-nite-11/
LOCATION:Social Room
END:VEVENT
BEGIN:VEVENT
DTSTART;TZID=America/Los_Angeles:20240501T190000
DTEND;TZID=America/Los_Angeles:20240501T190000
DTSTAMP:20260421T110905
CREATED:20240501T014034Z
LAST-MODIFIED:20240501T014034Z
UID:7544-1714590000-1714590000@salmonbayeagles.com
SUMMARY:Aerie Meeting
DESCRIPTION:Aerie meetings are held the first and third Wednesdays of each month at 7:00 P.M. in the Grand Hall on the second floor. Members in good standing are encouraged to attend. Initiation of new members occurs during the meeting held on the 2nd Wednesday of each month.
URL:https://salmonbayeagles.com/event/aerie-meeting-39/
LOCATION:Social Room
END:VEVENT
BEGIN:VEVENT
DTSTART;TZID=America/Los_Angeles:20240502T190000
DTEND;TZID=America/Los_Angeles:20240502T190000
DTSTAMP:20260421T110905
CREATED:20240501T014040Z
LAST-MODIFIED:20240501T014040Z
UID:7545-1714676400-1714676400@salmonbayeagles.com
SUMMARY:Murphy's Mexican Dinner
DESCRIPTION:Murphy is making a tasty Mexican Dinner with your choice of enchiladas or burritos and sides plus dessert for $15. Proceeds benefit the American Foundation for Suicide Prevention.
URL:https://salmonbayeagles.com/event/murphys-mexican-dinner/
LOCATION:Social Room
END:VEVENT
BEGIN:VEVENT
DTSTART;TZID=America/Los_Angeles:20240502T200000
DTEND;TZID=America/Los_Angeles:20240502T200000
DTSTAMP:20260421T110905
CREATED:20240501T014048Z
LAST-MODIFIED:20240501T014048Z
UID:7546-1714680000-1714680000@salmonbayeagles.com
SUMMARY:Jeff Herzog & The Jet City Fliers
DESCRIPTION:Blues\, New Orleans music\, R&B and choice old Rock & Roll delivered in a high energy party show; that is Jeff and the Jet City Fliers. Jeff and the band’s aim is to inspire the audience to have fun and forget their troubles for a while; much like the entertainers in New Orleans do. Lead singer and harmonica player Jeff Herzog delivers the songs with heart-felt enthusiasm.
URL:https://salmonbayeagles.com/event/jeff-herzog-the-jet-city-fliers-6/
LOCATION:Social Room
END:VEVENT
BEGIN:VEVENT
DTSTART;TZID=America/Los_Angeles:20240503T190000
DTEND;TZID=America/Los_Angeles:20240503T190000
DTSTAMP:20260421T110905
CREATED:20240501T014053Z
LAST-MODIFIED:20240501T014053Z
UID:7547-1714762800-1714762800@salmonbayeagles.com
SUMMARY:Murphy's Mexican Dinner
DESCRIPTION:Murphy is making a tasty Mexican Dinner with your choice of enchiladas or burritos and sides plus dessert for $15. Proceeds benefit the American Foundation for Suicide Prevention.
URL:https://salmonbayeagles.com/event/murphys-mexican-dinner-2/
LOCATION:Social Room
END:VEVENT
BEGIN:VEVENT
DTSTART;TZID=America/Los_Angeles:20240503T200000
DTEND;TZID=America/Los_Angeles:20240503T200000
DTSTAMP:20260421T110905
CREATED:20240501T014057Z
LAST-MODIFIED:20240501T014057Z
UID:7548-1714766400-1714766400@salmonbayeagles.com
SUMMARY:Red House
DESCRIPTION:This All-Star lineup features the world class vocal talents and journeyman bass talents of Tim Scott\, the highly accomplished Mark Noftsger on guitar\, and Robin Crane on drums playing a mix of R&B and blues with feeling and style.
URL:https://salmonbayeagles.com/event/red-house-5/
LOCATION:Social Room
END:VEVENT
BEGIN:VEVENT
DTSTART;TZID=America/Los_Angeles:20240504T150000
DTEND;TZID=America/Los_Angeles:20240504T150000
DTSTAMP:20260421T110905
CREATED:20240501T014106Z
LAST-MODIFIED:20240501T021510Z
UID:7550-1714834800-1714834800@salmonbayeagles.com
SUMMARY:Motorcycle Charity Volunteer Mtg
DESCRIPTION:We invite all members of the Fraternal Order of Eagles to participate in the Salmon Bay Eagles #2141 Motorcycle Charity Poker Run happening this summer. It is an exciting event that includes a scenic motorcycle ride\, charity\, poker\, prizes\, dinner\, and live music—all happening Saturday\, August 17\, 2024. We’d love your help! Come join the fun and learn all about the great charity ride.
URL:https://salmonbayeagles.com/event/motorcycle-charity-volunteer-mtg-3/
LOCATION:Social Room
END:VEVENT
BEGIN:VEVENT
DTSTART;TZID=America/Los_Angeles:20240504T190000
DTEND;TZID=America/Los_Angeles:20240504T190000
DTSTAMP:20260421T110905
CREATED:20240501T014101Z
LAST-MODIFIED:20240501T014101Z
UID:7549-1714849200-1714849200@salmonbayeagles.com
SUMMARY:Murphy's Mexican Dinner
DESCRIPTION:Murphy is making a tasty Mexican Dinner with your choice of enchiladas or burritos and sides plus dessert for $15. Proceeds benefit the American Foundation for Suicide Prevention.
URL:https://salmonbayeagles.com/event/murphys-mexican-dinner-3/
LOCATION:Social Room
END:VEVENT
BEGIN:VEVENT
DTSTART;TZID=America/Los_Angeles:20240504T200000
DTEND;TZID=America/Los_Angeles:20240504T200000
DTSTAMP:20260421T110905
CREATED:20240501T014304Z
LAST-MODIFIED:20240501T021628Z
UID:7551-1714852800-1714852800@salmonbayeagles.com
SUMMARY:Billy Stapleton's Powerhouse
DESCRIPTION:Dance and groove to Powerhouse at the Salmon Bay Eagles. Powerhouse is a super tight\, dynamic trio of NW luminaries with the great Don Willhelm on smoking bass guitar\, “Mr. Backbeat” Steve Peterson on drums\, and legendary Billy Stapleton on lead and slide guitar. See you there.
URL:https://salmonbayeagles.com/event/billy-stapletons-powerhouse-3/
LOCATION:Social Room
END:VEVENT
END:VCALENDAR