BEGIN:VCALENDAR
VERSION:2.0
PRODID:-//Salmon Bay Eagles 2141 - ECPv6.15.17.1//NONSGML v1.0//EN
CALSCALE:GREGORIAN
METHOD:PUBLISH
X-ORIGINAL-URL:https://salmonbayeagles.com
X-WR-CALDESC:Events for Salmon Bay Eagles 2141
REFRESH-INTERVAL;VALUE=DURATION:PT1H
X-Robots-Tag:noindex
X-PUBLISHED-TTL:PT1H
BEGIN:VTIMEZONE
TZID:America/Los_Angeles
BEGIN:DAYLIGHT
TZOFFSETFROM:-0800
TZOFFSETTO:-0700
TZNAME:PDT
DTSTART:20230312T100000
END:DAYLIGHT
BEGIN:STANDARD
TZOFFSETFROM:-0700
TZOFFSETTO:-0800
TZNAME:PST
DTSTART:20231105T090000
END:STANDARD
BEGIN:DAYLIGHT
TZOFFSETFROM:-0800
TZOFFSETTO:-0700
TZNAME:PDT
DTSTART:20240310T100000
END:DAYLIGHT
BEGIN:STANDARD
TZOFFSETFROM:-0700
TZOFFSETTO:-0800
TZNAME:PST
DTSTART:20241103T090000
END:STANDARD
BEGIN:DAYLIGHT
TZOFFSETFROM:-0800
TZOFFSETTO:-0700
TZNAME:PDT
DTSTART:20250309T100000
END:DAYLIGHT
BEGIN:STANDARD
TZOFFSETFROM:-0700
TZOFFSETTO:-0800
TZNAME:PST
DTSTART:20251102T090000
END:STANDARD
END:VTIMEZONE
BEGIN:VEVENT
DTSTART;TZID=America/Los_Angeles:20240502T200000
DTEND;TZID=America/Los_Angeles:20240502T200000
DTSTAMP:20260421T134027
CREATED:20240501T014048Z
LAST-MODIFIED:20240501T014048Z
UID:7546-1714680000-1714680000@salmonbayeagles.com
SUMMARY:Jeff Herzog & The Jet City Fliers
DESCRIPTION:Blues\, New Orleans music\, R&B and choice old Rock & Roll delivered in a high energy party show; that is Jeff and the Jet City Fliers. Jeff and the band’s aim is to inspire the audience to have fun and forget their troubles for a while; much like the entertainers in New Orleans do. Lead singer and harmonica player Jeff Herzog delivers the songs with heart-felt enthusiasm.
URL:https://salmonbayeagles.com/event/jeff-herzog-the-jet-city-fliers-6/
LOCATION:Social Room
END:VEVENT
BEGIN:VEVENT
DTSTART;TZID=America/Los_Angeles:20240503T190000
DTEND;TZID=America/Los_Angeles:20240503T190000
DTSTAMP:20260421T134027
CREATED:20240501T014053Z
LAST-MODIFIED:20240501T014053Z
UID:7547-1714762800-1714762800@salmonbayeagles.com
SUMMARY:Murphy's Mexican Dinner
DESCRIPTION:Murphy is making a tasty Mexican Dinner with your choice of enchiladas or burritos and sides plus dessert for $15. Proceeds benefit the American Foundation for Suicide Prevention.
URL:https://salmonbayeagles.com/event/murphys-mexican-dinner-2/
LOCATION:Social Room
END:VEVENT
BEGIN:VEVENT
DTSTART;TZID=America/Los_Angeles:20240503T200000
DTEND;TZID=America/Los_Angeles:20240503T200000
DTSTAMP:20260421T134027
CREATED:20240501T014057Z
LAST-MODIFIED:20240501T014057Z
UID:7548-1714766400-1714766400@salmonbayeagles.com
SUMMARY:Red House
DESCRIPTION:This All-Star lineup features the world class vocal talents and journeyman bass talents of Tim Scott\, the highly accomplished Mark Noftsger on guitar\, and Robin Crane on drums playing a mix of R&B and blues with feeling and style.
URL:https://salmonbayeagles.com/event/red-house-5/
LOCATION:Social Room
END:VEVENT
BEGIN:VEVENT
DTSTART;TZID=America/Los_Angeles:20240504T150000
DTEND;TZID=America/Los_Angeles:20240504T150000
DTSTAMP:20260421T134027
CREATED:20240501T014106Z
LAST-MODIFIED:20240501T021510Z
UID:7550-1714834800-1714834800@salmonbayeagles.com
SUMMARY:Motorcycle Charity Volunteer Mtg
DESCRIPTION:We invite all members of the Fraternal Order of Eagles to participate in the Salmon Bay Eagles #2141 Motorcycle Charity Poker Run happening this summer. It is an exciting event that includes a scenic motorcycle ride\, charity\, poker\, prizes\, dinner\, and live music—all happening Saturday\, August 17\, 2024. We’d love your help! Come join the fun and learn all about the great charity ride.
URL:https://salmonbayeagles.com/event/motorcycle-charity-volunteer-mtg-3/
LOCATION:Social Room
END:VEVENT
BEGIN:VEVENT
DTSTART;TZID=America/Los_Angeles:20240504T190000
DTEND;TZID=America/Los_Angeles:20240504T190000
DTSTAMP:20260421T134027
CREATED:20240501T014101Z
LAST-MODIFIED:20240501T014101Z
UID:7549-1714849200-1714849200@salmonbayeagles.com
SUMMARY:Murphy's Mexican Dinner
DESCRIPTION:Murphy is making a tasty Mexican Dinner with your choice of enchiladas or burritos and sides plus dessert for $15. Proceeds benefit the American Foundation for Suicide Prevention.
URL:https://salmonbayeagles.com/event/murphys-mexican-dinner-3/
LOCATION:Social Room
END:VEVENT
BEGIN:VEVENT
DTSTART;TZID=America/Los_Angeles:20240504T200000
DTEND;TZID=America/Los_Angeles:20240504T200000
DTSTAMP:20260421T134027
CREATED:20240501T014304Z
LAST-MODIFIED:20240501T021628Z
UID:7551-1714852800-1714852800@salmonbayeagles.com
SUMMARY:Billy Stapleton's Powerhouse
DESCRIPTION:Dance and groove to Powerhouse at the Salmon Bay Eagles. Powerhouse is a super tight\, dynamic trio of NW luminaries with the great Don Willhelm on smoking bass guitar\, “Mr. Backbeat” Steve Peterson on drums\, and legendary Billy Stapleton on lead and slide guitar. See you there.
URL:https://salmonbayeagles.com/event/billy-stapletons-powerhouse-3/
LOCATION:Social Room
END:VEVENT
BEGIN:VEVENT
DTSTART;TZID=America/Los_Angeles:20240508T180000
DTEND;TZID=America/Los_Angeles:20240508T180000
DTSTAMP:20260421T134027
CREATED:20240506T183044Z
LAST-MODIFIED:20240506T183044Z
UID:7558-1715191200-1715191200@salmonbayeagles.com
SUMMARY:Joker Poker
DESCRIPTION:Wednesdays are Poker Joker nights. If no one pulls the Joker\, the pot grows every week. The next winner could be you. HOW TO PLAY: Joker Poker raffles tickets cost $1 each and maybe purchased from the bartender or conductor of the raffle up until 6pm.
URL:https://salmonbayeagles.com/event/joker-poker-85/
LOCATION:Social Room
END:VEVENT
BEGIN:VEVENT
DTSTART;TZID=America/Los_Angeles:20240508T190000
DTEND;TZID=America/Los_Angeles:20240508T190000
DTSTAMP:20260421T134027
CREATED:20240506T183107Z
LAST-MODIFIED:20240506T183107Z
UID:7563-1715194800-1715194800@salmonbayeagles.com
SUMMARY:Movie Nite
DESCRIPTION:Hook
URL:https://salmonbayeagles.com/event/movie-nite-12/
LOCATION:Social Room
END:VEVENT
BEGIN:VEVENT
DTSTART;TZID=America/Los_Angeles:20240509T200000
DTEND;TZID=America/Los_Angeles:20240509T200000
DTSTAMP:20260421T134027
CREATED:20240506T183129Z
LAST-MODIFIED:20240506T183129Z
UID:7567-1715284800-1715284800@salmonbayeagles.com
SUMMARY:Stevie & the Blue Flames
DESCRIPTION:Stevie and the Blue Flames is a band of veteran musicians who still perform with a lot of positive energy. With a tight rhythm section and dynamic soloists\, they are a well-oiled machine. Each band member enjoys what they are doing- and it shows! Steve Bailey formed Stevie & the Blue Flames in the early 80’s. Steve has received numerous awards from WBS\, including Best Harmonica\, Best Band and 2015 Hall of Fame Award. Besides playing harp\, he doubles on slide and rhythm guitar. Joining Steve is Steve Blood on guitar with a solid rhythm style and lead chops\, Ray Hartman on bass with a direct soulful style\, Tom Williams laying down on drums and the newest member Dee Smith as the featured vocalist\, who has been a long-time lover of the blues.
URL:https://salmonbayeagles.com/event/stevie-the-blue-flames-3/
LOCATION:Social Room
END:VEVENT
BEGIN:VEVENT
DTSTART;TZID=America/Los_Angeles:20240510T200000
DTEND;TZID=America/Los_Angeles:20240510T200000
DTSTAMP:20260421T134027
CREATED:20240507T210308Z
LAST-MODIFIED:20240507T210308Z
UID:7576-1715371200-1715371200@salmonbayeagles.com
SUMMARY:The Greyhounds
DESCRIPTION:The Grayhounds are a hard-working\, dynamic band known for electrifying performances and soulful tunes. With a unique blend of rock\, blues and funk\, this four-piece band is captivating audiences. The band members are Sean McDermott on lead guitar and vocals\, Cecil Brower on bass and vocals\, Dave Herzog on drums and Geoff Hoye on guitar\, harmonica and vocals.
URL:https://salmonbayeagles.com/event/the-greyhounds/
LOCATION:Social Room
END:VEVENT
BEGIN:VEVENT
DTSTART;TZID=America/Los_Angeles:20240511T200000
DTEND;TZID=America/Los_Angeles:20240511T200000
DTSTAMP:20260421T134027
CREATED:20240507T212251Z
LAST-MODIFIED:20240507T212251Z
UID:7595-1715457600-1715457600@salmonbayeagles.com
SUMMARY:Mark Hurwitz and Gin Creek
DESCRIPTION:Mark Hurwitz and Gin Creek is a two-time nominee for the Washington Blues Society BB Award for Best Band\, and leader Mark Hurwitz\, Keyboards & Vocals\, has been nominated for Best Keys the past two years. Joining Mark is Roger Williamson on Guitar & Vocals\, Patric McDaniel on Bass and Aaron Hennings on Drums. Their music includes elements of swing\, jazz\, soul\, and roots rock\, all played with a strong rhythmic drive that keeps dance floors packed. The band has played at many leading festivals and events\, including the Bite of Seattle and Northwest Folklife.
URL:https://salmonbayeagles.com/event/mark-hurwitz-and-gin-creek/
LOCATION:Social Room
END:VEVENT
BEGIN:VEVENT
DTSTART;TZID=America/Los_Angeles:20240512T160000
DTEND;TZID=America/Los_Angeles:20240512T160000
DTSTAMP:20260421T134027
CREATED:20240507T210347Z
LAST-MODIFIED:20240507T210347Z
UID:7584-1715529600-1715529600@salmonbayeagles.com
SUMMARY:Mother's Day Potlulck
DESCRIPTION:Bring a Mom-favorite dish to share and invite all the great women you know in your life
URL:https://salmonbayeagles.com/event/mothers-day-potlulck/
LOCATION:Social Room
END:VEVENT
BEGIN:VEVENT
DTSTART;TZID=America/Los_Angeles:20240512T170000
DTEND;TZID=America/Los_Angeles:20240512T170000
DTSTAMP:20260421T134027
CREATED:20240507T210359Z
LAST-MODIFIED:20240507T210359Z
UID:7585-1715533200-1715533200@salmonbayeagles.com
SUMMARY:Karaoke hosted by Nick Ackermann
DESCRIPTION:
URL:https://salmonbayeagles.com/event/karaoke-hosted-by-nick-ackermann/
LOCATION:Social Room
END:VEVENT
BEGIN:VEVENT
DTSTART;TZID=America/Los_Angeles:20240515T180000
DTEND;TZID=America/Los_Angeles:20240515T180000
DTSTAMP:20260421T134027
CREATED:20240506T183048Z
LAST-MODIFIED:20240506T183048Z
UID:7559-1715796000-1715796000@salmonbayeagles.com
SUMMARY:Joker Poker
DESCRIPTION:Wednesdays are Poker Joker nights. If no one pulls the Joker\, the pot grows every week. The next winner could be you. HOW TO PLAY: Joker Poker raffles tickets cost $1 each and maybe purchased from the bartender or conductor of the raffle up until 6pm.
URL:https://salmonbayeagles.com/event/joker-poker-86/
LOCATION:Social Room
END:VEVENT
BEGIN:VEVENT
DTSTART;TZID=America/Los_Angeles:20240515T190000
DTEND;TZID=America/Los_Angeles:20240515T190000
DTSTAMP:20260421T134027
CREATED:20240506T183102Z
LAST-MODIFIED:20240506T183102Z
UID:7562-1715799600-1715799600@salmonbayeagles.com
SUMMARY:Aerie Meeting
DESCRIPTION:Aerie meetings are held the first and third Wednesdays of each month at 7:00 P.M. in the Grand Hall on the second floor. Members in good standing are encouraged to attend. Initiation of new members occurs during the meeting held on the 2nd Wednesday of each month.
URL:https://salmonbayeagles.com/event/aerie-meeting-40/
LOCATION:Social Room
END:VEVENT
BEGIN:VEVENT
DTSTART;TZID=America/Los_Angeles:20240515T190000
DTEND;TZID=America/Los_Angeles:20240515T190000
DTSTAMP:20260421T134027
CREATED:20240506T183116Z
LAST-MODIFIED:20240506T183116Z
UID:7564-1715799600-1715799600@salmonbayeagles.com
SUMMARY:Movie Nite
DESCRIPTION:Tremors
URL:https://salmonbayeagles.com/event/movie-nite-13/
LOCATION:Social Room
END:VEVENT
BEGIN:VEVENT
DTSTART;TZID=America/Los_Angeles:20240516T200000
DTEND;TZID=America/Los_Angeles:20240516T200000
DTSTAMP:20260421T134027
CREATED:20240506T183138Z
LAST-MODIFIED:20240506T183138Z
UID:7568-1715889600-1715889600@salmonbayeagles.com
SUMMARY:Mark Shaffer & the Motown Cowbosy
DESCRIPTION:With a lifetime performing at nightclubs\, honky-tonks\, biker bars\, casinos\, weddings\, festivals and private events\, Mark has thrilled audiences with his no holds barred approach to live music\, from rock to country\, pop to new wave\, blues and classic rock\, Mark uses his guitar and strong vocal ability to give his audience what they want: A fun event filled with familiar songs they can dance to. Mark is accompanied by the Motown Cowboys\, Neal Rush on drums and Chris Ferguson on bass.
URL:https://salmonbayeagles.com/event/mark-shaffer-the-motown-cowbosy/
LOCATION:Social Room
END:VEVENT
BEGIN:VEVENT
DTSTART;TZID=America/Los_Angeles:20240517T180000
DTEND;TZID=America/Los_Angeles:20240517T180000
DTSTAMP:20260421T134027
CREATED:20240507T210303Z
LAST-MODIFIED:20240507T210303Z
UID:7575-1715968800-1715968800@salmonbayeagles.com
SUMMARY:Syttende Mai Ballard Parade
DESCRIPTION:
URL:https://salmonbayeagles.com/event/syttende-mai-ballard-parade/
LOCATION:Social Room
END:VEVENT
BEGIN:VEVENT
DTSTART;TZID=America/Los_Angeles:20240517T200000
DTEND;TZID=America/Los_Angeles:20240517T200000
DTSTAMP:20260421T134027
CREATED:20240507T210313Z
LAST-MODIFIED:20240507T210313Z
UID:7577-1715976000-1715976000@salmonbayeagles.com
SUMMARY:House Rocking Three Sheet
DESCRIPTION:The House Rockin’ Three Sheets Blues Band is a Seattle-based group of mature\, seasoned\, musicians with a passion for the blues. Their spokesperson says\, “We were friends before we became a band and we all approach performance from the standpoint of ‘what can I do to help the whole band sound better and create a more memorable experience for the audience. The band takes rockin’ the house to heart\, featuring selections from the traditional blues\, rhythm and blues\, and blues/rock catalogs that inspire the audience to jump up and interact with the music. Don’t forget your dancin’ shoes\, you’re surely going to want them handy when the House Rockin’ Three Sheets Blues Band take the stage.
URL:https://salmonbayeagles.com/event/house-rocking-three-sheet/
LOCATION:Social Room
END:VEVENT
BEGIN:VEVENT
DTSTART;TZID=America/Los_Angeles:20240518T200000
DTEND;TZID=America/Los_Angeles:20240518T200000
DTSTAMP:20260421T134027
CREATED:20240507T212247Z
LAST-MODIFIED:20240507T212247Z
UID:7594-1716062400-1716062400@salmonbayeagles.com
SUMMARY:Criminal Squirrel Orchestra
DESCRIPTION:From greater Seattle comes a band of rabid rollicking rodents\, a band dedicated to the joy music brings to the squirrely soul… – so infectious\, so darn good – they are Criminal Squirrel Orchestra. Four talented\, seasoned musicians playing clever original songs from the pen of Dexter Carlson and Jeff Carolus as well as twisted covers and mash-ups. They bring the party and insist on everyone having a good time. Criminal Squirrel Orchestra is a Seattle area quartet with Dexter Carlson\, composer\, vocals\, guitar; Keith Lyons\, drums and vocals; Ray Krome\, lead guitar and vocals; Pete Smith\, bass and vocals.
URL:https://salmonbayeagles.com/event/criminal-squirrel-orchestra/
LOCATION:Social Room
END:VEVENT
BEGIN:VEVENT
DTSTART;TZID=America/Los_Angeles:20240519T170000
DTEND;TZID=America/Los_Angeles:20240519T170000
DTSTAMP:20260421T134027
CREATED:20240507T210403Z
LAST-MODIFIED:20240507T210403Z
UID:7586-1716138000-1716138000@salmonbayeagles.com
SUMMARY:Open Mic Night with Tony Lease
DESCRIPTION:
URL:https://salmonbayeagles.com/event/open-mic-night-with-tony-lease/
LOCATION:Social Room
END:VEVENT
BEGIN:VEVENT
DTSTART;TZID=America/Los_Angeles:20240522T180000
DTEND;TZID=America/Los_Angeles:20240522T180000
DTSTAMP:20260421T134027
CREATED:20240506T183052Z
LAST-MODIFIED:20240506T183052Z
UID:7560-1716400800-1716400800@salmonbayeagles.com
SUMMARY:Joker Poker
DESCRIPTION:Wednesdays are Poker Joker nights. If no one pulls the Joker\, the pot grows every week. The next winner could be you. HOW TO PLAY: Joker Poker raffles tickets cost $1 each and maybe purchased from the bartender or conductor of the raffle up until 6pm.
URL:https://salmonbayeagles.com/event/joker-poker-87/
LOCATION:Social Room
END:VEVENT
BEGIN:VEVENT
DTSTART;TZID=America/Los_Angeles:20240522T190000
DTEND;TZID=America/Los_Angeles:20240522T190000
DTSTAMP:20260421T134027
CREATED:20240506T183120Z
LAST-MODIFIED:20240506T183120Z
UID:7565-1716404400-1716404400@salmonbayeagles.com
SUMMARY:Movie Nite
DESCRIPTION:Skulls
URL:https://salmonbayeagles.com/event/movie-nite-14/
LOCATION:Social Room
END:VEVENT
BEGIN:VEVENT
DTSTART;TZID=America/Los_Angeles:20240523T190000
DTEND;TZID=America/Los_Angeles:20240523T190000
DTSTAMP:20260421T134027
CREATED:20240506T183154Z
LAST-MODIFIED:20240506T183154Z
UID:7571-1716490800-1716490800@salmonbayeagles.com
SUMMARY:Murphy's Hot Italian Grinders
DESCRIPTION:
URL:https://salmonbayeagles.com/event/murphys-hot-italian-grinders/
LOCATION:Social Room
END:VEVENT
BEGIN:VEVENT
DTSTART;TZID=America/Los_Angeles:20240523T200000
DTEND;TZID=America/Los_Angeles:20240523T200000
DTSTAMP:20260421T134027
CREATED:20240506T183144Z
LAST-MODIFIED:20240506T183144Z
UID:7569-1716494400-1716494400@salmonbayeagles.com
SUMMARY:Johnny Atomic & the Silver Tongued Devils
DESCRIPTION:Live music fans\, come down for a good time and hear some very good music\, Johnny Atomic & the Silver Tongued Devils – Frist up\, John Hanford guitar & vocals who was a member of Tacoma’s Fabulous Wailers. Prior to “The Wailers\,” John worked for singers Kathi McDonald\, L.J. Porter\, and Washington Blues Society Lifetime Awardee\, Patti Allen. Next up\, Tim Scott-bass & vocals\, whose soulful voice and funky bass have graced the stage with many of the most notable names in blues-based music\, including Eric Clapton\, Stevie Wonder\, Billy Preston\, Dr. John\, and John Mayall. Then comes Mike Japp keyboard player and vocalist\, Dr. Jop” has worked on stage and in the studio with Robert Cray\, Elvin Bishop\, B. B. King\, James Brown\, Ernie Watts\, Eddie Harris\, Stanley Turrentine\, and Larry Coryell. Next Devil is Jay Thomas on horns who has also recorded with many heavy-weight players\, most notably Cedar Walton\, Billy Higgins\, Ray Brown\, and Elvin Jones. And last but not least\, drummer extraordinaire Ben Smith on the skins who has performed and/or recorded with Taj Mahal\, Leroy Bell & His Only Friends\, Peter Frampton\, Sugar Pie de Santos\, Cornelius Bumpus\, Danny O’Keefe\, Ernestine Anderson\, among other first-tier artists.
URL:https://salmonbayeagles.com/event/johnny-atomic-the-silver-tongued-devils-9/
LOCATION:Social Room
END:VEVENT
BEGIN:VEVENT
DTSTART;TZID=America/Los_Angeles:20240524T190000
DTEND;TZID=America/Los_Angeles:20240524T190000
DTSTAMP:20260421T134027
CREATED:20240507T210318Z
LAST-MODIFIED:20240507T210318Z
UID:7578-1716577200-1716577200@salmonbayeagles.com
SUMMARY:Murphy's Hot Italian Grinders
DESCRIPTION:Flavorful meats\, cheese and fixings with dessert for $15\, benefit for American Foundation for Suicide Prevention
URL:https://salmonbayeagles.com/event/murphys-hot-italian-grinders-2/
LOCATION:Social Room
END:VEVENT
BEGIN:VEVENT
DTSTART;TZID=America/Los_Angeles:20240524T200000
DTEND;TZID=America/Los_Angeles:20240524T200000
DTSTAMP:20260421T134028
CREATED:20240507T210323Z
LAST-MODIFIED:20240507T210323Z
UID:7579-1716580800-1716580800@salmonbayeagles.com
SUMMARY:Polly O'Keary & They Rhythm Method
DESCRIPTION:Polly O’Keary is today’s blues Woman\, rooted in tradition\, but informed by the 21st Century. Pulling in influences from zydeco\, country\, funk\, jazz\, rockabilly\, surf and rock and roll\, she and her trio\, Polly O’Keary and the Rhythm Method\, bring a searing and joyful performance of today’s blues to audiences across the U.S. and Canada. Polly O’Keary and the Rhythm Method is a trio she built with her husband Tommy Cook\, a three-time winner of WBS Drummer award and David Miller from California\, who one reviewer described his “jaw-dropping guitar licks”. and
URL:https://salmonbayeagles.com/event/polly-okeary-they-rhythm-method/
LOCATION:Social Room
END:VEVENT
BEGIN:VEVENT
DTSTART;TZID=America/Los_Angeles:20240525T190000
DTEND;TZID=America/Los_Angeles:20240525T190000
DTSTAMP:20260421T134028
CREATED:20240507T212243Z
LAST-MODIFIED:20240507T212243Z
UID:7593-1716663600-1716663600@salmonbayeagles.com
SUMMARY:Murphy's Hot Italian Grinders
DESCRIPTION:Flavorful meats\, cheese and fixings with dessert for $15\, benefit for American Foundation for Suicide Prevention
URL:https://salmonbayeagles.com/event/murphys-hot-italian-grinders-3/
LOCATION:Social Room
END:VEVENT
BEGIN:VEVENT
DTSTART;TZID=America/Los_Angeles:20240525T210000
DTEND;TZID=America/Los_Angeles:20240525T210000
DTSTAMP:20260421T134028
CREATED:20240507T212256Z
LAST-MODIFIED:20240507T212256Z
UID:7596-1716670800-1716670800@salmonbayeagles.com
SUMMARY:Blue Healers
DESCRIPTION:Blue Healers is a roots duo based in Snohomish WA. Playing stripped down originals and covers with grit. Don Forsyth is an innovative guitarist with deep blues influences and an unconventional expansive and expressive style. Diane Forsyth is a singer and bass playing songwriter with soul\, folk\, country and interstellar influences. Blue Healers won the 2023 IBC solo/duo category and represented Washington State in Memphis in January 2024. They were also nominated Best Solo/Duo 2022 & 2023; Don was nominated Best Acoustic Blues guitar 2023 by the Washington Blues Society and best blues band by the Seattle Weekly in 2009. They released the full-length album Transmissions in March 2023 and an EP of all original blues songs in Winter 2023.
URL:https://salmonbayeagles.com/event/blue-healers-4/
LOCATION:Social Room
END:VEVENT
BEGIN:VEVENT
DTSTART;TZID=America/Los_Angeles:20240526T170000
DTEND;TZID=America/Los_Angeles:20240526T170000
DTSTAMP:20260421T134028
CREATED:20240507T210407Z
LAST-MODIFIED:20240507T211213Z
UID:7587-1716742800-1716742800@salmonbayeagles.com
SUMMARY:Karaoke hosted by Nick Ackermann
DESCRIPTION:
URL:https://salmonbayeagles.com/event/karaoke-hosted-by-nick-ackermann-2/
LOCATION:Social Room
END:VEVENT
END:VCALENDAR