BEGIN:VCALENDAR
VERSION:2.0
PRODID:-//Salmon Bay Eagles 2141 - ECPv6.15.17.1//NONSGML v1.0//EN
CALSCALE:GREGORIAN
METHOD:PUBLISH
X-WR-CALNAME:Salmon Bay Eagles 2141
X-ORIGINAL-URL:https://salmonbayeagles.com
X-WR-CALDESC:Events for Salmon Bay Eagles 2141
REFRESH-INTERVAL;VALUE=DURATION:PT1H
X-Robots-Tag:noindex
X-PUBLISHED-TTL:PT1H
BEGIN:VTIMEZONE
TZID:America/Los_Angeles
BEGIN:DAYLIGHT
TZOFFSETFROM:-0800
TZOFFSETTO:-0700
TZNAME:PDT
DTSTART:20230312T100000
END:DAYLIGHT
BEGIN:STANDARD
TZOFFSETFROM:-0700
TZOFFSETTO:-0800
TZNAME:PST
DTSTART:20231105T090000
END:STANDARD
BEGIN:DAYLIGHT
TZOFFSETFROM:-0800
TZOFFSETTO:-0700
TZNAME:PDT
DTSTART:20240310T100000
END:DAYLIGHT
BEGIN:STANDARD
TZOFFSETFROM:-0700
TZOFFSETTO:-0800
TZNAME:PST
DTSTART:20241103T090000
END:STANDARD
BEGIN:DAYLIGHT
TZOFFSETFROM:-0800
TZOFFSETTO:-0700
TZNAME:PDT
DTSTART:20250309T100000
END:DAYLIGHT
BEGIN:STANDARD
TZOFFSETFROM:-0700
TZOFFSETTO:-0800
TZNAME:PST
DTSTART:20251102T090000
END:STANDARD
END:VTIMEZONE
BEGIN:VEVENT
DTSTART;TZID=America/Los_Angeles:20240523T200000
DTEND;TZID=America/Los_Angeles:20240523T200000
DTSTAMP:20260421T161526
CREATED:20240506T183144Z
LAST-MODIFIED:20240506T183144Z
UID:7569-1716494400-1716494400@salmonbayeagles.com
SUMMARY:Johnny Atomic & the Silver Tongued Devils
DESCRIPTION:Live music fans\, come down for a good time and hear some very good music\, Johnny Atomic & the Silver Tongued Devils – Frist up\, John Hanford guitar & vocals who was a member of Tacoma’s Fabulous Wailers. Prior to “The Wailers\,” John worked for singers Kathi McDonald\, L.J. Porter\, and Washington Blues Society Lifetime Awardee\, Patti Allen. Next up\, Tim Scott-bass & vocals\, whose soulful voice and funky bass have graced the stage with many of the most notable names in blues-based music\, including Eric Clapton\, Stevie Wonder\, Billy Preston\, Dr. John\, and John Mayall. Then comes Mike Japp keyboard player and vocalist\, Dr. Jop” has worked on stage and in the studio with Robert Cray\, Elvin Bishop\, B. B. King\, James Brown\, Ernie Watts\, Eddie Harris\, Stanley Turrentine\, and Larry Coryell. Next Devil is Jay Thomas on horns who has also recorded with many heavy-weight players\, most notably Cedar Walton\, Billy Higgins\, Ray Brown\, and Elvin Jones. And last but not least\, drummer extraordinaire Ben Smith on the skins who has performed and/or recorded with Taj Mahal\, Leroy Bell & His Only Friends\, Peter Frampton\, Sugar Pie de Santos\, Cornelius Bumpus\, Danny O’Keefe\, Ernestine Anderson\, among other first-tier artists.
URL:https://salmonbayeagles.com/event/johnny-atomic-the-silver-tongued-devils-9/
LOCATION:Social Room
END:VEVENT
BEGIN:VEVENT
DTSTART;TZID=America/Los_Angeles:20240524T190000
DTEND;TZID=America/Los_Angeles:20240524T190000
DTSTAMP:20260421T161526
CREATED:20240507T210318Z
LAST-MODIFIED:20240507T210318Z
UID:7578-1716577200-1716577200@salmonbayeagles.com
SUMMARY:Murphy's Hot Italian Grinders
DESCRIPTION:Flavorful meats\, cheese and fixings with dessert for $15\, benefit for American Foundation for Suicide Prevention
URL:https://salmonbayeagles.com/event/murphys-hot-italian-grinders-2/
LOCATION:Social Room
END:VEVENT
BEGIN:VEVENT
DTSTART;TZID=America/Los_Angeles:20240524T200000
DTEND;TZID=America/Los_Angeles:20240524T200000
DTSTAMP:20260421T161526
CREATED:20240507T210323Z
LAST-MODIFIED:20240507T210323Z
UID:7579-1716580800-1716580800@salmonbayeagles.com
SUMMARY:Polly O'Keary & They Rhythm Method
DESCRIPTION:Polly O’Keary is today’s blues Woman\, rooted in tradition\, but informed by the 21st Century. Pulling in influences from zydeco\, country\, funk\, jazz\, rockabilly\, surf and rock and roll\, she and her trio\, Polly O’Keary and the Rhythm Method\, bring a searing and joyful performance of today’s blues to audiences across the U.S. and Canada. Polly O’Keary and the Rhythm Method is a trio she built with her husband Tommy Cook\, a three-time winner of WBS Drummer award and David Miller from California\, who one reviewer described his “jaw-dropping guitar licks”. and
URL:https://salmonbayeagles.com/event/polly-okeary-they-rhythm-method/
LOCATION:Social Room
END:VEVENT
BEGIN:VEVENT
DTSTART;TZID=America/Los_Angeles:20240525T190000
DTEND;TZID=America/Los_Angeles:20240525T190000
DTSTAMP:20260421T161526
CREATED:20240507T212243Z
LAST-MODIFIED:20240507T212243Z
UID:7593-1716663600-1716663600@salmonbayeagles.com
SUMMARY:Murphy's Hot Italian Grinders
DESCRIPTION:Flavorful meats\, cheese and fixings with dessert for $15\, benefit for American Foundation for Suicide Prevention
URL:https://salmonbayeagles.com/event/murphys-hot-italian-grinders-3/
LOCATION:Social Room
END:VEVENT
BEGIN:VEVENT
DTSTART;TZID=America/Los_Angeles:20240525T210000
DTEND;TZID=America/Los_Angeles:20240525T210000
DTSTAMP:20260421T161526
CREATED:20240507T212256Z
LAST-MODIFIED:20240507T212256Z
UID:7596-1716670800-1716670800@salmonbayeagles.com
SUMMARY:Blue Healers
DESCRIPTION:Blue Healers is a roots duo based in Snohomish WA. Playing stripped down originals and covers with grit. Don Forsyth is an innovative guitarist with deep blues influences and an unconventional expansive and expressive style. Diane Forsyth is a singer and bass playing songwriter with soul\, folk\, country and interstellar influences. Blue Healers won the 2023 IBC solo/duo category and represented Washington State in Memphis in January 2024. They were also nominated Best Solo/Duo 2022 & 2023; Don was nominated Best Acoustic Blues guitar 2023 by the Washington Blues Society and best blues band by the Seattle Weekly in 2009. They released the full-length album Transmissions in March 2023 and an EP of all original blues songs in Winter 2023.
URL:https://salmonbayeagles.com/event/blue-healers-4/
LOCATION:Social Room
END:VEVENT
BEGIN:VEVENT
DTSTART;TZID=America/Los_Angeles:20240526T170000
DTEND;TZID=America/Los_Angeles:20240526T170000
DTSTAMP:20260421T161526
CREATED:20240507T210407Z
LAST-MODIFIED:20240507T211213Z
UID:7587-1716742800-1716742800@salmonbayeagles.com
SUMMARY:Karaoke hosted by Nick Ackermann
DESCRIPTION:
URL:https://salmonbayeagles.com/event/karaoke-hosted-by-nick-ackermann-2/
LOCATION:Social Room
END:VEVENT
BEGIN:VEVENT
DTSTART;TZID=America/Los_Angeles:20240529T180000
DTEND;TZID=America/Los_Angeles:20240529T180000
DTSTAMP:20260421T161526
CREATED:20240506T183058Z
LAST-MODIFIED:20240506T183058Z
UID:7561-1717005600-1717005600@salmonbayeagles.com
SUMMARY:Joker Poker
DESCRIPTION:Wednesdays are Poker Joker nights. If no one pulls the Joker\, the pot grows every week. The next winner could be you. HOW TO PLAY: Joker Poker raffles tickets cost $1 each and maybe purchased from the bartender or conductor of the raffle up until 6pm.
URL:https://salmonbayeagles.com/event/joker-poker-88/
LOCATION:Social Room
END:VEVENT
BEGIN:VEVENT
DTSTART;TZID=America/Los_Angeles:20240529T190000
DTEND;TZID=America/Los_Angeles:20240529T190000
DTSTAMP:20260421T161526
CREATED:20240506T183125Z
LAST-MODIFIED:20240506T183125Z
UID:7566-1717009200-1717009200@salmonbayeagles.com
SUMMARY:Movie Nite
DESCRIPTION:TBD
URL:https://salmonbayeagles.com/event/movie-nite-15/
LOCATION:Social Room
END:VEVENT
BEGIN:VEVENT
DTSTART;TZID=America/Los_Angeles:20240530T190000
DTEND;TZID=America/Los_Angeles:20240530T190000
DTSTAMP:20260421T161526
CREATED:20240507T210411Z
LAST-MODIFIED:20240507T210411Z
UID:7588-1717095600-1717095600@salmonbayeagles.com
SUMMARY:Judy's Seafood Louie
DESCRIPTION:Either crab or shrimp for $15\, benefits the Ballard Food Bank
URL:https://salmonbayeagles.com/event/judys-seafood-louie-2/
LOCATION:Social Room
END:VEVENT
BEGIN:VEVENT
DTSTART;TZID=America/Los_Angeles:20240530T200000
DTEND;TZID=America/Los_Angeles:20240530T200000
DTSTAMP:20260421T161526
CREATED:20240506T183148Z
LAST-MODIFIED:20240506T183148Z
UID:7570-1717099200-1717099200@salmonbayeagles.com
SUMMARY:Salmon Dan's Jam
DESCRIPTION:Salmon Dan (Dan Abernethy) will host a monthly jam\, the last Thursday of every month. With Billy Reed (piano)\, Marty Vadalabene (drums) and Walter White (bass) laying down the groove\, professional and aspiring blues players alike are invited to join in. Informal\, yet organized\, Salmon Dan’s Jam promises to revive and carry on this cool Salmon Bay Eagles tradition. See you there!
URL:https://salmonbayeagles.com/event/salmon-dans-jam-4/
LOCATION:Social Room
END:VEVENT
BEGIN:VEVENT
DTSTART;TZID=America/Los_Angeles:20240531T190000
DTEND;TZID=America/Los_Angeles:20240531T190000
DTSTAMP:20260421T161526
CREATED:20240507T210329Z
LAST-MODIFIED:20240507T210329Z
UID:7580-1717182000-1717182000@salmonbayeagles.com
SUMMARY:Mama's Jerk Chicken
DESCRIPTION:Celebrating Gemini birthdays\, Mama makes her signature Jerk Chicken and Jamaican Rice\, $14\, benefits Center for Dementia Research
URL:https://salmonbayeagles.com/event/mamas-jerk-chicken/
LOCATION:Social Room
END:VEVENT
BEGIN:VEVENT
DTSTART;TZID=America/Los_Angeles:20240531T200000
DTEND;TZID=America/Los_Angeles:20240531T200000
DTSTAMP:20260421T161526
CREATED:20240507T210334Z
LAST-MODIFIED:20240507T210334Z
UID:7581-1717185600-1717185600@salmonbayeagles.com
SUMMARY:Spider Lounge Band
DESCRIPTION:With a funky rhythm section stock\, zesty layer of brass\, and a side of blazin’ hot guitars\, this horn driven band performs their own brand of funk\, jazz and more from Miles Davis to Tower of Power and all points in between. Members include\, Andreas Stollar guitar and vocals\, Bret Glidewell bass\, Chris Lenk guitar\, Dan Jeanotte tenor sax\, Sean Jensen baritone sax\, Cameron Nakatani trumpet and Dean DeShelter drums.
URL:https://salmonbayeagles.com/event/spider-lounge-band/
LOCATION:Social Room
END:VEVENT
BEGIN:VEVENT
DTSTART;TZID=America/Los_Angeles:20240601T190000
DTEND;TZID=America/Los_Angeles:20240601T190000
DTSTAMP:20260421T161526
CREATED:20240507T210338Z
LAST-MODIFIED:20240507T210338Z
UID:7582-1717268400-1717268400@salmonbayeagles.com
SUMMARY:Judy's Seafood Louie
DESCRIPTION:Either crab or shrip for $15\, benefits the Ballard Food Bank
URL:https://salmonbayeagles.com/event/judys-seafood-louie/
LOCATION:Social Room
END:VEVENT
BEGIN:VEVENT
DTSTART;TZID=America/Los_Angeles:20240601T200000
DTEND;TZID=America/Los_Angeles:20240601T200000
DTSTAMP:20260421T161526
CREATED:20240507T210342Z
LAST-MODIFIED:20240507T212300Z
UID:7583-1717272000-1717272000@salmonbayeagles.com
SUMMARY:Dain Norman & The Chrysalis Effect
DESCRIPTION:Dain Norman & The Chrysalis Effect—an original\, modern take on classic rock n’ roll\, with 1950s rock and blues\, heavy 1960s British invasion and soul\, and 1970s hard rock influences\, blended with modern indie rock themes. Band members include Dain Norman – Guitar & Vocals\, TJ Wolfe – Drums and Deny Be – Bass & Backing Vocals
URL:https://salmonbayeagles.com/event/dain-norman-the-chrysalis-effect-6/
LOCATION:Social Room
END:VEVENT
BEGIN:VEVENT
DTSTART;TZID=America/Los_Angeles:20240602T170000
DTEND;TZID=America/Los_Angeles:20240602T170000
DTSTAMP:20260421T161526
CREATED:20240603T225137Z
LAST-MODIFIED:20240603T225137Z
UID:7611-1717347600-1717347600@salmonbayeagles.com
SUMMARY:Open Mic Night with host Helen Burn
DESCRIPTION:We have Open Mic Night this Sunday\, June 2! Helen Burn and guests will be hosting fabulous local talent from all over the state. Come bring your instrument(s) and your enthusiasm to jam. Performances run from 5pm-7pm. It’s going to be a fun!
URL:https://salmonbayeagles.com/event/open-mic-night-with-host-helen-burn/
LOCATION:Social Room
END:VEVENT
BEGIN:VEVENT
DTSTART;TZID=America/Los_Angeles:20240605T180000
DTEND;TZID=America/Los_Angeles:20240605T180000
DTSTAMP:20260421T161526
CREATED:20240603T225142Z
LAST-MODIFIED:20240603T225142Z
UID:7612-1717610400-1717610400@salmonbayeagles.com
SUMMARY:Joker Poker
DESCRIPTION:Wednesdays are Poker Joker nights. If no one pulls the Joker\, the pot grows every week. The next winner could be you. HOW TO PLAY: Joker Poker raffles tickets cost $1 each and maybe purchased from the bartender or conductor of the raffle up until 6pm.
URL:https://salmonbayeagles.com/event/joker-poker-89/
LOCATION:Social Room
END:VEVENT
BEGIN:VEVENT
DTSTART;TZID=America/Los_Angeles:20240605T180000
DTEND;TZID=America/Los_Angeles:20240605T180000
DTSTAMP:20260421T161526
CREATED:20240603T225146Z
LAST-MODIFIED:20240603T225449Z
UID:7613-1717610400-1717610400@salmonbayeagles.com
SUMMARY:Calendar Mtg
DESCRIPTION:Calendar meetings occur on the first Wednesday of the month at 6pm in the game room. This monthly meeting communicates upcoming events and volunteer needs to members.
URL:https://salmonbayeagles.com/event/calendar-meetings-2/
LOCATION:Social Room
END:VEVENT
BEGIN:VEVENT
DTSTART;TZID=America/Los_Angeles:20240605T190000
DTEND;TZID=America/Los_Angeles:20240605T190000
DTSTAMP:20260421T161526
CREATED:20240603T225152Z
LAST-MODIFIED:20240603T225152Z
UID:7614-1717614000-1717614000@salmonbayeagles.com
SUMMARY:Movie Nite
DESCRIPTION:Independence Day
URL:https://salmonbayeagles.com/event/movie-nite-16/
LOCATION:Social Room
END:VEVENT
BEGIN:VEVENT
DTSTART;TZID=America/Los_Angeles:20240605T190000
DTEND;TZID=America/Los_Angeles:20240605T190000
DTSTAMP:20260421T161526
CREATED:20240603T225156Z
LAST-MODIFIED:20240603T225156Z
UID:7615-1717614000-1717614000@salmonbayeagles.com
SUMMARY:Aerie Meeting
DESCRIPTION:Aerie meetings are held the first and third Wednesdays of each month at 7:00 P.M. in the Grand Hall on the second floor. Members in good standing are encouraged to attend. Initiation of new members occurs during the meeting held on the 2nd Wednesday of each month.
URL:https://salmonbayeagles.com/event/aerie-meeting-41/
LOCATION:Social Room
END:VEVENT
BEGIN:VEVENT
DTSTART;TZID=America/Los_Angeles:20240606T190000
DTEND;TZID=America/Los_Angeles:20240606T190000
DTSTAMP:20260421T161526
CREATED:20240603T225207Z
LAST-MODIFIED:20240603T225207Z
UID:7616-1717700400-1717700400@salmonbayeagles.com
SUMMARY:Muphy's Pulled Pork Sandwiches
DESCRIPTION:Murphy is making her famous Pulled Pork Sandwiches with picnic sides plus dessert for $15.
URL:https://salmonbayeagles.com/event/muphys-pulled-pork-sandwiches/
LOCATION:Social Room
END:VEVENT
BEGIN:VEVENT
DTSTART;TZID=America/Los_Angeles:20240606T200000
DTEND;TZID=America/Los_Angeles:20240606T200000
DTSTAMP:20260421T161526
CREATED:20240603T225211Z
LAST-MODIFIED:20240603T225211Z
UID:7617-1717704000-1717704000@salmonbayeagles.com
SUMMARY:Women's Rockin' Blues Jam
DESCRIPTION:The ladies will rock the house for all of you music lovers out there. Cheri Adams is your very talented host along with her core band.
URL:https://salmonbayeagles.com/event/womens-rockin-blues-jam/
LOCATION:Social Room
END:VEVENT
BEGIN:VEVENT
DTSTART;TZID=America/Los_Angeles:20240607T190000
DTEND;TZID=America/Los_Angeles:20240607T190000
DTSTAMP:20260421T161526
CREATED:20240603T225215Z
LAST-MODIFIED:20240603T225215Z
UID:7618-1717786800-1717786800@salmonbayeagles.com
SUMMARY:Muphy's Pulled Pork Sandwiches
DESCRIPTION:Murphy is making her famous Pulled Pork Sandwiches with picnic sides plus dessert for $15.
URL:https://salmonbayeagles.com/event/muphys-pulled-pork-sandwiches-2/
LOCATION:Social Room
END:VEVENT
BEGIN:VEVENT
DTSTART;TZID=America/Los_Angeles:20240607T200000
DTEND;TZID=America/Los_Angeles:20240607T200000
DTSTAMP:20260421T161526
CREATED:20240603T225219Z
LAST-MODIFIED:20240603T225219Z
UID:7619-1717790400-1717790400@salmonbayeagles.com
SUMMARY:Burn Band
DESCRIPTION:Burn Band is driven by the dynamic vocalist and keyboardist Helen Burn with deep roots in both Seattle and Ann Arbor. Together with co-founder Pavel Shepp on drums\, Randy Cole on bass and Alexis Mauer on guitar\, Burn Band has cultivated a signature blend of pop\, jazz\, and blues\, characterized by original compositions and timeless classics.
URL:https://salmonbayeagles.com/event/burn-band/
LOCATION:Social Room
END:VEVENT
BEGIN:VEVENT
DTSTART;TZID=America/Los_Angeles:20240608T170000
DTEND;TZID=America/Los_Angeles:20240608T170000
DTSTAMP:20260421T161526
CREATED:20240603T225224Z
LAST-MODIFIED:20240603T225224Z
UID:7620-1717866000-1717866000@salmonbayeagles.com
SUMMARY:New Officers & Pin Ceremony
DESCRIPTION:Join us for a special event Saturday\, June 8 honoring traditions\, recognizing members\, and celebrating the brotherhood and sisterhood of our fraternity.
URL:https://salmonbayeagles.com/event/new-officers-pin-ceremony/
LOCATION:Social Room
END:VEVENT
BEGIN:VEVENT
DTSTART;TZID=America/Los_Angeles:20240608T180000
DTEND;TZID=America/Los_Angeles:20240608T180000
DTSTAMP:20260421T161526
CREATED:20240603T225229Z
LAST-MODIFIED:20240603T225229Z
UID:7621-1717869600-1717869600@salmonbayeagles.com
SUMMARY:Muphy's Pulled Pork Sandwiches
DESCRIPTION:Murphy is making her famous Pulled Pork Sandwiches with picnic sides plus dessert for $15.
URL:https://salmonbayeagles.com/event/muphys-pulled-pork-sandwiches-3/
LOCATION:Social Room
END:VEVENT
BEGIN:VEVENT
DTSTART;TZID=America/Los_Angeles:20240608T200000
DTEND;TZID=America/Los_Angeles:20240608T200000
DTSTAMP:20260421T161526
CREATED:20240603T225234Z
LAST-MODIFIED:20240603T225234Z
UID:7622-1717876800-1717876800@salmonbayeagles.com
SUMMARY:Pinetree Music Collective
DESCRIPTION:John Pinetree & The YellinÕ Degenerates are an eclectic collective of musicians who blend genres and decades of the American musical experience. Jazz\, blues\, funk\, soul\, and all world music are considered in the writing and curating of the music performed.
URL:https://salmonbayeagles.com/event/pinetree-music-collective/
LOCATION:Social Room
END:VEVENT
BEGIN:VEVENT
DTSTART;TZID=America/Los_Angeles:20240609T150000
DTEND;TZID=America/Los_Angeles:20240609T150000
DTSTAMP:20260421T161526
CREATED:20240603T225239Z
LAST-MODIFIED:20240603T225239Z
UID:7623-1717945200-1717945200@salmonbayeagles.com
SUMMARY:U Co-op Rocks! School Benefit
DESCRIPTION:University Cooperative School or U Co-op is holding a benefit to raise money for school programs benefiting pre-K and elementary school-aged children. This benefit will showcase student musical talents and should be a rousing good time! Tickets are $12 and can be purchased here: https://m.bpt.me/event/6270205
URL:https://salmonbayeagles.com/event/u-co-op-rocks-school-benefit/
LOCATION:Social Room
END:VEVENT
BEGIN:VEVENT
DTSTART;TZID=America/Los_Angeles:20240612T180000
DTEND;TZID=America/Los_Angeles:20240612T180000
DTSTAMP:20260421T161526
CREATED:20240603T225244Z
LAST-MODIFIED:20240603T225244Z
UID:7624-1718215200-1718215200@salmonbayeagles.com
SUMMARY:Joker Poker
DESCRIPTION:Wednesdays are Poker Joker nights. If no one pulls the Joker\, the pot grows every week. The next winner could be you. HOW TO PLAY: Joker Poker raffles tickets cost $1 each and maybe purchased from the bartender or conductor of the raffle up until 6pm.
URL:https://salmonbayeagles.com/event/joker-poker-90/
LOCATION:Social Room
END:VEVENT
BEGIN:VEVENT
DTSTART;TZID=America/Los_Angeles:20240612T190000
DTEND;TZID=America/Los_Angeles:20240612T190000
DTSTAMP:20260421T161526
CREATED:20240603T225249Z
LAST-MODIFIED:20240603T225249Z
UID:7625-1718218800-1718218800@salmonbayeagles.com
SUMMARY:Movie Nite
DESCRIPTION:Air Force One
URL:https://salmonbayeagles.com/event/movie-nite-17/
LOCATION:Social Room
END:VEVENT
BEGIN:VEVENT
DTSTART;TZID=America/Los_Angeles:20240613T200000
DTEND;TZID=America/Los_Angeles:20240613T200000
DTSTAMP:20260421T161526
CREATED:20240603T225255Z
LAST-MODIFIED:20240603T225255Z
UID:7626-1718308800-1718308800@salmonbayeagles.com
SUMMARY:Chris Stevens Band
DESCRIPTION:Chris Stevens has long been a favorite of Northwest blues fans and SBE. Preferring to deliver his electric blues lines with the rich tones of a big Gibson arch-top guitar\, Chris combines scorching blues feeling with dazzling chops and constantly surprising musical ideas at every show.
URL:https://salmonbayeagles.com/event/chris-stevens-band-7/
LOCATION:Social Room
END:VEVENT
END:VCALENDAR