BEGIN:VCALENDAR
VERSION:2.0
PRODID:-//Salmon Bay Eagles 2141 - ECPv6.15.17.1//NONSGML v1.0//EN
CALSCALE:GREGORIAN
METHOD:PUBLISH
X-WR-CALNAME:Salmon Bay Eagles 2141
X-ORIGINAL-URL:https://salmonbayeagles.com
X-WR-CALDESC:Events for Salmon Bay Eagles 2141
REFRESH-INTERVAL;VALUE=DURATION:PT1H
X-Robots-Tag:noindex
X-PUBLISHED-TTL:PT1H
BEGIN:VTIMEZONE
TZID:America/Los_Angeles
BEGIN:DAYLIGHT
TZOFFSETFROM:-0800
TZOFFSETTO:-0700
TZNAME:PDT
DTSTART:20230312T100000
END:DAYLIGHT
BEGIN:STANDARD
TZOFFSETFROM:-0700
TZOFFSETTO:-0800
TZNAME:PST
DTSTART:20231105T090000
END:STANDARD
BEGIN:DAYLIGHT
TZOFFSETFROM:-0800
TZOFFSETTO:-0700
TZNAME:PDT
DTSTART:20240310T100000
END:DAYLIGHT
BEGIN:STANDARD
TZOFFSETFROM:-0700
TZOFFSETTO:-0800
TZNAME:PST
DTSTART:20241103T090000
END:STANDARD
BEGIN:DAYLIGHT
TZOFFSETFROM:-0800
TZOFFSETTO:-0700
TZNAME:PDT
DTSTART:20250309T100000
END:DAYLIGHT
BEGIN:STANDARD
TZOFFSETFROM:-0700
TZOFFSETTO:-0800
TZNAME:PST
DTSTART:20251102T090000
END:STANDARD
END:VTIMEZONE
BEGIN:VEVENT
DTSTART;TZID=America/Los_Angeles:20241003T200000
DTEND;TZID=America/Los_Angeles:20241003T200000
DTSTAMP:20260422T090653
CREATED:20240911T171926Z
LAST-MODIFIED:20240911T171926Z
UID:7835-1727985600-1727985600@salmonbayeagles.com
SUMMARY:Women’s Rockin’ Blues Jam hosted by Cheri Adams
DESCRIPTION:
URL:https://salmonbayeagles.com/event/womens-rockin-blues-jam-hosted-by-cheri-adams/
END:VEVENT
BEGIN:VEVENT
DTSTART;TZID=America/Los_Angeles:20241004T190000
DTEND;TZID=America/Los_Angeles:20241004T190000
DTSTAMP:20260422T090653
CREATED:20241003T003700Z
LAST-MODIFIED:20241003T003700Z
UID:7851-1728068400-1728068400@salmonbayeagles.com
SUMMARY:Pizza Slices
DESCRIPTION:The first week of October\, weÕre offer up your choice of Cheese or Pepperoni Pizza during the show for cheap\, cheap\, cheap.
URL:https://salmonbayeagles.com/event/pizza-slices-2/
LOCATION:Social Room
END:VEVENT
BEGIN:VEVENT
DTSTART;TZID=America/Los_Angeles:20241004T200000
DTEND;TZID=America/Los_Angeles:20241004T200000
DTSTAMP:20260422T090653
CREATED:20240909T034923Z
LAST-MODIFIED:20240909T034923Z
UID:7808-1728072000-1728072000@salmonbayeagles.com
SUMMARY:The Everlovers
DESCRIPTION:
URL:https://salmonbayeagles.com/event/the-everlovers/
LOCATION:Social Room
END:VEVENT
BEGIN:VEVENT
DTSTART;TZID=America/Los_Angeles:20241005T190000
DTEND;TZID=America/Los_Angeles:20241005T190000
DTSTAMP:20260422T090653
CREATED:20241003T003705Z
LAST-MODIFIED:20241003T003705Z
UID:7852-1728154800-1728154800@salmonbayeagles.com
SUMMARY:Pizza Slices
DESCRIPTION:The first week of October\, weÕre offer up your choice of Cheese or Pepperoni Pizza during the show for cheap\, cheap\, cheap.
URL:https://salmonbayeagles.com/event/pizza-slices-3/
LOCATION:Social Room
END:VEVENT
BEGIN:VEVENT
DTSTART;TZID=America/Los_Angeles:20241005T200000
DTEND;TZID=America/Los_Angeles:20241005T200000
DTSTAMP:20260422T090653
CREATED:20240909T034926Z
LAST-MODIFIED:20240911T171512Z
UID:7809-1728158400-1728158400@salmonbayeagles.com
SUMMARY:Annie Eastwood
DESCRIPTION:
URL:https://salmonbayeagles.com/event/annie-eastwood/
LOCATION:Social Room
END:VEVENT
BEGIN:VEVENT
DTSTART;TZID=America/Los_Angeles:20241009T180000
DTEND;TZID=America/Los_Angeles:20241009T180000
DTSTAMP:20260422T090653
CREATED:20241003T003836Z
LAST-MODIFIED:20241003T003836Z
UID:7873-1728496800-1728496800@salmonbayeagles.com
SUMMARY:Joker Poker
DESCRIPTION:Joker Poker is a game where a player turns over a card from a deck of 52 cards and one joker to win a cash prize. If the player doesn’t turn over the joker\, the cash prize increases for the next round.
URL:https://salmonbayeagles.com/event/joker-poker-107/
LOCATION:Social Room
END:VEVENT
BEGIN:VEVENT
DTSTART;TZID=America/Los_Angeles:20241009T181500
DTEND;TZID=America/Los_Angeles:20241009T181500
DTSTAMP:20260422T090653
CREATED:20241003T003839Z
LAST-MODIFIED:20241003T003839Z
UID:7874-1728497700-1728497700@salmonbayeagles.com
SUMMARY:Trustee Meeting
DESCRIPTION:
URL:https://salmonbayeagles.com/event/trustee-meeting-23/
LOCATION:Social Room
END:VEVENT
BEGIN:VEVENT
DTSTART;TZID=America/Los_Angeles:20241009T190000
DTEND;TZID=America/Los_Angeles:20241009T190000
DTSTAMP:20260422T090653
CREATED:20241003T003842Z
LAST-MODIFIED:20241003T003842Z
UID:7875-1728500400-1728500400@salmonbayeagles.com
SUMMARY:Movie Night
DESCRIPTION:Silence of the Lambs
URL:https://salmonbayeagles.com/event/movie-night-53/
LOCATION:Social Room
END:VEVENT
BEGIN:VEVENT
DTSTART;TZID=America/Los_Angeles:20241010T190000
DTEND;TZID=America/Los_Angeles:20241010T190000
DTSTAMP:20260422T090653
CREATED:20241003T003711Z
LAST-MODIFIED:20241004T041754Z
UID:7854-1728586800-1728586800@salmonbayeagles.com
SUMMARY:Murphy's Lasagna Dinner
DESCRIPTION:Murphy will be making a hearty Lasagna with salad\, bread and dessert for $15.
URL:https://salmonbayeagles.com/event/murphys-lasagna-dinner/
LOCATION:Social Room
END:VEVENT
BEGIN:VEVENT
DTSTART;TZID=America/Los_Angeles:20241010T200000
DTEND;TZID=America/Los_Angeles:20241010T200000
DTSTAMP:20260422T090653
CREATED:20241003T003708Z
LAST-MODIFIED:20241003T003708Z
UID:7853-1728590400-1728590400@salmonbayeagles.com
SUMMARY:Stevie & the Blue Flames
DESCRIPTION:Stevie and the Blue Flames is a band of veteran musicians who still perform with a lot of positive energy.  With a tight rhythm section and dynamic soloists\, they are a well-oiled machine.  Each band member enjoys what they are doing- and it shows!
URL:https://salmonbayeagles.com/event/stevie-the-blue-flames-5/
LOCATION:Social Room
END:VEVENT
BEGIN:VEVENT
DTSTART;TZID=America/Los_Angeles:20241011T190000
DTEND;TZID=America/Los_Angeles:20241011T190000
DTSTAMP:20260422T090653
CREATED:20241003T003716Z
LAST-MODIFIED:20241004T041741Z
UID:7855-1728673200-1728673200@salmonbayeagles.com
SUMMARY:Murphy's Lasagna Dinner
DESCRIPTION:Murphy will be making a hearty Lasagna with salad\, bread and dessert for $15.
URL:https://salmonbayeagles.com/event/murphys-lasagna-dinner-2/
LOCATION:Social Room
END:VEVENT
BEGIN:VEVENT
DTSTART;TZID=America/Los_Angeles:20241011T200000
DTEND;TZID=America/Los_Angeles:20241011T200000
DTSTAMP:20260422T090653
CREATED:20241003T003753Z
LAST-MODIFIED:20241004T042538Z
UID:7862-1728676800-1728676800@salmonbayeagles.com
SUMMARY:Red House
DESCRIPTION:Red House is a dynamic band based in the Seattle/Tacoma area\, featuring an impressive lineup: drummer Robin Crane\, harmonica player John Deely\, keyboardist Mike Japp\, guitarist Mark Noftsger\, and bassist Tim Scott. While they are rooted in the blues\, Red House transcends genres\, incorporating elements of R&B\, soul\, funk\, and even jazz into their music. With five of the finest musicians and vocalists in the Northwest\, they play with passion and authenticity\, delivering a unique sound that reflects their diverse influences. Red House is not just a blues band; they play what they love and do it their way!
URL:https://salmonbayeagles.com/event/red-house-7/
LOCATION:Social Room
END:VEVENT
BEGIN:VEVENT
DTSTART;TZID=America/Los_Angeles:20241012T190000
DTEND;TZID=America/Los_Angeles:20241012T190000
DTSTAMP:20260422T090653
CREATED:20241003T003719Z
LAST-MODIFIED:20241004T041730Z
UID:7856-1728759600-1728759600@salmonbayeagles.com
SUMMARY:Murphy's Lasagna Dinner
DESCRIPTION:Murphy will be making a hearty Lasagna with salad\, bread and dessert for $15.
URL:https://salmonbayeagles.com/event/murphys-lasagna-dinner-3/
LOCATION:Social Room
END:VEVENT
BEGIN:VEVENT
DTSTART;TZID=America/Los_Angeles:20241012T200000
DTEND;TZID=America/Los_Angeles:20241012T200000
DTSTAMP:20260422T090653
CREATED:20241003T003759Z
LAST-MODIFIED:20241003T003759Z
UID:7863-1728763200-1728763200@salmonbayeagles.com
SUMMARY:Ryan T Higgins Band
DESCRIPTION:Ryan T Higgins is a seasoned musician and guitar builder from the Pacific NW\, renowned for his captivating blend of rock\, blues\, jam and roots music.  Ryan brings the sonic rock blues straight to your ears with tons of endless energy and that perfect sort of swagger that gets you hook right from the get-go.
URL:https://salmonbayeagles.com/event/ryan-t-higgins-band/
LOCATION:Social Room
END:VEVENT
BEGIN:VEVENT
DTSTART;TZID=America/Los_Angeles:20241016T180000
DTEND;TZID=America/Los_Angeles:20241016T180000
DTSTAMP:20260422T090653
CREATED:20241003T003845Z
LAST-MODIFIED:20241003T003845Z
UID:7876-1729101600-1729101600@salmonbayeagles.com
SUMMARY:Joker Poker
DESCRIPTION:Joker Poker is a game where a player turns over a card from a deck of 52 cards and one joker to win a cash prize. If the player doesn’t turn over the joker\, the cash prize increases for the next round.
URL:https://salmonbayeagles.com/event/joker-poker-108/
LOCATION:Social Room
END:VEVENT
BEGIN:VEVENT
DTSTART;TZID=America/Los_Angeles:20241016T181500
DTEND;TZID=America/Los_Angeles:20241016T181500
DTSTAMP:20260422T090653
CREATED:20241003T003852Z
LAST-MODIFIED:20241003T003852Z
UID:7878-1729102500-1729102500@salmonbayeagles.com
SUMMARY:Trustee Meeting
DESCRIPTION:
URL:https://salmonbayeagles.com/event/trustee-meeting-24/
LOCATION:Social Room
END:VEVENT
BEGIN:VEVENT
DTSTART;TZID=America/Los_Angeles:20241016T190000
DTEND;TZID=America/Los_Angeles:20241016T190000
DTSTAMP:20260422T090653
CREATED:20241003T003848Z
LAST-MODIFIED:20241003T003848Z
UID:7877-1729105200-1729105200@salmonbayeagles.com
SUMMARY:Aerie Meeting
DESCRIPTION:
URL:https://salmonbayeagles.com/event/aerie-meeting-50/
LOCATION:Social Room
END:VEVENT
BEGIN:VEVENT
DTSTART;TZID=America/Los_Angeles:20241016T190000
DTEND;TZID=America/Los_Angeles:20241016T190000
DTSTAMP:20260422T090653
CREATED:20241003T003855Z
LAST-MODIFIED:20241003T003855Z
UID:7879-1729105200-1729105200@salmonbayeagles.com
SUMMARY:Movie Night
DESCRIPTION:Nightmare Before Christmas
URL:https://salmonbayeagles.com/event/movie-night-54/
LOCATION:Social Room
END:VEVENT
BEGIN:VEVENT
DTSTART;TZID=America/Los_Angeles:20241017T190000
DTEND;TZID=America/Los_Angeles:20241017T190000
DTSTAMP:20260422T090653
CREATED:20241003T003826Z
LAST-MODIFIED:20241004T041619Z
UID:7870-1729191600-1729191600@salmonbayeagles.com
SUMMARY:Prawn Po Boys
DESCRIPTION:JudyÕs bringing back her Prawn PoÕ Boys with chips.
URL:https://salmonbayeagles.com/event/prawn-po-boys-2/
LOCATION:Social Room
END:VEVENT
BEGIN:VEVENT
DTSTART;TZID=America/Los_Angeles:20241017T200000
DTEND;TZID=America/Los_Angeles:20241017T200000
DTSTAMP:20260422T090653
CREATED:20241003T003728Z
LAST-MODIFIED:20241003T003728Z
UID:7859-1729195200-1729195200@salmonbayeagles.com
SUMMARY:Jeff Herzog & The Jet City Fliers
DESCRIPTION:Jeff is a multiple award-winning artist; he performs witty originals and well-chosen cover songs.  He decorates his stage with care and entertains his audiences as a true showman.  For Jeff it is all about the song and getting inside the song to bring it out with a flourish of color.  Bring your dancing shoes and be ready to use them.
URL:https://salmonbayeagles.com/event/jeff-herzog-the-jet-city-fliers-8/
LOCATION:Social Room
END:VEVENT
BEGIN:VEVENT
DTSTART;TZID=America/Los_Angeles:20241018T190000
DTEND;TZID=America/Los_Angeles:20241018T190000
DTSTAMP:20260422T090653
CREATED:20241003T003829Z
LAST-MODIFIED:20241004T041559Z
UID:7871-1729278000-1729278000@salmonbayeagles.com
SUMMARY:Prawn Po Boys
DESCRIPTION:JudyÕs bringing back her Prawn PoÕ Boys with chips.
URL:https://salmonbayeagles.com/event/prawn-po-boys-3/
LOCATION:Social Room
END:VEVENT
BEGIN:VEVENT
DTSTART;TZID=America/Los_Angeles:20241018T200000
DTEND;TZID=America/Los_Angeles:20241018T200000
DTSTAMP:20260422T090653
CREATED:20241003T003747Z
LAST-MODIFIED:20241003T003747Z
UID:7860-1729281600-1729281600@salmonbayeagles.com
SUMMARY:Billy Stapleton's Powerhouse
DESCRIPTION:POWERHOUSE is a super tight\, dynamic\, trio of North West Luminaries. Award Winning Guitarist Billy Stapleton on rhythm\, lead and slide guitar\, the great Don Wilhelm on vocals and bass guitar is a show onto himself\, backed by superlative drummer and vocalist Steve Peterson.
URL:https://salmonbayeagles.com/event/billy-stapletons-powerhouse-4/
LOCATION:Social Room
END:VEVENT
BEGIN:VEVENT
DTSTART;VALUE=DATE:20241019
DTEND;VALUE=DATE:20241021
DTSTAMP:20260422T090653
CREATED:20241004T043319Z
LAST-MODIFIED:20241004T043319Z
UID:7903-1729296000-1729468799@salmonbayeagles.com
SUMMARY:Open House & Membership Drive
DESCRIPTION:For this October weekend\, our member’s club is open to the public. Come enjoy our space and get to know our members. On Sunday we our hosting a music benefit to raise funds and food donations for the Ballard Food Bank. Please come with your open hearts and bring some non-perishble food to donate.
URL:https://salmonbayeagles.com/event/open-house-membership-drive-2/
END:VEVENT
BEGIN:VEVENT
DTSTART;TZID=America/Los_Angeles:20241019T190000
DTEND;TZID=America/Los_Angeles:20241019T190000
DTSTAMP:20260422T090653
CREATED:20241003T003833Z
LAST-MODIFIED:20241004T041544Z
UID:7872-1729364400-1729364400@salmonbayeagles.com
SUMMARY:Prawn Po Boys
DESCRIPTION:JudyÕs bringing back her Prawn PoÕ Boys with chips.
URL:https://salmonbayeagles.com/event/prawn-po-boys-4/
LOCATION:Social Room
END:VEVENT
BEGIN:VEVENT
DTSTART;TZID=America/Los_Angeles:20241019T200000
DTEND;TZID=America/Los_Angeles:20241019T200000
DTSTAMP:20260422T090653
CREATED:20241003T003750Z
LAST-MODIFIED:20241004T042938Z
UID:7861-1729368000-1729368000@salmonbayeagles.com
SUMMARY:The Spinoffs
DESCRIPTION:The Spin-offs is a dynamic band that seamlessly blends blues\, rock\, and soul. Fronted by Dawnzella Gearhart\, whose raw and honest vocals are shaped by years in choirs and comedy\, the group features “Mikey G” Gearhart on bass\, playing with unmatched passion. Daniel Neumeyer adds depth with intricate guitar textures inspired by Tom Petty\, while Lea Weber drives the rhythm on drums\, drawing from her touring experience with Ben Rice and The Youth of Blues. Rounding out the lineup is Jeff Herzog\, a multi-award-winning harmonica player known for his witty originals and vibrant showmanship. Get ready to dance with The Spin-offs!
URL:https://salmonbayeagles.com/event/the-spinoffs/
LOCATION:Social Room
END:VEVENT
BEGIN:VEVENT
DTSTART;TZID=America/Los_Angeles:20241020T150000
DTEND;TZID=America/Los_Angeles:20241020T150000
DTSTAMP:20260422T090653
CREATED:20241003T003804Z
LAST-MODIFIED:20241003T003804Z
UID:7864-1729436400-1729436400@salmonbayeagles.com
SUMMARY:Foodstock! Music Benefit
DESCRIPTION:We got a far out happening happening at Salmon Bay Eagles in Ballard on Sunday Oct 20th starting at 3PM. Come join us and support the Ballard Food Bank\, while listening to outrageous musician types who are contributing their fine grooviest talent.   Hope to see all you hippy dippy brothers & sisters at the thing. (get into the groove in your finest 1969 attire!)
URL:https://salmonbayeagles.com/event/foodstock-music-benefit/
LOCATION:Social Room
END:VEVENT
BEGIN:VEVENT
DTSTART;TZID=America/Los_Angeles:20241020T170000
DTEND;TZID=America/Los_Angeles:20241020T170000
DTSTAMP:20260422T090653
CREATED:20241003T003812Z
LAST-MODIFIED:20241004T042008Z
UID:7866-1729443600-1729443600@salmonbayeagles.com
SUMMARY:Prawn Po Boys
DESCRIPTION:Judy’s bringing back her Prawn Po’ Boys with chips.
URL:https://salmonbayeagles.com/event/prawn-po-boys/
LOCATION:Social Room
END:VEVENT
BEGIN:VEVENT
DTSTART;TZID=America/Los_Angeles:20241023T180000
DTEND;TZID=America/Los_Angeles:20241023T180000
DTSTAMP:20260422T090653
CREATED:20241003T003900Z
LAST-MODIFIED:20241003T003900Z
UID:7880-1729706400-1729706400@salmonbayeagles.com
SUMMARY:Joker Poker
DESCRIPTION:Joker Poker is a game where a player turns over a card from a deck of 52 cards and one joker to win a cash prize. If the player doesn’t turn over the joker\, the cash prize increases for the next round.
URL:https://salmonbayeagles.com/event/joker-poker-109/
LOCATION:Social Room
END:VEVENT
BEGIN:VEVENT
DTSTART;TZID=America/Los_Angeles:20241023T190000
DTEND;TZID=America/Los_Angeles:20241023T190000
DTSTAMP:20260422T090653
CREATED:20241003T003903Z
LAST-MODIFIED:20241003T003903Z
UID:7881-1729710000-1729710000@salmonbayeagles.com
SUMMARY:Movie Night
DESCRIPTION:The Shining
URL:https://salmonbayeagles.com/event/movie-night-55/
LOCATION:Social Room
END:VEVENT
BEGIN:VEVENT
DTSTART;TZID=America/Los_Angeles:20241024T190000
DTEND;TZID=America/Los_Angeles:20241024T190000
DTSTAMP:20260422T090653
CREATED:20241003T003816Z
LAST-MODIFIED:20241004T041514Z
UID:7867-1729796400-1729796400@salmonbayeagles.com
SUMMARY:Murphy's Chili & Cornbread
DESCRIPTION:On the fourth week\, itÕs comforting MurphyÕs Chili & Cornbread for plus dessert for just $15.
URL:https://salmonbayeagles.com/event/murphys-chili-cornbread/
LOCATION:Social Room
END:VEVENT
END:VCALENDAR