BEGIN:VCALENDAR
VERSION:2.0
PRODID:-//Salmon Bay Eagles 2141 - ECPv6.15.17.1//NONSGML v1.0//EN
CALSCALE:GREGORIAN
METHOD:PUBLISH
X-WR-CALNAME:Salmon Bay Eagles 2141
X-ORIGINAL-URL:https://salmonbayeagles.com
X-WR-CALDESC:Events for Salmon Bay Eagles 2141
REFRESH-INTERVAL;VALUE=DURATION:PT1H
X-Robots-Tag:noindex
X-PUBLISHED-TTL:PT1H
BEGIN:VTIMEZONE
TZID:America/Los_Angeles
BEGIN:DAYLIGHT
TZOFFSETFROM:-0800
TZOFFSETTO:-0700
TZNAME:PDT
DTSTART:20230312T100000
END:DAYLIGHT
BEGIN:STANDARD
TZOFFSETFROM:-0700
TZOFFSETTO:-0800
TZNAME:PST
DTSTART:20231105T090000
END:STANDARD
BEGIN:DAYLIGHT
TZOFFSETFROM:-0800
TZOFFSETTO:-0700
TZNAME:PDT
DTSTART:20240310T100000
END:DAYLIGHT
BEGIN:STANDARD
TZOFFSETFROM:-0700
TZOFFSETTO:-0800
TZNAME:PST
DTSTART:20241103T090000
END:STANDARD
BEGIN:DAYLIGHT
TZOFFSETFROM:-0800
TZOFFSETTO:-0700
TZNAME:PDT
DTSTART:20250309T100000
END:DAYLIGHT
BEGIN:STANDARD
TZOFFSETFROM:-0700
TZOFFSETTO:-0800
TZNAME:PST
DTSTART:20251102T090000
END:STANDARD
END:VTIMEZONE
BEGIN:VEVENT
DTSTART;TZID=America/Los_Angeles:20241030T181500
DTEND;TZID=America/Los_Angeles:20241030T181500
DTSTAMP:20260422T125303
CREATED:20241003T003910Z
LAST-MODIFIED:20241003T003910Z
UID:7883-1730312100-1730312100@salmonbayeagles.com
SUMMARY:Trustee Meeting
DESCRIPTION:
URL:https://salmonbayeagles.com/event/trustee-meeting-25/
LOCATION:Social Room
END:VEVENT
BEGIN:VEVENT
DTSTART;TZID=America/Los_Angeles:20241030T190000
DTEND;TZID=America/Los_Angeles:20241030T190000
DTSTAMP:20260422T125303
CREATED:20241003T003913Z
LAST-MODIFIED:20241003T003913Z
UID:7884-1730314800-1730314800@salmonbayeagles.com
SUMMARY:Movie Night
DESCRIPTION:The Outsiders
URL:https://salmonbayeagles.com/event/movie-night-56/
LOCATION:Social Room
END:VEVENT
BEGIN:VEVENT
DTSTART;TZID=America/Los_Angeles:20241031T200000
DTEND;TZID=America/Los_Angeles:20241031T200000
DTSTAMP:20260422T125303
CREATED:20241003T003922Z
LAST-MODIFIED:20241003T003922Z
UID:7885-1730404800-1730404800@salmonbayeagles.com
SUMMARY:All Stars No Stripes Halloween Party
DESCRIPTION:Stan Eike and company are back to rock the club. With Stan and Scotty Lind on duo lead guitar & vocals; Howard Hooper on Bass; Billy Reed\, keyboards & vocals\, and Marty Vadalabene on drums\, and they will be tearing up the joint! Playing a vibrant mix of blues\, R&B\, rock & roll\, and jazz.  All Stars No Stripes Band are truly all-stars and are known for delivering the goods!
URL:https://salmonbayeagles.com/event/all-stars-no-stripes-halloween-party/
LOCATION:Social Room
END:VEVENT
BEGIN:VEVENT
DTSTART;TZID=America/Los_Angeles:20241101T200000
DTEND;TZID=America/Los_Angeles:20241101T200000
DTSTAMP:20260422T125303
CREATED:20241106T230324Z
LAST-MODIFIED:20241106T230324Z
UID:7942-1730491200-1730491200@salmonbayeagles.com
SUMMARY:Seattle House Rockers
DESCRIPTION:Get ready to rock the house with The Seattle Houserockers! From blues to funk\, R&B to swing\, these talented lads have got it all. Catch their electrifying performance and witness the magic of Dan\, John\, Marty\, and John as they serve up a musical feast that’ll have you dancing all night long!
URL:https://salmonbayeagles.com/event/seattle-house-rockers-6/
LOCATION:Social Room
END:VEVENT
BEGIN:VEVENT
DTSTART;TZID=America/Los_Angeles:20241102T200000
DTEND;TZID=America/Los_Angeles:20241102T200000
DTSTAMP:20260422T125303
CREATED:20241106T230327Z
LAST-MODIFIED:20241106T230327Z
UID:7943-1730577600-1730577600@salmonbayeagles.com
SUMMARY:Trifecta
DESCRIPTION:Steve Black\, guitar virtuoso captivates audiences worldwide\, with the mesmerizing magic of his strings. Joining him\, is King Dre\, the global groove guru whose rhythms have graced renowned venues and have earned him top record producer of the NW\, and David “Saint Bees” the versatile wizard who seamlessly has jammed with the finest in Seattle and LA
URL:https://salmonbayeagles.com/event/trifecta-2/
LOCATION:Social Room
END:VEVENT
BEGIN:VEVENT
DTSTART;TZID=America/Los_Angeles:20241103T130000
DTEND;TZID=America/Los_Angeles:20241103T130000
DTSTAMP:20260422T125303
CREATED:20241106T230703Z
LAST-MODIFIED:20241106T230703Z
UID:7954-1730638800-1730638800@salmonbayeagles.com
SUMMARY:Rams vs Seahawks
DESCRIPTION:Come to the club and root for the Hawks. There’s game day food\, drink specials\, and prizes awaiting for you.
URL:https://salmonbayeagles.com/event/rams-vs-seahawks-3/
LOCATION:Social Room
END:VEVENT
BEGIN:VEVENT
DTSTART;TZID=America/Los_Angeles:20241103T200000
DTEND;TZID=America/Los_Angeles:20241103T200000
DTSTAMP:20260422T125303
CREATED:20241106T230335Z
LAST-MODIFIED:20241106T230335Z
UID:7944-1730664000-1730664000@salmonbayeagles.com
SUMMARY:Keith Scott & Friends
DESCRIPTION:Don’t miss Keith Scott’s electrifying blues & rock show! This Chicago guitar legend brings his soulful ‘heavy blues’ sound for a limited time. With special guests and an extraordinary journey from humble roots to worldwide acclaim\, it’s a must-see!
URL:https://salmonbayeagles.com/event/keith-scott-friends/
LOCATION:Social Room
END:VEVENT
BEGIN:VEVENT
DTSTART;TZID=America/Los_Angeles:20241106T180000
DTEND;TZID=America/Los_Angeles:20241106T180000
DTSTAMP:20260422T125303
CREATED:20241106T225827Z
LAST-MODIFIED:20241106T225827Z
UID:7922-1730916000-1730916000@salmonbayeagles.com
SUMMARY:Joker Poker
DESCRIPTION:Wednesdays are Poker Joker nights. If no one pulls the Joker\, the pot grows every week. The next winner could be you. HOW TO PLAY: Joker Poker raffles tickets cost $1 each and maybe purchased from the bartender or conductor of the raffle up until 6pm.
URL:https://salmonbayeagles.com/event/joker-poker-111/
LOCATION:Social Room
END:VEVENT
BEGIN:VEVENT
DTSTART;TZID=America/Los_Angeles:20241106T180000
DTEND;TZID=America/Los_Angeles:20241106T180000
DTSTAMP:20260422T125303
CREATED:20241106T225901Z
LAST-MODIFIED:20241106T225901Z
UID:7930-1730916000-1730916000@salmonbayeagles.com
SUMMARY:Calendar Meeting
DESCRIPTION:Calendar meetings occur on the first Wednesday of the month at 6pm in the game room. This monthly meeting communicates upcoming events and volunteer needs to members.
URL:https://salmonbayeagles.com/event/calendar-meeting-4/
LOCATION:Social Room
END:VEVENT
BEGIN:VEVENT
DTSTART;TZID=America/Los_Angeles:20241106T190000
DTEND;TZID=America/Los_Angeles:20241106T190000
DTSTAMP:20260422T125303
CREATED:20241106T225844Z
LAST-MODIFIED:20241106T225844Z
UID:7926-1730919600-1730919600@salmonbayeagles.com
SUMMARY:Movie Nite
DESCRIPTION:A Perfect Storm
URL:https://salmonbayeagles.com/event/movie-nite-25/
LOCATION:Social Room
END:VEVENT
BEGIN:VEVENT
DTSTART;TZID=America/Los_Angeles:20241106T190000
DTEND;TZID=America/Los_Angeles:20241106T190000
DTSTAMP:20260422T125303
CREATED:20241106T225904Z
LAST-MODIFIED:20241106T225904Z
UID:7931-1730919600-1730919600@salmonbayeagles.com
SUMMARY:Aerie Meeting
DESCRIPTION:Aerie meetings are held the first and third Wednesdays of each month at 7:00 P.M. in the Grand Hall on the second floor. Members in good standing are encouraged to attend. Initiation of new members occurs during the meeting held on the 2nd Wednesday of each month.
URL:https://salmonbayeagles.com/event/aerie-meeting-51/
LOCATION:Social Room
END:VEVENT
BEGIN:VEVENT
DTSTART;TZID=America/Los_Angeles:20241107T190000
DTEND;TZID=America/Los_Angeles:20241107T190000
DTSTAMP:20260422T125303
CREATED:20241106T230857Z
LAST-MODIFIED:20241106T230857Z
UID:7957-1731006000-1731006000@salmonbayeagles.com
SUMMARY:Freakout Fest
DESCRIPTION:Our club is hosting bands for Freakout Festival happening November 7-10 using both stages in the social room and the upstairs ballroom. Freakout Festival is a weekend-long\, multi-venue\, multi-cultural Seattle music festival featuring over 100 artists from around the globe.
URL:https://salmonbayeagles.com/event/freakout-fest-2/
END:VEVENT
BEGIN:VEVENT
DTSTART;TZID=America/Los_Angeles:20241108T190000
DTEND;TZID=America/Los_Angeles:20241108T190000
DTSTAMP:20260422T125303
CREATED:20241106T230900Z
LAST-MODIFIED:20241106T230900Z
UID:7958-1731092400-1731092400@salmonbayeagles.com
SUMMARY:Freakout Fest
DESCRIPTION:Our club is hosting bands for Freakout Festival happening November 7-10 using both stages in the social room and the upstairs ballroom. Freakout Festival is a weekend-long\, multi-venue\, multi-cultural Seattle music festival featuring over 100 artists from around the globe.
URL:https://salmonbayeagles.com/event/freakout-fest-3/
END:VEVENT
BEGIN:VEVENT
DTSTART;TZID=America/Los_Angeles:20241109T190000
DTEND;TZID=America/Los_Angeles:20241109T190000
DTSTAMP:20260422T125303
CREATED:20241106T230903Z
LAST-MODIFIED:20241106T230903Z
UID:7959-1731178800-1731178800@salmonbayeagles.com
SUMMARY:Freakout Fest
DESCRIPTION:Our club is hosting bands for Freakout Festival happening November 7-10 using both stages in the social room and the upstairs ballroom. Freakout Festival is a weekend-long\, multi-venue\, multi-cultural Seattle music festival featuring over 100 artists from around the globe.
URL:https://salmonbayeagles.com/event/freakout-fest-4/
END:VEVENT
BEGIN:VEVENT
DTSTART;TZID=America/Los_Angeles:20241110T173000
DTEND;TZID=America/Los_Angeles:20241110T173000
DTSTAMP:20260422T125303
CREATED:20241106T230906Z
LAST-MODIFIED:20241106T230906Z
UID:7960-1731259800-1731259800@salmonbayeagles.com
SUMMARY:Freakout Fest
DESCRIPTION:Our club is hosting bands for Freakout Festival happening November 7-10 using both stages in the social room and the upstairs ballroom. Freakout Festival is a weekend-long\, multi-venue\, multi-cultural Seattle music festival featuring over 100 artists from around the globe.
URL:https://salmonbayeagles.com/event/freakout-fest-5/
END:VEVENT
BEGIN:VEVENT
DTSTART;TZID=America/Los_Angeles:20241113T180000
DTEND;TZID=America/Los_Angeles:20241113T180000
DTSTAMP:20260422T125303
CREATED:20241106T225830Z
LAST-MODIFIED:20241106T225830Z
UID:7923-1731520800-1731520800@salmonbayeagles.com
SUMMARY:Joker Poker
DESCRIPTION:Wednesdays are Poker Joker nights. If no one pulls the Joker\, the pot grows every week. The next winner could be you. HOW TO PLAY: Joker Poker raffles tickets cost $1 each and maybe purchased from the bartender or conductor of the raffle up until 6pm.
URL:https://salmonbayeagles.com/event/joker-poker-112/
LOCATION:Social Room
END:VEVENT
BEGIN:VEVENT
DTSTART;TZID=America/Los_Angeles:20241113T190000
DTEND;TZID=America/Los_Angeles:20241113T190000
DTSTAMP:20260422T125303
CREATED:20241106T225848Z
LAST-MODIFIED:20241106T225848Z
UID:7927-1731524400-1731524400@salmonbayeagles.com
SUMMARY:Movie Nite
DESCRIPTION:Lord of the Rings: Fellowship
URL:https://salmonbayeagles.com/event/movie-nite-26/
LOCATION:Social Room
END:VEVENT
BEGIN:VEVENT
DTSTART;TZID=America/Los_Angeles:20241114T190000
DTEND;TZID=America/Los_Angeles:20241114T190000
DTSTAMP:20260422T125303
CREATED:20241106T225927Z
LAST-MODIFIED:20241106T225927Z
UID:7933-1731610800-1731610800@salmonbayeagles.com
SUMMARY:Red's Baked Potato Bar
DESCRIPTION:Nov 14-16 Red is hosting a Baked Potato Bar full of yummy fixings
URL:https://salmonbayeagles.com/event/reds-baked-potato-bar/
LOCATION:Social Room
END:VEVENT
BEGIN:VEVENT
DTSTART;TZID=America/Los_Angeles:20241114T200000
DTEND;TZID=America/Los_Angeles:20241114T200000
DTSTAMP:20260422T125303
CREATED:20241106T230338Z
LAST-MODIFIED:20241106T230338Z
UID:7945-1731614400-1731614400@salmonbayeagles.com
SUMMARY:Mark DuFresne Band
DESCRIPTION:Multi-WBA award winners alert! The Mark DuFresne Band brings you the best in blues\, soul\, and ballads. With Billy Stapleton’s killer guitar riffs and Mark’s powerhouse vocals\, you’re in for a treat!
URL:https://salmonbayeagles.com/event/mark-dufresne-band-3/
LOCATION:Social Room
END:VEVENT
BEGIN:VEVENT
DTSTART;TZID=America/Los_Angeles:20241115T190000
DTEND;TZID=America/Los_Angeles:20241115T190000
DTSTAMP:20260422T125303
CREATED:20241106T225933Z
LAST-MODIFIED:20241106T225933Z
UID:7934-1731697200-1731697200@salmonbayeagles.com
SUMMARY:Red's Baked Potato Bar
DESCRIPTION:Nov 14-16 Red is hosting a Baked Potato Bar full of yummy fixings
URL:https://salmonbayeagles.com/event/reds-baked-potato-bar-2/
LOCATION:Social Room
END:VEVENT
BEGIN:VEVENT
DTSTART;TZID=America/Los_Angeles:20241115T200000
DTEND;TZID=America/Los_Angeles:20241115T200000
DTSTAMP:20260422T125303
CREATED:20241106T230341Z
LAST-MODIFIED:20241106T230341Z
UID:7946-1731700800-1731700800@salmonbayeagles.com
SUMMARY:Mary McPage and Powell
DESCRIPTION:From acoustic to electric\, McPage and Powell bring the blues to life! Join us for an unforgettable night of award-winning music and rich harmonies.
URL:https://salmonbayeagles.com/event/mary-mcpage-and-powell/
LOCATION:Social Room
END:VEVENT
BEGIN:VEVENT
DTSTART;TZID=America/Los_Angeles:20241116T100000
DTEND;TZID=America/Los_Angeles:20241116T100000
DTSTAMP:20260422T125303
CREATED:20241106T230700Z
LAST-MODIFIED:20241106T230700Z
UID:7953-1731751200-1731751200@salmonbayeagles.com
SUMMARY:District 5 Meeting
DESCRIPTION:District 5 Meeting to be held at the Burien Eagles
URL:https://salmonbayeagles.com/event/district-5-meeting/
END:VEVENT
BEGIN:VEVENT
DTSTART;TZID=America/Los_Angeles:20241116T190000
DTEND;TZID=America/Los_Angeles:20241116T190000
DTSTAMP:20260422T125303
CREATED:20241106T225936Z
LAST-MODIFIED:20241106T225936Z
UID:7935-1731783600-1731783600@salmonbayeagles.com
SUMMARY:Red's Baked Potato Bar
DESCRIPTION:Nov 14-16 Red is hosting a Baked Potato Bar full of yummy fixings
URL:https://salmonbayeagles.com/event/reds-baked-potato-bar-3/
LOCATION:Social Room
END:VEVENT
BEGIN:VEVENT
DTSTART;TZID=America/Los_Angeles:20241116T200000
DTEND;TZID=America/Los_Angeles:20241116T200000
DTSTAMP:20260422T125303
CREATED:20241106T230456Z
LAST-MODIFIED:20241106T230456Z
UID:7947-1731787200-1731787200@salmonbayeagles.com
SUMMARY:Salmon Dan's Jam Band
DESCRIPTION:Dan “Salmon Dan” Abernethy is stepping in for Dana Lupinacci on Judy’s special day. Join us for a night of funky tunes with Marty Marty Vadalabene on drums\, Walter White slapping the bass\, Billy Reed tickling the ivories\, and Joseph Miller shredding on guitar. It’s gonna be a wild ride!
URL:https://salmonbayeagles.com/event/salmon-dans-jam-band/
LOCATION:Social Room
END:VEVENT
BEGIN:VEVENT
DTSTART;TZID=America/Los_Angeles:20241117T130000
DTEND;TZID=America/Los_Angeles:20241117T130000
DTSTAMP:20260422T125303
CREATED:20241106T230706Z
LAST-MODIFIED:20241106T230706Z
UID:7955-1731848400-1731848400@salmonbayeagles.com
SUMMARY:Seahawks vs 49ers
DESCRIPTION:Come to the club and root for the Hawks. There’s game day food\, drink specials\, and prizes awaiting for you.
URL:https://salmonbayeagles.com/event/seahawks-vs-49ers-3/
LOCATION:Social Room
END:VEVENT
BEGIN:VEVENT
DTSTART;TZID=America/Los_Angeles:20241117T140000
DTEND;TZID=America/Los_Angeles:20241117T170000
DTSTAMP:20260422T125303
CREATED:20241106T230909Z
LAST-MODIFIED:20241106T230909Z
UID:7961-1731852000-1731862800@salmonbayeagles.com
SUMMARY:Chowder & Cake Cook-off
DESCRIPTION:SBE is hosting a Sunday Chowder & Cake Cook-off to celebrate Judy Abernethy’s birthday. Bring your choice of chowder or cake to the club by 2pm. Judging will happen around 2:30pm during half time of the Seahawks football game. Cook-off entry is free\, but tastings are $5. Winner gets 50% of the pot and the rest goes to charity.
URL:https://salmonbayeagles.com/event/chowder-cake-cook-off/
LOCATION:Social Room
END:VEVENT
BEGIN:VEVENT
DTSTART;TZID=America/Los_Angeles:20241120T180000
DTEND;TZID=America/Los_Angeles:20241120T180000
DTSTAMP:20260422T125303
CREATED:20241106T225837Z
LAST-MODIFIED:20241106T225837Z
UID:7924-1732125600-1732125600@salmonbayeagles.com
SUMMARY:Joker Poker
DESCRIPTION:Wednesdays are Poker Joker nights. If no one pulls the Joker\, the pot grows every week. The next winner could be you. HOW TO PLAY: Joker Poker raffles tickets cost $1 each and maybe purchased from the bartender or conductor of the raffle up until 6pm.
URL:https://salmonbayeagles.com/event/joker-poker-113/
LOCATION:Social Room
END:VEVENT
BEGIN:VEVENT
DTSTART;TZID=America/Los_Angeles:20241120T190000
DTEND;TZID=America/Los_Angeles:20241120T190000
DTSTAMP:20260422T125303
CREATED:20241106T225852Z
LAST-MODIFIED:20241106T225852Z
UID:7928-1732129200-1732129200@salmonbayeagles.com
SUMMARY:Movie Nite
DESCRIPTION:Lord of the Rings: Two Towers
URL:https://salmonbayeagles.com/event/movie-nite-27/
LOCATION:Social Room
END:VEVENT
BEGIN:VEVENT
DTSTART;TZID=America/Los_Angeles:20241120T190000
DTEND;TZID=America/Los_Angeles:20241120T190000
DTSTAMP:20260422T125303
CREATED:20241106T225924Z
LAST-MODIFIED:20241106T225924Z
UID:7932-1732129200-1732129200@salmonbayeagles.com
SUMMARY:Aerie Meeting
DESCRIPTION:Aerie meetings are held the first and third Wednesdays of each month at 7:00 P.M. in the Grand Hall on the second floor. Members in good standing are encouraged to attend. Initiation of new members occurs during the meeting held on the 2nd Wednesday of each month.
URL:https://salmonbayeagles.com/event/aerie-meeting-52/
LOCATION:Social Room
END:VEVENT
BEGIN:VEVENT
DTSTART;TZID=America/Los_Angeles:20241121T190000
DTEND;TZID=America/Los_Angeles:20241121T190000
DTSTAMP:20260422T125303
CREATED:20241106T225939Z
LAST-MODIFIED:20241106T231310Z
UID:7936-1732215600-1732215600@salmonbayeagles.com
SUMMARY:Murphy's French Dip
DESCRIPTION:Nov 21-23 Murphy is making her delicious French Dip. Enjoy sliced roast beef\, Swiss cheese on bread with a side of au jus plus sides for $15.Proceeds benefit the American Foundation for Suicide Prevention.
URL:https://salmonbayeagles.com/event/murphys-french-dip/
LOCATION:Social Room
END:VEVENT
END:VCALENDAR