BEGIN:VCALENDAR
VERSION:2.0
PRODID:-//Salmon Bay Eagles 2141 - ECPv6.15.17.1//NONSGML v1.0//EN
CALSCALE:GREGORIAN
METHOD:PUBLISH
X-WR-CALNAME:Salmon Bay Eagles 2141
X-ORIGINAL-URL:https://salmonbayeagles.com
X-WR-CALDESC:Events for Salmon Bay Eagles 2141
REFRESH-INTERVAL;VALUE=DURATION:PT1H
X-Robots-Tag:noindex
X-PUBLISHED-TTL:PT1H
BEGIN:VTIMEZONE
TZID:America/Los_Angeles
BEGIN:DAYLIGHT
TZOFFSETFROM:-0800
TZOFFSETTO:-0700
TZNAME:PDT
DTSTART:20230312T100000
END:DAYLIGHT
BEGIN:STANDARD
TZOFFSETFROM:-0700
TZOFFSETTO:-0800
TZNAME:PST
DTSTART:20231105T090000
END:STANDARD
BEGIN:DAYLIGHT
TZOFFSETFROM:-0800
TZOFFSETTO:-0700
TZNAME:PDT
DTSTART:20240310T100000
END:DAYLIGHT
BEGIN:STANDARD
TZOFFSETFROM:-0700
TZOFFSETTO:-0800
TZNAME:PST
DTSTART:20241103T090000
END:STANDARD
BEGIN:DAYLIGHT
TZOFFSETFROM:-0800
TZOFFSETTO:-0700
TZNAME:PDT
DTSTART:20250309T100000
END:DAYLIGHT
BEGIN:STANDARD
TZOFFSETFROM:-0700
TZOFFSETTO:-0800
TZNAME:PST
DTSTART:20251102T090000
END:STANDARD
END:VTIMEZONE
BEGIN:VEVENT
DTSTART;TZID=America/Los_Angeles:20241117T130000
DTEND;TZID=America/Los_Angeles:20241117T130000
DTSTAMP:20260422T152805
CREATED:20241106T230706Z
LAST-MODIFIED:20241106T230706Z
UID:7955-1731848400-1731848400@salmonbayeagles.com
SUMMARY:Seahawks vs 49ers
DESCRIPTION:Come to the club and root for the Hawks. There’s game day food\, drink specials\, and prizes awaiting for you.
URL:https://salmonbayeagles.com/event/seahawks-vs-49ers-3/
LOCATION:Social Room
END:VEVENT
BEGIN:VEVENT
DTSTART;TZID=America/Los_Angeles:20241117T140000
DTEND;TZID=America/Los_Angeles:20241117T170000
DTSTAMP:20260422T152805
CREATED:20241106T230909Z
LAST-MODIFIED:20241106T230909Z
UID:7961-1731852000-1731862800@salmonbayeagles.com
SUMMARY:Chowder & Cake Cook-off
DESCRIPTION:SBE is hosting a Sunday Chowder & Cake Cook-off to celebrate Judy Abernethy’s birthday. Bring your choice of chowder or cake to the club by 2pm. Judging will happen around 2:30pm during half time of the Seahawks football game. Cook-off entry is free\, but tastings are $5. Winner gets 50% of the pot and the rest goes to charity.
URL:https://salmonbayeagles.com/event/chowder-cake-cook-off/
LOCATION:Social Room
END:VEVENT
BEGIN:VEVENT
DTSTART;TZID=America/Los_Angeles:20241120T180000
DTEND;TZID=America/Los_Angeles:20241120T180000
DTSTAMP:20260422T152805
CREATED:20241106T225837Z
LAST-MODIFIED:20241106T225837Z
UID:7924-1732125600-1732125600@salmonbayeagles.com
SUMMARY:Joker Poker
DESCRIPTION:Wednesdays are Poker Joker nights. If no one pulls the Joker\, the pot grows every week. The next winner could be you. HOW TO PLAY: Joker Poker raffles tickets cost $1 each and maybe purchased from the bartender or conductor of the raffle up until 6pm.
URL:https://salmonbayeagles.com/event/joker-poker-113/
LOCATION:Social Room
END:VEVENT
BEGIN:VEVENT
DTSTART;TZID=America/Los_Angeles:20241120T190000
DTEND;TZID=America/Los_Angeles:20241120T190000
DTSTAMP:20260422T152805
CREATED:20241106T225852Z
LAST-MODIFIED:20241106T225852Z
UID:7928-1732129200-1732129200@salmonbayeagles.com
SUMMARY:Movie Nite
DESCRIPTION:Lord of the Rings: Two Towers
URL:https://salmonbayeagles.com/event/movie-nite-27/
LOCATION:Social Room
END:VEVENT
BEGIN:VEVENT
DTSTART;TZID=America/Los_Angeles:20241120T190000
DTEND;TZID=America/Los_Angeles:20241120T190000
DTSTAMP:20260422T152805
CREATED:20241106T225924Z
LAST-MODIFIED:20241106T225924Z
UID:7932-1732129200-1732129200@salmonbayeagles.com
SUMMARY:Aerie Meeting
DESCRIPTION:Aerie meetings are held the first and third Wednesdays of each month at 7:00 P.M. in the Grand Hall on the second floor. Members in good standing are encouraged to attend. Initiation of new members occurs during the meeting held on the 2nd Wednesday of each month.
URL:https://salmonbayeagles.com/event/aerie-meeting-52/
LOCATION:Social Room
END:VEVENT
BEGIN:VEVENT
DTSTART;TZID=America/Los_Angeles:20241121T190000
DTEND;TZID=America/Los_Angeles:20241121T190000
DTSTAMP:20260422T152805
CREATED:20241106T225939Z
LAST-MODIFIED:20241106T231310Z
UID:7936-1732215600-1732215600@salmonbayeagles.com
SUMMARY:Murphy's French Dip
DESCRIPTION:Nov 21-23 Murphy is making her delicious French Dip. Enjoy sliced roast beef\, Swiss cheese on bread with a side of au jus plus sides for $15.Proceeds benefit the American Foundation for Suicide Prevention.
URL:https://salmonbayeagles.com/event/murphys-french-dip/
LOCATION:Social Room
END:VEVENT
BEGIN:VEVENT
DTSTART;TZID=America/Los_Angeles:20241121T200000
DTEND;TZID=America/Los_Angeles:20241121T200000
DTSTAMP:20260422T152805
CREATED:20241106T230459Z
LAST-MODIFIED:20241106T230459Z
UID:7948-1732219200-1732219200@salmonbayeagles.com
SUMMARY:Jeff Herzog & The Jet City Fliers
DESCRIPTION:Blues\, New Orleans music\, R&B and choice old Rock & Roll delivered in a high energy party show; that is Jeff and the Jet City Fliers. Jeff and the band’s aim is to inspire the audience to have fun and forget their troubles for a while; much like the entertainers in New Orleans do. Lead singer and harmonica player Jeff Herzog delivers the songs with heart-felt enthusiasm.
URL:https://salmonbayeagles.com/event/jeff-herzog-the-jet-city-fliers-9/
LOCATION:Social Room
END:VEVENT
BEGIN:VEVENT
DTSTART;TZID=America/Los_Angeles:20241122T190000
DTEND;TZID=America/Los_Angeles:20241122T190000
DTSTAMP:20260422T152805
CREATED:20241106T230124Z
LAST-MODIFIED:20241106T231342Z
UID:7937-1732302000-1732302000@salmonbayeagles.com
SUMMARY:Murphy's French Dip
DESCRIPTION:Nov 21-23 Murphy is making her delicious French Dip. Enjoy sliced roast beef\, Swiss cheese on bread with a side of au jus plus sides for $15.Proceeds benefit the American Foundation for Suicide Prevention.
URL:https://salmonbayeagles.com/event/murphys-french-dip-2/
LOCATION:Social Room
END:VEVENT
BEGIN:VEVENT
DTSTART;TZID=America/Los_Angeles:20241122T200000
DTEND;TZID=America/Los_Angeles:20241122T200000
DTSTAMP:20260422T152805
CREATED:20241106T230502Z
LAST-MODIFIED:20241106T230502Z
UID:7949-1732305600-1732305600@salmonbayeagles.com
SUMMARY:Ron Bailey & The Tangents
DESCRIPTION:Tangents perform infectious music. Ron has been pleasing audiences with his showmanship since back when. The history of these performers would fill a book and includes some of the best-known bands around the Sound. Ron & the Tangents fill the dance floor from the opening song until closing time\, so get ready to shake ‘em on down! Ron is accompanied by Kelly Van Camp on drums\, Rod Cook on guitar\, Mark Dalton on bass and Steve Flynn-keys.
URL:https://salmonbayeagles.com/event/ron-bailey-the-tangents-15/
LOCATION:Social Room
END:VEVENT
BEGIN:VEVENT
DTSTART;TZID=America/Los_Angeles:20241123T190000
DTEND;TZID=America/Los_Angeles:20241123T190000
DTSTAMP:20260422T152805
CREATED:20241106T230127Z
LAST-MODIFIED:20241106T231412Z
UID:7938-1732388400-1732388400@salmonbayeagles.com
SUMMARY:Murphy's French Dip
DESCRIPTION:Nov 21-23 Murphy is making her delicious French Dip. Enjoy sliced roast beef\, Swiss cheese on bread with a side of au jus plus sides for $15.Proceeds benefit the American Foundation for Suicide Prevention.
URL:https://salmonbayeagles.com/event/murphys-french-dip-3/
LOCATION:Social Room
END:VEVENT
BEGIN:VEVENT
DTSTART;TZID=America/Los_Angeles:20241123T200000
DTEND;TZID=America/Los_Angeles:20241123T200000
DTSTAMP:20260422T152805
CREATED:20241106T230506Z
LAST-MODIFIED:20241106T230506Z
UID:7950-1732392000-1732392000@salmonbayeagles.com
SUMMARY:Tony Lease Trio
DESCRIPTION:A blend of blues-rock and straight-ahead blues with a little top 40 tossed into the mix. Tony Lease’s dynamic\, husky voice and spirited guitar playing are sure to please\, while Marty Vadalabene’s drumming provides a rock solid\, tasteful foundation and Don Wilhelm’s bass playing is the perfect complement to that. All are longtime Seattle residents and denizens of the music scene there (and elsewhere) and you can see and hear their life stories come out in their music.
URL:https://salmonbayeagles.com/event/tony-lease-trio-3/
LOCATION:Social Room
END:VEVENT
BEGIN:VEVENT
DTSTART;TZID=America/Los_Angeles:20241124T130000
DTEND;TZID=America/Los_Angeles:20241124T130000
DTSTAMP:20260422T152805
CREATED:20241106T230709Z
LAST-MODIFIED:20241106T230709Z
UID:7956-1732453200-1732453200@salmonbayeagles.com
SUMMARY:Cardinals vs Seahawks
DESCRIPTION:Come to the club and root for the Hawks. There’s game day food\, drink specials\, and prizes awaiting for you.
URL:https://salmonbayeagles.com/event/cardinals-vs-seahawks-3/
LOCATION:Social Room
END:VEVENT
BEGIN:VEVENT
DTSTART;TZID=America/Los_Angeles:20241127T180000
DTEND;TZID=America/Los_Angeles:20241127T180000
DTSTAMP:20260422T152805
CREATED:20241106T225841Z
LAST-MODIFIED:20241106T225841Z
UID:7925-1732730400-1732730400@salmonbayeagles.com
SUMMARY:Joker Poker
DESCRIPTION:Wednesdays are Poker Joker nights. If no one pulls the Joker\, the pot grows every week. The next winner could be you. HOW TO PLAY: Joker Poker raffles tickets cost $1 each and maybe purchased from the bartender or conductor of the raffle up until 6pm.
URL:https://salmonbayeagles.com/event/joker-poker-114/
LOCATION:Social Room
END:VEVENT
BEGIN:VEVENT
DTSTART;TZID=America/Los_Angeles:20241127T181500
DTEND;TZID=America/Los_Angeles:20241127T181500
DTSTAMP:20260422T152805
CREATED:20241108T004617Z
LAST-MODIFIED:20241108T012612Z
UID:7977-1732731300-1732731300@salmonbayeagles.com
SUMMARY:Trustee Meeting
DESCRIPTION:Speak with the Aerie Trustees! Any Aerie can come to a Trustee Meeting (every Wednesday at 6:15) and ask questions about club operations or voice concerns and ideas during the first part of our weekly meeting.
URL:https://salmonbayeagles.com/event/trustee-meeting-27/
LOCATION:Social Room
END:VEVENT
BEGIN:VEVENT
DTSTART;TZID=America/Los_Angeles:20241127T190000
DTEND;TZID=America/Los_Angeles:20241127T190000
DTSTAMP:20260422T152805
CREATED:20241106T225857Z
LAST-MODIFIED:20241106T225857Z
UID:7929-1732734000-1732734000@salmonbayeagles.com
SUMMARY:Movie Nite
DESCRIPTION:Mystery\, Alaska
URL:https://salmonbayeagles.com/event/movie-nite-28/
LOCATION:Social Room
END:VEVENT
BEGIN:VEVENT
DTSTART;TZID=America/Los_Angeles:20241128T150000
DTEND;TZID=America/Los_Angeles:20241128T170000
DTSTAMP:20260422T152805
CREATED:20241106T230133Z
LAST-MODIFIED:20241106T230133Z
UID:7939-1732806000-1732813200@salmonbayeagles.com
SUMMARY:Thanksgiving Dinner
DESCRIPTION:The Salmon Bay Eagles is hosting our annual Thanksgiving Day dinner on Thursday\, November 28 for our members and their guests. A traditional dinner of turkey and all the trimmings will be served so be sure to come hungry and bring your friends and family. All food is donated and prepared by volunteers. Doors will be open at 2pm with dinner service from 3pm until 5pm.
URL:https://salmonbayeagles.com/event/thanksgiving-dinner-4/
LOCATION:Social Room
END:VEVENT
BEGIN:VEVENT
DTSTART;TZID=America/Los_Angeles:20241129T190000
DTEND;TZID=America/Los_Angeles:20241129T190000
DTSTAMP:20260422T152805
CREATED:20241106T230138Z
LAST-MODIFIED:20241106T230138Z
UID:7940-1732906800-1732906800@salmonbayeagles.com
SUMMARY:Hot Turkey Sandwich
DESCRIPTION:We’re serving hot turkey sandwiches\, an open-faced sandwich\, topped with turkey and gravy and sides.
URL:https://salmonbayeagles.com/event/hot-turkey-sandwich/
LOCATION:Social Room
END:VEVENT
BEGIN:VEVENT
DTSTART;TZID=America/Los_Angeles:20241129T200000
DTEND;TZID=America/Los_Angeles:20241129T200000
DTSTAMP:20260422T152805
CREATED:20241106T230509Z
LAST-MODIFIED:20241106T230509Z
UID:7951-1732910400-1732910400@salmonbayeagles.com
SUMMARY:Blue Healers
DESCRIPTION:Blue Healers won the 2023 IBC solo/duo category and represented Washington State in Memphis in January 2024. In the 2024 Best Blues Awards\, they won Best Solo/Duo\, Best New Blues Act and Best Female Vocalist. Don was nominated Best Acoustic Blues guitar 2023 by the Washington Blues Society and best blues band by the Seattle Weekly in 2009.
URL:https://salmonbayeagles.com/event/blue-healers-6/
LOCATION:Social Room
END:VEVENT
BEGIN:VEVENT
DTSTART;TZID=America/Los_Angeles:20241130T190000
DTEND;TZID=America/Los_Angeles:20241130T190000
DTSTAMP:20260422T152805
CREATED:20241106T230141Z
LAST-MODIFIED:20241106T230141Z
UID:7941-1732993200-1732993200@salmonbayeagles.com
SUMMARY:Hot Turkey Sandwich
DESCRIPTION:We’re serving hot turkey sandwiches\, an open-faced sandwich\, topped with turkey and gravy and sides.
URL:https://salmonbayeagles.com/event/hot-turkey-sandwich-2/
LOCATION:Social Room
END:VEVENT
BEGIN:VEVENT
DTSTART;TZID=America/Los_Angeles:20241130T200000
DTEND;TZID=America/Los_Angeles:20241130T200000
DTSTAMP:20260422T152805
CREATED:20241106T230657Z
LAST-MODIFIED:20241106T230657Z
UID:7952-1732996800-1732996800@salmonbayeagles.com
SUMMARY:John Stephan Band
DESCRIPTION:John Stephan Band plays listening music you can dance to\, and dance music you can listen to. The John Stephan Band plays a blend of original and traditional Blues\, R&B\, and Roots music. Since 2000\, they have become a popular\, established NW group\, with 3 critically acclaimed CDs.
URL:https://salmonbayeagles.com/event/john-stephan-band-4/
LOCATION:Social Room
END:VEVENT
BEGIN:VEVENT
DTSTART;TZID=America/Los_Angeles:20241201T100000
DTEND;TZID=America/Los_Angeles:20241201T100000
DTSTAMP:20260422T152805
CREATED:20241108T004957Z
LAST-MODIFIED:20241108T004957Z
UID:7999-1733047200-1733047200@salmonbayeagles.com
SUMMARY:Seahawks vs Jets
DESCRIPTION:Come to the club and root for the Hawks. There’s game day food\, drink specials\, and prizes awaiting for you.
URL:https://salmonbayeagles.com/event/seahawks-vs-jets/
LOCATION:Social Room
END:VEVENT
BEGIN:VEVENT
DTSTART;TZID=America/Los_Angeles:20241204T180000
DTEND;TZID=America/Los_Angeles:20241204T180000
DTSTAMP:20260422T152805
CREATED:20241108T004526Z
LAST-MODIFIED:20241108T004526Z
UID:7967-1733335200-1733335200@salmonbayeagles.com
SUMMARY:Joker Poker
DESCRIPTION:Wednesdays are Poker Joker nights. If no one pulls the Joker\, the pot grows every week. The next winner could be you. HOW TO PLAY: Joker Poker raffles tickets cost $1 each and maybe purchased from the bartender or conductor of the raffle up until 6pm.
URL:https://salmonbayeagles.com/event/joker-poker-115/
LOCATION:Social Room
END:VEVENT
BEGIN:VEVENT
DTSTART;TZID=America/Los_Angeles:20241204T181500
DTEND;TZID=America/Los_Angeles:20241204T181500
DTSTAMP:20260422T152805
CREATED:20241108T004550Z
LAST-MODIFIED:20241108T004550Z
UID:7973-1733336100-1733336100@salmonbayeagles.com
SUMMARY:Calendar Meeting
DESCRIPTION:Calendar meetings occur on the first Wednesday of the month at 6pm in the game room. This monthly meeting communicates upcoming events and volunteer needs to members.
URL:https://salmonbayeagles.com/event/calendar-meeting-5/
LOCATION:Social Room
END:VEVENT
BEGIN:VEVENT
DTSTART;TZID=America/Los_Angeles:20241204T190000
DTEND;TZID=America/Los_Angeles:20241204T190000
DTSTAMP:20260422T152805
CREATED:20241108T004537Z
LAST-MODIFIED:20241108T004537Z
UID:7970-1733338800-1733338800@salmonbayeagles.com
SUMMARY:Movie Nite
DESCRIPTION:Home Alone
URL:https://salmonbayeagles.com/event/movie-nite-29/
LOCATION:Social Room
END:VEVENT
BEGIN:VEVENT
DTSTART;TZID=America/Los_Angeles:20241204T190000
DTEND;TZID=America/Los_Angeles:20241204T190000
DTSTAMP:20260422T152805
CREATED:20241108T004553Z
LAST-MODIFIED:20241108T004553Z
UID:7974-1733338800-1733338800@salmonbayeagles.com
SUMMARY:Aerie Meeting
DESCRIPTION:Aerie meetings are held the first and third Wednesdays of each month at 7:00 P.M. in the Grand Hall on the second floor. All members are welcome. Initiation of new members occurs during the meeting held on the 2nd Wednesday of each month.
URL:https://salmonbayeagles.com/event/aerie-meeting-53/
LOCATION:Social Room
END:VEVENT
BEGIN:VEVENT
DTSTART;TZID=America/Los_Angeles:20241205T190000
DTEND;TZID=America/Los_Angeles:20241205T190000
DTSTAMP:20260422T152805
CREATED:20241108T004644Z
LAST-MODIFIED:20241126T201933Z
UID:7984-1733425200-1733425200@salmonbayeagles.com
SUMMARY:Murphy’s Hearty Beef Stew
DESCRIPTION:Dec 5-7 Come get Murphy’s Hearty Beef Stew with biscuits and dessert for $15. Proceeds benefit the American Foundation for Suicide Prevention
URL:https://salmonbayeagles.com/event/pizza/
LOCATION:Social Room
END:VEVENT
BEGIN:VEVENT
DTSTART;TZID=America/Los_Angeles:20241205T200000
DTEND;TZID=America/Los_Angeles:20241205T200000
DTSTAMP:20260422T152805
CREATED:20241108T004838Z
LAST-MODIFIED:20241108T004838Z
UID:7987-1733428800-1733428800@salmonbayeagles.com
SUMMARY:Stevie & the Blue Flames
DESCRIPTION:Stevie and the Blue Flames\, formed in the 80s by Steve Bailey\, is a veteran band known for energetic performances. With awards and skilled musicians\, they deliver tight rhythms and dynamic solos\, showcasing their love for blues music.
URL:https://salmonbayeagles.com/event/stevie-the-blue-flames-6/
LOCATION:Social Room
END:VEVENT
BEGIN:VEVENT
DTSTART;TZID=America/Los_Angeles:20241206T190000
DTEND;TZID=America/Los_Angeles:20241206T190000
DTSTAMP:20260422T152805
CREATED:20241108T004647Z
LAST-MODIFIED:20241126T201806Z
UID:7985-1733511600-1733511600@salmonbayeagles.com
SUMMARY:Murphy’s Hearty Beef Stew
DESCRIPTION:Dec 5-7 Come get Murphy’s Hearty Beef Stew with biscuits and dessert for $15. Proceeds benefit the American Foundation for Suicide Prevention
URL:https://salmonbayeagles.com/event/pizza-2/
LOCATION:Social Room
END:VEVENT
BEGIN:VEVENT
DTSTART;TZID=America/Los_Angeles:20241206T200000
DTEND;TZID=America/Los_Angeles:20241206T200000
DTSTAMP:20260422T152805
CREATED:20241108T004841Z
LAST-MODIFIED:20241108T004841Z
UID:7988-1733515200-1733515200@salmonbayeagles.com
SUMMARY:Blue 55
DESCRIPTION:Blue 55\, a trio led by Glen Stewart (vocals/guitar)\, with David Thorp (bass) and Eric Brewer (drums)\, delivers a diverse mix of blues\, classic rock\, soul\, and occasional surf rock in their entertaining performances.
URL:https://salmonbayeagles.com/event/blue-55-5/
LOCATION:Social Room
END:VEVENT
BEGIN:VEVENT
DTSTART;TZID=America/Los_Angeles:20241207T190000
DTEND;TZID=America/Los_Angeles:20241207T190000
DTSTAMP:20260422T152805
CREATED:20241108T004650Z
LAST-MODIFIED:20241126T201704Z
UID:7986-1733598000-1733598000@salmonbayeagles.com
SUMMARY:Murphy’s Hearty Beef Stew
DESCRIPTION:Dec 5-7 Come get Murphy’s Hearty Beef Stew with biscuits and dessert for $15. Proceeds benefit the American Foundation for Suicide Prevention
URL:https://salmonbayeagles.com/event/pizza-3/
LOCATION:Social Room
END:VEVENT
END:VCALENDAR