BEGIN:VCALENDAR
VERSION:2.0
PRODID:-//Salmon Bay Eagles 2141 - ECPv6.15.17.1//NONSGML v1.0//EN
CALSCALE:GREGORIAN
METHOD:PUBLISH
X-ORIGINAL-URL:https://salmonbayeagles.com
X-WR-CALDESC:Events for Salmon Bay Eagles 2141
REFRESH-INTERVAL;VALUE=DURATION:PT1H
X-Robots-Tag:noindex
X-PUBLISHED-TTL:PT1H
BEGIN:VTIMEZONE
TZID:America/Los_Angeles
BEGIN:DAYLIGHT
TZOFFSETFROM:-0800
TZOFFSETTO:-0700
TZNAME:PDT
DTSTART:20230312T100000
END:DAYLIGHT
BEGIN:STANDARD
TZOFFSETFROM:-0700
TZOFFSETTO:-0800
TZNAME:PST
DTSTART:20231105T090000
END:STANDARD
BEGIN:DAYLIGHT
TZOFFSETFROM:-0800
TZOFFSETTO:-0700
TZNAME:PDT
DTSTART:20240310T100000
END:DAYLIGHT
BEGIN:STANDARD
TZOFFSETFROM:-0700
TZOFFSETTO:-0800
TZNAME:PST
DTSTART:20241103T090000
END:STANDARD
BEGIN:DAYLIGHT
TZOFFSETFROM:-0800
TZOFFSETTO:-0700
TZNAME:PDT
DTSTART:20250309T100000
END:DAYLIGHT
BEGIN:STANDARD
TZOFFSETFROM:-0700
TZOFFSETTO:-0800
TZNAME:PST
DTSTART:20251102T090000
END:STANDARD
END:VTIMEZONE
BEGIN:VEVENT
DTSTART;TZID=America/Los_Angeles:20240712T200000
DTEND;TZID=America/Los_Angeles:20240712T200000
DTSTAMP:20260422T203555
CREATED:20240704T052422Z
LAST-MODIFIED:20240704T052422Z
UID:7709-1720814400-1720814400@salmonbayeagles.com
SUMMARY:Dan Norman & The Chrysalis Effect
DESCRIPTION:
URL:https://salmonbayeagles.com/event/dan-norman-the-chrysalis-effect/
LOCATION:Social Room
END:VEVENT
BEGIN:VEVENT
DTSTART;TZID=America/Los_Angeles:20240713T120000
DTEND;TZID=America/Los_Angeles:20240713T120000
DTSTAMP:20260422T203555
CREATED:20240607T224902Z
LAST-MODIFIED:20240607T225232Z
UID:7691-1720872000-1720872000@salmonbayeagles.com
SUMMARY:SBE SeafoodFest Open House ft. Polly O'Keary
DESCRIPTION:The annual Ballard SeafoodFest is happening July 13-14 and the Salmon Bay Eagles will be hosting an Open House all weekend long. We invite the public to come visit our booth and our club during the festival. Get to know your local\, charitable\, Fraternal Order of Eagles. Tour our space and grab a drink whilst you mingle with our members and experience the club’s atmosphere. Don’t miss Polly O’Keary & The Rhythm Method as they take the stage Saturday\, July 13 at 8 pm! Doors open from 12pm-12am.
URL:https://salmonbayeagles.com/event/sbe-seafoodfest-open-house-2/
CATEGORIES:Blues,Celebration,Charity,Music
END:VEVENT
BEGIN:VEVENT
DTSTART;TZID=America/Los_Angeles:20240713T200000
DTEND;TZID=America/Los_Angeles:20240713T200000
DTSTAMP:20260422T203555
CREATED:20240704T052454Z
LAST-MODIFIED:20240704T052454Z
UID:7714-1720900800-1720900800@salmonbayeagles.com
SUMMARY:Polly O'Keary & the Rhythm Method
DESCRIPTION:
URL:https://salmonbayeagles.com/event/polly-okeary-the-rhythm-method-2/
LOCATION:Social Room
END:VEVENT
BEGIN:VEVENT
DTSTART;TZID=America/Los_Angeles:20240714T120000
DTEND;TZID=America/Los_Angeles:20240714T120000
DTSTAMP:20260422T203555
CREATED:20240607T224643Z
LAST-MODIFIED:20240607T225616Z
UID:7689-1720958400-1720958400@salmonbayeagles.com
SUMMARY:SBE SeafoodFest Open House
DESCRIPTION:The annual Ballard SeafoodFest is happening July 13-14 and the Salmon Bay Eagles will be hosting an Open House all weekend long. We invite the public to come visit our booth and our club during the festival. Get to know your local\, charitable\, Fraternal Order of Eagles. Grab a drink\, mingle with our members and experience the club’s atmosphere. Doors open from 12pm-12am.
URL:https://salmonbayeagles.com/event/sbe-seafoodfest-open-house/
CATEGORIES:Celebration,Charity
END:VEVENT
BEGIN:VEVENT
DTSTART;TZID=America/Los_Angeles:20240717T180000
DTEND;TZID=America/Los_Angeles:20240717T180000
DTSTAMP:20260422T203555
CREATED:20240607T024924Z
LAST-MODIFIED:20240607T024924Z
UID:7681-1721239200-1721239200@salmonbayeagles.com
SUMMARY:Joker Poker
DESCRIPTION:Wednesdays are Poker Joker nights. If no one pulls the Joker\, the pot grows every week. The next winner could be you. HOW TO PLAY: Joker Poker raffles tickets cost $1 each and maybe purchased from the bartender or conductor of the raffle up until 6pm.
URL:https://salmonbayeagles.com/event/joker-poker-95/
LOCATION:Social Room
END:VEVENT
BEGIN:VEVENT
DTSTART;TZID=America/Los_Angeles:20240717T190000
DTEND;TZID=America/Los_Angeles:20240717T190000
DTSTAMP:20260422T203555
CREATED:20240607T024940Z
LAST-MODIFIED:20240607T024940Z
UID:7685-1721242800-1721242800@salmonbayeagles.com
SUMMARY:Movie Nite
DESCRIPTION:The Great Escape
URL:https://salmonbayeagles.com/event/movie-nite-22/
LOCATION:Social Room
END:VEVENT
BEGIN:VEVENT
DTSTART;TZID=America/Los_Angeles:20240717T190000
DTEND;TZID=America/Los_Angeles:20240717T190000
DTSTAMP:20260422T203555
CREATED:20240704T052349Z
LAST-MODIFIED:20240704T052349Z
UID:7702-1721242800-1721242800@salmonbayeagles.com
SUMMARY:Aerie Meeting
DESCRIPTION:Aerie meetings are held the first and third Wednesdays of each month at 7:00 P.M. in the Grand Hall on the second floor. Members in good standing are encouraged to attend. Initiation of new members occurs during the meeting held on the 2nd Wednesday of each month.
URL:https://salmonbayeagles.com/event/aerie-meeting-44/
LOCATION:Social Room
END:VEVENT
BEGIN:VEVENT
DTSTART;TZID=America/Los_Angeles:20240718T190000
DTEND;TZID=America/Los_Angeles:20240718T190000
DTSTAMP:20260422T203555
CREATED:20240704T052418Z
LAST-MODIFIED:20240704T052418Z
UID:7708-1721329200-1721329200@salmonbayeagles.com
SUMMARY:Murphy's Dinner Surprise
DESCRIPTION:
URL:https://salmonbayeagles.com/event/murphys-dinner-surprise/
LOCATION:Social Room
END:VEVENT
BEGIN:VEVENT
DTSTART;TZID=America/Los_Angeles:20240718T200000
DTEND;TZID=America/Los_Angeles:20240718T200000
DTSTAMP:20260422T203555
CREATED:20240704T052406Z
LAST-MODIFIED:20240704T052406Z
UID:7705-1721332800-1721332800@salmonbayeagles.com
SUMMARY:Johnny Atomic & the Silver Tongued Devils
DESCRIPTION:
URL:https://salmonbayeagles.com/event/johnny-atomic-the-silver-tongued-devils-10/
LOCATION:Social Room
END:VEVENT
BEGIN:VEVENT
DTSTART;TZID=America/Los_Angeles:20240719T190000
DTEND;TZID=America/Los_Angeles:20240719T190000
DTSTAMP:20260422T203555
CREATED:20240704T052426Z
LAST-MODIFIED:20240704T053538Z
UID:7710-1721415600-1721415600@salmonbayeagles.com
SUMMARY:Murphy's Dinner Surprise
DESCRIPTION:
URL:https://salmonbayeagles.com/event/murphys-dinner-surprise-2/
LOCATION:Social Room
END:VEVENT
BEGIN:VEVENT
DTSTART;TZID=America/Los_Angeles:20240719T200000
DTEND;TZID=America/Los_Angeles:20240719T200000
DTSTAMP:20260422T203555
CREATED:20240704T052429Z
LAST-MODIFIED:20240704T052429Z
UID:7711-1721419200-1721419200@salmonbayeagles.com
SUMMARY:Cory McDaniel with Gone Johnson Revue
DESCRIPTION:Cory McDaniel\, hailing from Casper\, WY\, is not only a singer but also a songwriter and guitarist. While in Seattle\, he performed with local bands and continues to reunite yearly with his former bandmates in the Gone Johnson Revue. Throughout his musical career\, Cory has performed in unconventional settings such as a German prison and a mental hospital. Cory McDaniel Duo with Gone Johnson Revue promises to be a good ol’ fun time with music to keep you dancing all night long.
URL:https://salmonbayeagles.com/event/cory-mcdaniel-with-gone-johnson-revue/
LOCATION:Social Room
END:VEVENT
BEGIN:VEVENT
DTSTART;TZID=America/Los_Angeles:20240720T190000
DTEND;TZID=America/Los_Angeles:20240720T190000
DTSTAMP:20260422T203555
CREATED:20240704T052459Z
LAST-MODIFIED:20240704T052459Z
UID:7715-1721502000-1721502000@salmonbayeagles.com
SUMMARY:Murphy's Dinner Surprise
DESCRIPTION:
URL:https://salmonbayeagles.com/event/murphys-dinner-surprise-3/
LOCATION:Social Room
END:VEVENT
BEGIN:VEVENT
DTSTART;TZID=America/Los_Angeles:20240720T200000
DTEND;TZID=America/Los_Angeles:20240720T200000
DTSTAMP:20260422T203555
CREATED:20240704T052504Z
LAST-MODIFIED:20240704T052504Z
UID:7716-1721505600-1721505600@salmonbayeagles.com
SUMMARY:Enchantrix
DESCRIPTION:
URL:https://salmonbayeagles.com/event/enchantrix/
LOCATION:Social Room
END:VEVENT
BEGIN:VEVENT
DTSTART;TZID=America/Los_Angeles:20240721T160000
DTEND;TZID=America/Los_Angeles:20240721T160000
DTSTAMP:20260422T203555
CREATED:20240704T052508Z
LAST-MODIFIED:20240704T052508Z
UID:7717-1721577600-1721577600@salmonbayeagles.com
SUMMARY:Ballard 73 Party-Michael Bird & Randy McCallister
DESCRIPTION:
URL:https://salmonbayeagles.com/event/ballard-73-party-michael-bird-randy-mccallister/
LOCATION:Social Room
END:VEVENT
BEGIN:VEVENT
DTSTART;TZID=America/Los_Angeles:20240724T180000
DTEND;TZID=America/Los_Angeles:20240724T180000
DTSTAMP:20260422T203555
CREATED:20240607T024927Z
LAST-MODIFIED:20240607T024927Z
UID:7682-1721844000-1721844000@salmonbayeagles.com
SUMMARY:Joker Poker
DESCRIPTION:Wednesdays are Poker Joker nights. If no one pulls the Joker\, the pot grows every week. The next winner could be you. HOW TO PLAY: Joker Poker raffles tickets cost $1 each and maybe purchased from the bartender or conductor of the raffle up until 6pm.
URL:https://salmonbayeagles.com/event/joker-poker-96/
LOCATION:Social Room
END:VEVENT
BEGIN:VEVENT
DTSTART;TZID=America/Los_Angeles:20240724T190000
DTEND;TZID=America/Los_Angeles:20240724T190000
DTSTAMP:20260422T203555
CREATED:20240607T024944Z
LAST-MODIFIED:20240607T024944Z
UID:7686-1721847600-1721847600@salmonbayeagles.com
SUMMARY:Movie Nite
DESCRIPTION:The Outsiders
URL:https://salmonbayeagles.com/event/movie-nite-23/
LOCATION:Social Room
END:VEVENT
BEGIN:VEVENT
DTSTART;TZID=America/Los_Angeles:20240725T183000
DTEND;TZID=America/Los_Angeles:20240725T183000
DTSTAMP:20260422T203555
CREATED:20240704T052415Z
LAST-MODIFIED:20240704T052415Z
UID:7707-1721932200-1721932200@salmonbayeagles.com
SUMMARY:Judy's Prawn Po' Boys
DESCRIPTION:Includes flash fried breaded prawns served w/ special sauce on a hoagie with chips. Proceeds benefit Ballard Food Bank
URL:https://salmonbayeagles.com/event/judys-prawn-po-boys-2/
LOCATION:Social Room
END:VEVENT
BEGIN:VEVENT
DTSTART;TZID=America/Los_Angeles:20240725T200000
DTEND;TZID=America/Los_Angeles:20240725T200000
DTSTAMP:20260422T203555
CREATED:20240704T052410Z
LAST-MODIFIED:20240704T052410Z
UID:7706-1721937600-1721937600@salmonbayeagles.com
SUMMARY:Salmon Dan's Jam
DESCRIPTION:
URL:https://salmonbayeagles.com/event/salmon-dans-jam-6/
LOCATION:Social Room
END:VEVENT
BEGIN:VEVENT
DTSTART;TZID=America/Los_Angeles:20240726T183000
DTEND;TZID=America/Los_Angeles:20240726T183000
DTSTAMP:20260422T203555
CREATED:20240704T052445Z
LAST-MODIFIED:20240704T052445Z
UID:7712-1722018600-1722018600@salmonbayeagles.com
SUMMARY:Judy's Prawn Po' Boys
DESCRIPTION:Includes flash fried breaded prawns served w/ special sauce on a hoagie with chips. Proceeds benefit Ballard Food Bank
URL:https://salmonbayeagles.com/event/judys-prawn-po-boys-3/
LOCATION:Social Room
END:VEVENT
BEGIN:VEVENT
DTSTART;TZID=America/Los_Angeles:20240726T200000
DTEND;TZID=America/Los_Angeles:20240726T200000
DTSTAMP:20260422T203555
CREATED:20240704T052450Z
LAST-MODIFIED:20240704T053654Z
UID:7713-1722024000-1722024000@salmonbayeagles.com
SUMMARY:The Cold 102's
DESCRIPTION:
URL:https://salmonbayeagles.com/event/the-cold-102s/
LOCATION:Social Room
END:VEVENT
BEGIN:VEVENT
DTSTART;TZID=America/Los_Angeles:20240727T200000
DTEND;TZID=America/Los_Angeles:20240727T200000
DTSTAMP:20260422T203555
CREATED:20240704T052512Z
LAST-MODIFIED:20240704T052512Z
UID:7718-1722110400-1722110400@salmonbayeagles.com
SUMMARY:Leif Totusek with guest Phil Sparks
DESCRIPTION:Buckle up for a dazzling display of culture with a double feature of music and dance starting with a special performance by Leif Totusek . Leif is an American guitarist\, band leader\, and composer who began performing locally in Seattle as early as age 15 with numerous musical groups. At age 17\, he traveled to London and immersed himself in the London ethnic jazz scene. Since then\, Leif has performed with gospel choirs\, grunge bands\, jazz quartets and African ensembles on both sides of the Atlantic. For this show\, he will be playing North African\, Arabic\, Turkish and gypsy Glamenco music.
URL:https://salmonbayeagles.com/event/leif-totusek-with-guest-phil-sparks/
LOCATION:Social Room
END:VEVENT
BEGIN:VEVENT
DTSTART;TZID=America/Los_Angeles:20240727T210000
DTEND;TZID=America/Los_Angeles:20240727T210000
DTSTAMP:20260422T203555
CREATED:20240704T052518Z
LAST-MODIFIED:20240704T052518Z
UID:7719-1722114000-1722114000@salmonbayeagles.com
SUMMARY:Belly Dance Extravaganza
DESCRIPTION:Our next act will showcase the mesmerizing art of belly dancing. Three talented dancers will grace the stage\, performing a piece titled “Sounds of the Sahara.” These seasoned performers have enthralled audiences across Seattle\, including a recent appearance at Folklife. Leading the group is Rebecca\, the principal dancer\, who also shares her passion for belly dancing by teaching classes at the Olympic Athletic Club. David B. Metz will provide captivating music on the Arabic drum. David is a veteran of Middle Eastern music\, and has years of experience creating electrifying drum solos for dancers. It’s a truly unique experience – a spontaneous dance between the drummer and the dancer\, Gilled with excitement and rapid-Gire energy. Don’t miss this chance to see something truly special!
URL:https://salmonbayeagles.com/event/belly-dance-extravaganza/
LOCATION:Social Room
END:VEVENT
BEGIN:VEVENT
DTSTART;TZID=America/Los_Angeles:20240731T180000
DTEND;TZID=America/Los_Angeles:20240731T180000
DTSTAMP:20260422T203555
CREATED:20240607T024931Z
LAST-MODIFIED:20240607T024931Z
UID:7683-1722448800-1722448800@salmonbayeagles.com
SUMMARY:Joker Poker
DESCRIPTION:Wednesdays are Poker Joker nights. If no one pulls the Joker\, the pot grows every week. The next winner could be you. HOW TO PLAY: Joker Poker raffles tickets cost $1 each and maybe purchased from the bartender or conductor of the raffle up until 6pm.
URL:https://salmonbayeagles.com/event/joker-poker-97/
LOCATION:Social Room
END:VEVENT
BEGIN:VEVENT
DTSTART;TZID=America/Los_Angeles:20240731T193000
DTEND;TZID=America/Los_Angeles:20240731T193000
DTSTAMP:20260422T203555
CREATED:20240704T052354Z
LAST-MODIFIED:20240704T053206Z
UID:7703-1722454200-1722454200@salmonbayeagles.com
SUMMARY:Marcia's Birthday Celebration
DESCRIPTION:Save to the date\, Wednesday\, July 31\, and raise a glass to our lady of blues. Join us for a magical night filled with music\, food\, dancing and LOTS of laughter as we celebrate the inimitable Marcia Jackson a.k.a Mamma the Kitchen Wench and her 73 years of outrageous excellence and 30 years of dedicated service as an FOE Auxiliary member. Party starts at 5pm with food and music to follow. Give it up for Marcia!
URL:https://salmonbayeagles.com/event/marcias-birthday-celebration/
LOCATION:Social Room
END:VEVENT
BEGIN:VEVENT
DTSTART;TZID=America/Los_Angeles:20240801T200000
DTEND;TZID=America/Los_Angeles:20240801T200000
DTSTAMP:20260422T203555
CREATED:20240704T063026Z
LAST-MODIFIED:20240704T063026Z
UID:7736-1722542400-1722542400@salmonbayeagles.com
SUMMARY:Women’s Rockin’ Blues Jam w/Cheri Adams
DESCRIPTION:
URL:https://salmonbayeagles.com/event/womens-rockin-blues-jam-w-cheri-adams-2/
LOCATION:Social Room
END:VEVENT
BEGIN:VEVENT
DTSTART;TZID=America/Los_Angeles:20240802T200000
DTEND;TZID=America/Los_Angeles:20240802T200000
DTSTAMP:20260422T203555
CREATED:20240704T063030Z
LAST-MODIFIED:20240704T063030Z
UID:7737-1722628800-1722628800@salmonbayeagles.com
SUMMARY:Seattle Houserockers
DESCRIPTION:
URL:https://salmonbayeagles.com/event/seattle-houserockers/
LOCATION:Social Room
END:VEVENT
BEGIN:VEVENT
DTSTART;TZID=America/Los_Angeles:20240803T200000
DTEND;TZID=America/Los_Angeles:20240803T200000
DTSTAMP:20260422T203555
CREATED:20240704T063034Z
LAST-MODIFIED:20240704T063034Z
UID:7738-1722715200-1722715200@salmonbayeagles.com
SUMMARY:Stevie & The Blue Flames
DESCRIPTION:
URL:https://salmonbayeagles.com/event/stevie-the-blue-flames-4/
LOCATION:Social Room
END:VEVENT
BEGIN:VEVENT
DTSTART;VALUE=DATE:20240805
DTEND;VALUE=DATE:20240809
DTSTAMP:20260422T203555
CREATED:20240806T013559Z
LAST-MODIFIED:20240806T015838Z
UID:7762-1722816000-1723161599@salmonbayeagles.com
SUMMARY:FOE National Convention New Orleans
DESCRIPTION:Join us in the Big Easy this summer from Monday\, August 5 – Thursday August 8th. Come participate in the 2024 talent show and show off what talents you have.
URL:https://salmonbayeagles.com/event/foe-national-convention/
CATEGORIES:Members Only
END:VEVENT
BEGIN:VEVENT
DTSTART;TZID=America/Los_Angeles:20240807T180000
DTEND;TZID=America/Los_Angeles:20240807T180000
DTSTAMP:20260422T203555
CREATED:20240704T062934Z
LAST-MODIFIED:20240704T062934Z
UID:7726-1723053600-1723053600@salmonbayeagles.com
SUMMARY:Joker Poker
DESCRIPTION:
URL:https://salmonbayeagles.com/event/joker-poker-98/
LOCATION:Social Room
END:VEVENT
BEGIN:VEVENT
DTSTART;TZID=America/Los_Angeles:20240807T180000
DTEND;TZID=America/Los_Angeles:20240807T180000
DTSTAMP:20260422T203555
CREATED:20240806T013451Z
LAST-MODIFIED:20240806T013451Z
UID:7748-1723053600-1723053600@salmonbayeagles.com
SUMMARY:Calendar Mtg
DESCRIPTION:Calendar meetings occur on the first Wednesday of the month at 6pm in the game room. This monthly meeting communicates upcoming events and volunteer needs to members.
URL:https://salmonbayeagles.com/event/calendar-mtg-4/
LOCATION:Social Room
CATEGORIES:Members Only
END:VEVENT
END:VCALENDAR