BEGIN:VCALENDAR
VERSION:2.0
PRODID:-//Salmon Bay Eagles 2141 - ECPv6.15.17.1//NONSGML v1.0//EN
CALSCALE:GREGORIAN
METHOD:PUBLISH
X-ORIGINAL-URL:https://salmonbayeagles.com
X-WR-CALDESC:Events for Salmon Bay Eagles 2141
REFRESH-INTERVAL;VALUE=DURATION:PT1H
X-Robots-Tag:noindex
X-PUBLISHED-TTL:PT1H
BEGIN:VTIMEZONE
TZID:America/Los_Angeles
BEGIN:DAYLIGHT
TZOFFSETFROM:-0800
TZOFFSETTO:-0700
TZNAME:PDT
DTSTART:20230312T100000
END:DAYLIGHT
BEGIN:STANDARD
TZOFFSETFROM:-0700
TZOFFSETTO:-0800
TZNAME:PST
DTSTART:20231105T090000
END:STANDARD
BEGIN:DAYLIGHT
TZOFFSETFROM:-0800
TZOFFSETTO:-0700
TZNAME:PDT
DTSTART:20240310T100000
END:DAYLIGHT
BEGIN:STANDARD
TZOFFSETFROM:-0700
TZOFFSETTO:-0800
TZNAME:PST
DTSTART:20241103T090000
END:STANDARD
BEGIN:DAYLIGHT
TZOFFSETFROM:-0800
TZOFFSETTO:-0700
TZNAME:PDT
DTSTART:20250309T100000
END:DAYLIGHT
BEGIN:STANDARD
TZOFFSETFROM:-0700
TZOFFSETTO:-0800
TZNAME:PST
DTSTART:20251102T090000
END:STANDARD
BEGIN:DAYLIGHT
TZOFFSETFROM:-0800
TZOFFSETTO:-0700
TZNAME:PDT
DTSTART:20260308T100000
END:DAYLIGHT
BEGIN:STANDARD
TZOFFSETFROM:-0700
TZOFFSETTO:-0800
TZNAME:PST
DTSTART:20261101T090000
END:STANDARD
END:VTIMEZONE
BEGIN:VEVENT
DTSTART;TZID=America/Los_Angeles:20241212T200000
DTEND;TZID=America/Los_Angeles:20241212T200000
DTSTAMP:20260422T192746
CREATED:20241108T004846Z
LAST-MODIFIED:20241126T205051Z
UID:7990-1734033600-1734033600@salmonbayeagles.com
SUMMARY:All Stars No Stripes - Memorial Christmas Party
DESCRIPTION:The Annual Kevin Wallace Memorial Christmas Party\nFt. the Salmon Bay Eagles House Band: All Stars No Stripes\nFeaturing Murphy’s Italian Pasta \nBack in December 1989 blues came to Salmon Bay Eagles with the help of Kevin Wallace and the band he formed became All Stars No Stripes. Now Stan Eike and company are back to rock the rafters. With Stan and Scotty Lind on guitar and vocals; Howard Hooper on bass; Billy Reed\, keyboards and vocals and Marty Vadalabene on drums\, they will be tearing up the joint! Playing a vibrant mix of blues\, R&B\, rock & roll and jazz\, All Stars No Stripes Band are truly all-stars and are known for delivering the goods every time they perform. Bring your dancing shoes and head on down to Ballard and Salmon Bay Eagles the home of the blues for a rockin’ good time.
URL:https://salmonbayeagles.com/event/all-stars-no-stripes-5/
LOCATION:Social Room
ATTACH;FMTTYPE=image/png:https://salmonbayeagles.com/wp-content/uploads/2024/11/Dark-Blue-and-Red-Illustrative-Winter-Movie-Night-Promotion-Instagram-Post-1.png
END:VEVENT
BEGIN:VEVENT
DTSTART;TZID=America/Los_Angeles:20241213T190000
DTEND;TZID=America/Los_Angeles:20241213T190000
DTSTAMP:20260422T192746
CREATED:20241108T004623Z
LAST-MODIFIED:20241108T004623Z
UID:7979-1734116400-1734116400@salmonbayeagles.com
SUMMARY:Italian Meatballs & Pasta
DESCRIPTION:Dec 12-14 Murphy is making her special Italian meatball pasta with garlic bread and salad. It’s a hearty meal to take the chill off the bones. Only $15 with dessert.
URL:https://salmonbayeagles.com/event/italian-meatballs-pasta-2/
LOCATION:Social Room
END:VEVENT
BEGIN:VEVENT
DTSTART;TZID=America/Los_Angeles:20241213T200000
DTEND;TZID=America/Los_Angeles:20241213T200000
DTSTAMP:20260422T192746
CREATED:20241108T004849Z
LAST-MODIFIED:20241108T004849Z
UID:7991-1734120000-1734120000@salmonbayeagles.com
SUMMARY:Mark Riley Trio
DESCRIPTION:The Mark Riley Trio\, led by award-winning blues guitarist Mark Riley\, captivates audiences with dynamic performances. Riley\, a versatile musician and producer\, won “Best Acoustic Guitar” at the Washington Blues Society Awards in 1998 and 1999.
URL:https://salmonbayeagles.com/event/mark-riley-trio-3/
LOCATION:Social Room
END:VEVENT
BEGIN:VEVENT
DTSTART;TZID=America/Los_Angeles:20241214T190000
DTEND;TZID=America/Los_Angeles:20241214T190000
DTSTAMP:20260422T192746
CREATED:20241108T004626Z
LAST-MODIFIED:20241108T004626Z
UID:7980-1734202800-1734202800@salmonbayeagles.com
SUMMARY:Italian Meatballs & Pasta
DESCRIPTION:Dec 12-14 Murphy is making her special Italian meatball pasta with garlic bread and salad. It’s a hearty meal to take the chill off the bones. Only $15 with dessert.
URL:https://salmonbayeagles.com/event/italian-meatballs-pasta-3/
LOCATION:Social Room
END:VEVENT
BEGIN:VEVENT
DTSTART;TZID=America/Los_Angeles:20241214T200000
DTEND;TZID=America/Los_Angeles:20241214T200000
DTSTAMP:20260422T192746
CREATED:20241108T004853Z
LAST-MODIFIED:20241108T004853Z
UID:7992-1734206400-1734206400@salmonbayeagles.com
SUMMARY:Vududes
DESCRIPTION:The Vududes\, formed in 1997 from Fat Cat members\, showcase top Pacific Northwest talent. Led by singer-songwriter Pat Gossan\, they perform original material with a lineup of keys\, guitar\, bass\, and drums\, all contributing vocals.
URL:https://salmonbayeagles.com/event/vududes-3/
LOCATION:Social Room
END:VEVENT
BEGIN:VEVENT
DTSTART;TZID=America/Los_Angeles:20241215T172000
DTEND;TZID=America/Los_Angeles:20241215T172000
DTSTAMP:20260422T192746
CREATED:20241108T005007Z
LAST-MODIFIED:20241108T005007Z
UID:8001-1734283200-1734283200@salmonbayeagles.com
SUMMARY:Packers vs Seahawks
DESCRIPTION:Come to the club and root for the Hawks. There’s game day food\, drink specials\, and prizes awaiting for you.
URL:https://salmonbayeagles.com/event/packers-vs-seahawks/
LOCATION:Social Room
END:VEVENT
BEGIN:VEVENT
DTSTART;TZID=America/Los_Angeles:20241218T180000
DTEND;TZID=America/Los_Angeles:20241218T180000
DTSTAMP:20260422T192746
CREATED:20241108T004534Z
LAST-MODIFIED:20241126T201211Z
UID:7969-1734544800-1734544800@salmonbayeagles.com
SUMMARY:Joker Poker
DESCRIPTION:Wednesdays are Poker Joker nights. If no one pulls the Joker\, the pot grows every week. The next winner could be you. HOW TO PLAY: Joker Poker raffles tickets cost $1 each and maybe purchased from the bartender or conductor of the raffle up until 6pm.
URL:https://salmonbayeagles.com/event/joker-poker-blowout/
LOCATION:Social Room
END:VEVENT
BEGIN:VEVENT
DTSTART;TZID=America/Los_Angeles:20241218T190000
DTEND;TZID=America/Los_Angeles:20241218T190000
DTSTAMP:20260422T192746
CREATED:20241108T004547Z
LAST-MODIFIED:20241108T004547Z
UID:7972-1734548400-1734548400@salmonbayeagles.com
SUMMARY:Movie Nite
DESCRIPTION:Miracle on 34th Street
URL:https://salmonbayeagles.com/event/movie-nite-31/
LOCATION:Social Room
END:VEVENT
BEGIN:VEVENT
DTSTART;TZID=America/Los_Angeles:20241218T190000
DTEND;TZID=America/Los_Angeles:20241218T190000
DTSTAMP:20260422T192746
CREATED:20241108T004556Z
LAST-MODIFIED:20241108T004556Z
UID:7975-1734548400-1734548400@salmonbayeagles.com
SUMMARY:Aerie Meeting
DESCRIPTION:Aerie meetings are held the first and third Wednesdays of each month at 7:00 P.M. in the Grand Hall on the second floor. All members are welcome. Initiation of new members occurs during the meeting held on the 2nd Wednesday of each month.
URL:https://salmonbayeagles.com/event/aerie-meeting-54/
LOCATION:Social Room
END:VEVENT
BEGIN:VEVENT
DTSTART;TZID=America/Los_Angeles:20241219T190000
DTEND;TZID=America/Los_Angeles:20241219T190000
DTSTAMP:20260422T192746
CREATED:20241108T004630Z
LAST-MODIFIED:20241108T004630Z
UID:7981-1734634800-1734634800@salmonbayeagles.com
SUMMARY:Turkey Blue Plate Special
DESCRIPTION:Dec 19-21 Murphy is making a Turkey Blue Plate Special that includes turkey breast\, stuffing\, mashed potatoes\, gravy\, cranberry sauce\, and a side plus dessert for $15.
URL:https://salmonbayeagles.com/event/turkey-blue-plate-special/
LOCATION:Social Room
END:VEVENT
BEGIN:VEVENT
DTSTART;TZID=America/Los_Angeles:20241219T200000
DTEND;TZID=America/Los_Angeles:20241219T200000
DTSTAMP:20260422T192746
CREATED:20241108T004856Z
LAST-MODIFIED:20241108T004856Z
UID:7993-1734638400-1734638400@salmonbayeagles.com
SUMMARY:Silver Tongued Devils
DESCRIPTION:Johnny Atomic & the Silver Tongue Devils: Top regional talent playing blues\, rock & R&B. Features ex-Fabulous Wailers guitarist John Hanford\, keyboardist Mike Japp\, drummer Ben Smith\, and bassist Rick Houle. Expect great live music and a good time!
URL:https://salmonbayeagles.com/event/silver-tongued-devils-3/
LOCATION:Social Room
END:VEVENT
BEGIN:VEVENT
DTSTART;TZID=America/Los_Angeles:20241220T190000
DTEND;TZID=America/Los_Angeles:20241220T190000
DTSTAMP:20260422T192746
CREATED:20241108T004637Z
LAST-MODIFIED:20241108T004637Z
UID:7982-1734721200-1734721200@salmonbayeagles.com
SUMMARY:Turkey Blue Plate Special
DESCRIPTION:Dec 19-21 Murphy is making a Turkey Blue Plate Special that includes turkey breast\, stuffing\, mashed potatoes\, gravy\, cranberry sauce\, and a side plus dessert for $15.
URL:https://salmonbayeagles.com/event/turkey-blue-plate-special-2/
LOCATION:Social Room
END:VEVENT
BEGIN:VEVENT
DTSTART;TZID=America/Los_Angeles:20241220T200000
DTEND;TZID=America/Los_Angeles:20241220T200000
DTSTAMP:20260422T192746
CREATED:20241108T004859Z
LAST-MODIFIED:20241108T004859Z
UID:7994-1734724800-1734724800@salmonbayeagles.com
SUMMARY:Ron Bailey & The Tangents
DESCRIPTION:Ron & the Tangents\, featuring seasoned musicians from renowned local bands\, deliver infectious music that fills dance floors. Led by showman Ron\, with a lineup on drums\, guitar\, bass\, and keys\, they keep the party going all night long.
URL:https://salmonbayeagles.com/event/ron-bailey-the-tangents-16/
LOCATION:Social Room
END:VEVENT
BEGIN:VEVENT
DTSTART;TZID=America/Los_Angeles:20241221T190000
DTEND;TZID=America/Los_Angeles:20241221T190000
DTSTAMP:20260422T192746
CREATED:20241108T004641Z
LAST-MODIFIED:20241108T004641Z
UID:7983-1734807600-1734807600@salmonbayeagles.com
SUMMARY:Turkey Blue Plate Special
DESCRIPTION:Dec 19-21 Murphy is making a Turkey Blue Plate Special that includes turkey breast\, stuffing\, mashed potatoes\, gravy\, cranberry sauce\, and a side plus dessert for $15.
URL:https://salmonbayeagles.com/event/turkey-blue-plate-special-3/
LOCATION:Social Room
END:VEVENT
BEGIN:VEVENT
DTSTART;TZID=America/Los_Angeles:20241221T200000
DTEND;TZID=America/Los_Angeles:20241221T200000
DTSTAMP:20260422T192746
CREATED:20241108T004902Z
LAST-MODIFIED:20241108T004902Z
UID:7995-1734811200-1734811200@salmonbayeagles.com
SUMMARY:Chris Stevens Band
DESCRIPTION:Chris Stevens Band\, led by NW blues favorite Chris Stevens\, blends traditional blues with surf and jazz influences. Known for scorching guitar work and innovative style\, Chris is backed by Mark Dalton (bass) and Todd Zimberg (drums).
URL:https://salmonbayeagles.com/event/chris-stevens-band-8/
LOCATION:Social Room
END:VEVENT
BEGIN:VEVENT
DTSTART;TZID=America/Los_Angeles:20241222T130500
DTEND;TZID=America/Los_Angeles:20241222T130500
DTSTAMP:20260422T192746
CREATED:20241108T005150Z
LAST-MODIFIED:20241108T005150Z
UID:8002-1734872700-1734872700@salmonbayeagles.com
SUMMARY:Vikings vs Seahawks
DESCRIPTION:Come to the club and root for the Hawks. There’s game day food\, drink specials\, and prizes awaiting for you.
URL:https://salmonbayeagles.com/event/vikings-vs-seahawks/
LOCATION:Social Room
END:VEVENT
BEGIN:VEVENT
DTSTART;TZID=America/Los_Angeles:20241222T140000
DTEND;TZID=America/Los_Angeles:20241222T140000
DTSTAMP:20260422T192746
CREATED:20241108T005157Z
LAST-MODIFIED:20241126T204355Z
UID:8004-1734876000-1734876000@salmonbayeagles.com
SUMMARY:Holiday Bake-Off
DESCRIPTION:SBE is hosting a Holiday Bake-off. Bring your choice of cookies or dessert to the club by 2pm. Judging will happen around 2:30pm during half time of the Seahawks football game. Bake-off entry is free\, but tastings are $5. Winner gets 50% of the pot and the rest goes to charity.
URL:https://salmonbayeagles.com/event/holiday-bake-off/
LOCATION:Social Room
ATTACH;FMTTYPE=image/png:https://salmonbayeagles.com/wp-content/uploads/2024/11/Colorful-Christmas-Cookies-Instagram-Post.png
END:VEVENT
BEGIN:VEVENT
DTSTART;VALUE=DATE:20241225
DTEND;VALUE=DATE:20241226
DTSTAMP:20260422T192746
CREATED:20241108T012857Z
LAST-MODIFIED:20241108T012857Z
UID:8006-1735084800-1735171199@salmonbayeagles.com
SUMMARY:Christmas Day Closed
DESCRIPTION:
URL:https://salmonbayeagles.com/event/christmas-day-closed/
END:VEVENT
BEGIN:VEVENT
DTSTART;TZID=America/Los_Angeles:20241226T171500
DTEND;TZID=America/Los_Angeles:20241226T171500
DTSTAMP:20260422T192746
CREATED:20241108T005154Z
LAST-MODIFIED:20241108T005154Z
UID:8003-1735233300-1735233300@salmonbayeagles.com
SUMMARY:Seahawks vs Bears
DESCRIPTION:Come to the club and root for the Hawks. There’s game day food\, drink specials\, and prizes awaiting for you.
URL:https://salmonbayeagles.com/event/seahawks-vs-bears/
LOCATION:Social Room
END:VEVENT
BEGIN:VEVENT
DTSTART;TZID=America/Los_Angeles:20241226T190000
DTEND;TZID=America/Los_Angeles:20241226T190000
DTSTAMP:20260422T192746
CREATED:20241126T201423Z
LAST-MODIFIED:20241126T201433Z
UID:8026-1735239600-1735239600@salmonbayeagles.com
SUMMARY:Parmesan Crusted Salmon
DESCRIPTION:Dec 26-28 Get Judy’s Parmesan Crusted Salmon. Always a steal at $15.
URL:https://salmonbayeagles.com/event/parmesan-crusted-salmon/
END:VEVENT
BEGIN:VEVENT
DTSTART;TZID=America/Los_Angeles:20241226T200000
DTEND;TZID=America/Los_Angeles:20241226T200000
DTSTAMP:20260422T192746
CREATED:20241108T004905Z
LAST-MODIFIED:20241108T004905Z
UID:7996-1735243200-1735243200@salmonbayeagles.com
SUMMARY:Salmon Dan's Jam
DESCRIPTION:Salmon Dan hosts a monthly blues jam on the last Thursday\, backed by Billy Reed (piano)\, Marty Vadalabene (drums)\, and Walter White (bass). Professional and aspiring musicians welcome to join this revived Salmon Bay Eagles tradition.
URL:https://salmonbayeagles.com/event/salmon-dans-jam-9/
LOCATION:Social Room
END:VEVENT
BEGIN:VEVENT
DTSTART;TZID=America/Los_Angeles:20241227T190000
DTEND;TZID=America/Los_Angeles:20241227T190000
DTSTAMP:20260422T192746
CREATED:20241126T201511Z
LAST-MODIFIED:20241126T201511Z
UID:8028-1735326000-1735326000@salmonbayeagles.com
SUMMARY:Parmesan Crusted Salmon
DESCRIPTION:Dec 26-28 Get Judy’s Parmesan Crusted Salmon. Always a steal at $15.
URL:https://salmonbayeagles.com/event/parmesan-crusted-salmon-2/
END:VEVENT
BEGIN:VEVENT
DTSTART;TZID=America/Los_Angeles:20241227T200000
DTEND;TZID=America/Los_Angeles:20241227T200000
DTSTAMP:20260422T192746
CREATED:20241108T004949Z
LAST-MODIFIED:20241108T004949Z
UID:7997-1735329600-1735329600@salmonbayeagles.com
SUMMARY:Ryan Higgins Band
DESCRIPTION:Ryan T Higgins\, NW guitarist/luthier\, delivers energetic rock-blues fusion with swagger. Joined by Joe Cook (harmonica)\, Robert Baker (bass)\, and Rick Bowen (drums)\, all on vocals. Expect a captivating blend of rock\, blues\, and roots music.
URL:https://salmonbayeagles.com/event/ryan-higgins-band/
LOCATION:Social Room
END:VEVENT
BEGIN:VEVENT
DTSTART;TZID=America/Los_Angeles:20241228T190000
DTEND;TZID=America/Los_Angeles:20241228T190000
DTSTAMP:20260422T192746
CREATED:20241126T201554Z
LAST-MODIFIED:20241126T201554Z
UID:8030-1735412400-1735412400@salmonbayeagles.com
SUMMARY:Parmesan Crusted Salmon
DESCRIPTION:Dec 26-28 Get Judy’s Parmesan Crusted Salmon. Always a steal at $15.
URL:https://salmonbayeagles.com/event/parmesan-crusted-salmon-3/
END:VEVENT
BEGIN:VEVENT
DTSTART;TZID=America/Los_Angeles:20241228T200000
DTEND;TZID=America/Los_Angeles:20241228T200000
DTSTAMP:20260422T192746
CREATED:20241108T004952Z
LAST-MODIFIED:20241108T004952Z
UID:7998-1735416000-1735416000@salmonbayeagles.com
SUMMARY:Trouble at Home
DESCRIPTION:Trouble at Home is acoustic soul duo John Marshall and Dan Newton who blend blues\, R&B\, and originals. Known for their soulful harmonies\, instrumental skill\, and dark humor\, their love for music shines through in every performance.
URL:https://salmonbayeagles.com/event/trouble-at-home-4/
LOCATION:Social Room
END:VEVENT
BEGIN:VEVENT
DTSTART;TZID=America/Los_Angeles:20241231T200000
DTEND;TZID=America/Los_Angeles:20241231T200000
DTSTAMP:20260422T192746
CREATED:20241126T194712Z
LAST-MODIFIED:20241126T201012Z
UID:8009-1735675200-1735675200@salmonbayeagles.com
SUMMARY:NYE Party ft. Mark DuFresne
DESCRIPTION:NEW YEAR’S EVE PARTY\, DEC 31\nRing in the New Year at the Salmon Bay Eagles with the incredible Mark DuFresne! Join us on Tuesday\, December 31\, for a lively celebration featuring exciting door prizes and a complimentary champagne toast.\nMark DuFresne\, a Grammy-nominated vocalist and multi-award-winning harmonica player\, will lead his band in a high-energy performance that blends original rhythm and blues\, soul\, ballads\, and classic blues. With a remarkable three-octave tenor range and a captivating stage presence\, DuFresne is a true showman.\nOn stage with him will be his talented band members: Billy Stapleton on guitar\, Kelly Leifer on bass\, and Steve Peterson on drums and vocals. Prepare to be blown away by their powerful sound and electrifying performances!\nDoors open at 5pm. Music starts at 8pm and goes to midnight. Free to members and their guests. $5 for non-members.
URL:https://salmonbayeagles.com/event/nye-party-ft-mark-dufresne/
CATEGORIES:Blues,Celebration,Members Only,Music
ATTACH;FMTTYPE=image/png:https://salmonbayeagles.com/wp-content/uploads/2024/11/Beige-Red-Vintage-Fathers-Day-BBQ-Party-Poster-6-e1732650401343.png
END:VEVENT
BEGIN:VEVENT
DTSTART;VALUE=DATE:20250101
DTEND;VALUE=DATE:20250102
DTSTAMP:20260422T192746
CREATED:20241126T200839Z
LAST-MODIFIED:20241126T200839Z
UID:8023-1735689600-1735775999@salmonbayeagles.com
SUMMARY:Closed for New Year's Day
DESCRIPTION:
URL:https://salmonbayeagles.com/event/closed-for-new-years-day/
END:VEVENT
BEGIN:VEVENT
DTSTART;TZID=America/Los_Angeles:20250102T190000
DTEND;TZID=America/Los_Angeles:20250102T190000
DTSTAMP:20260422T192746
CREATED:20241220T014256Z
LAST-MODIFIED:20241220T015309Z
UID:8053-1735844400-1735844400@salmonbayeagles.com
SUMMARY:Alex's Swedish Meatball Dinner
DESCRIPTION:Treat yourself to a delightful evening with Swedish meatballs. These meatballs are smothered in a rich gravy cream sauce and served over mashed potatoes or egg noodles.
URL:https://salmonbayeagles.com/event/alexs-swedish-meatball-dinner/
LOCATION:Social Room
CATEGORIES:Food
END:VEVENT
BEGIN:VEVENT
DTSTART;TZID=America/Los_Angeles:20250102T200000
DTEND;TZID=America/Los_Angeles:20250102T200000
DTSTAMP:20260422T192746
CREATED:20241220T014653Z
LAST-MODIFIED:20241220T014653Z
UID:8062-1735848000-1735848000@salmonbayeagles.com
SUMMARY:Jeff Herzog & the Jet City Fliers
DESCRIPTION:Blues\, New Orleans music\, R&B and choice old Rock & Roll delivered in a high energy party show; that is Jeff and the Jet City Fliers. Jeff and the band’s aim is to inspire the audience to have fun and forget their troubles. Lead singer and harmonica player Jeff Herzog delivers the songs with heart-felt enthusiasm.
URL:https://salmonbayeagles.com/event/jeff-herzog-the-jet-city-fliers-10/
LOCATION:Social Room
END:VEVENT
BEGIN:VEVENT
DTSTART;TZID=America/Los_Angeles:20250103T190000
DTEND;TZID=America/Los_Angeles:20250103T190000
DTSTAMP:20260422T192746
CREATED:20241220T014259Z
LAST-MODIFIED:20241220T015347Z
UID:8054-1735930800-1735930800@salmonbayeagles.com
SUMMARY:Alex's Swedish Meatball Dinner
DESCRIPTION:Treat yourself to a delightful evening with Swedish meatballs. These meatballs are smothered in a rich gravy cream sauce and served over mashed potatoes or egg noodles.
URL:https://salmonbayeagles.com/event/alexs-swedish-meatball-dinner-2/
LOCATION:Social Room
END:VEVENT
END:VCALENDAR