BEGIN:VCALENDAR
VERSION:2.0
PRODID:-//Salmon Bay Eagles 2141 - ECPv6.15.17.1//NONSGML v1.0//EN
CALSCALE:GREGORIAN
METHOD:PUBLISH
X-WR-CALNAME:Salmon Bay Eagles 2141
X-ORIGINAL-URL:https://salmonbayeagles.com
X-WR-CALDESC:Events for Salmon Bay Eagles 2141
REFRESH-INTERVAL;VALUE=DURATION:PT1H
X-Robots-Tag:noindex
X-PUBLISHED-TTL:PT1H
BEGIN:VTIMEZONE
TZID:America/Los_Angeles
BEGIN:DAYLIGHT
TZOFFSETFROM:-0800
TZOFFSETTO:-0700
TZNAME:PDT
DTSTART:20240310T100000
END:DAYLIGHT
BEGIN:STANDARD
TZOFFSETFROM:-0700
TZOFFSETTO:-0800
TZNAME:PST
DTSTART:20241103T090000
END:STANDARD
BEGIN:DAYLIGHT
TZOFFSETFROM:-0800
TZOFFSETTO:-0700
TZNAME:PDT
DTSTART:20250309T100000
END:DAYLIGHT
BEGIN:STANDARD
TZOFFSETFROM:-0700
TZOFFSETTO:-0800
TZNAME:PST
DTSTART:20251102T090000
END:STANDARD
BEGIN:DAYLIGHT
TZOFFSETFROM:-0800
TZOFFSETTO:-0700
TZNAME:PDT
DTSTART:20260308T100000
END:DAYLIGHT
BEGIN:STANDARD
TZOFFSETFROM:-0700
TZOFFSETTO:-0800
TZNAME:PST
DTSTART:20261101T090000
END:STANDARD
END:VTIMEZONE
BEGIN:VEVENT
DTSTART;TZID=America/Los_Angeles:20250215T190000
DTEND;TZID=America/Los_Angeles:20250215T190000
DTSTAMP:20260423T083222
CREATED:20250129T031721Z
LAST-MODIFIED:20250129T031721Z
UID:8110-1739646000-1739646000@salmonbayeagles.com
SUMMARY:Judy's Herb Crusted Halibut
DESCRIPTION:These halibut fillets are crusted with herbs and bread crumbs to make them juicy & crispy. Add some delicious sides and youÕve got a flavorful meal. Only $16.
URL:https://salmonbayeagles.com/event/judys-herb-crusted-halibut-2/
LOCATION:Social Room
CATEGORIES:Members Only
END:VEVENT
BEGIN:VEVENT
DTSTART;TZID=America/Los_Angeles:20250215T200000
DTEND;TZID=America/Los_Angeles:20250215T200000
DTSTAMP:20260423T083222
CREATED:20250129T031816Z
LAST-MODIFIED:20250129T031816Z
UID:8122-1739649600-1739649600@salmonbayeagles.com
SUMMARY:Trouble at Home: Tribute to Little Walter
DESCRIPTION:Their music is fundamentally rooted in blues\, enriched by a carefully curated selection of R&B and soul covers alongside a strong emphasis on original compositions.
URL:https://salmonbayeagles.com/event/trouble-at-home-tribute-to-little-walter/
LOCATION:Social Room
CATEGORIES:Members Only
END:VEVENT
BEGIN:VEVENT
DTSTART;TZID=America/Los_Angeles:20250219T180000
DTEND;TZID=America/Los_Angeles:20250219T180000
DTSTAMP:20260423T083222
CREATED:20250129T031609Z
LAST-MODIFIED:20250129T031609Z
UID:8096-1739988000-1739988000@salmonbayeagles.com
SUMMARY:Joker Poker
DESCRIPTION:Wednesdays are Poker Joker nights. If no one pulls the Joker\, the pot grows every week. You can win over $500! HOW TO PLAY: Joker Poker raffles tickets cost $1 each and maybe purchased from the bartender or conductor of the raffle up until 6pm.
URL:https://salmonbayeagles.com/event/joker-poker-123/
LOCATION:Social Room
CATEGORIES:Members Only
END:VEVENT
BEGIN:VEVENT
DTSTART;TZID=America/Los_Angeles:20250219T190000
DTEND;TZID=America/Los_Angeles:20250219T190000
DTSTAMP:20260423T083222
CREATED:20250129T031630Z
LAST-MODIFIED:20250129T031630Z
UID:8100-1739991600-1739991600@salmonbayeagles.com
SUMMARY:Movie Nite
DESCRIPTION:Check Facebook
URL:https://salmonbayeagles.com/event/movie-nite-38/
LOCATION:Social Room
CATEGORIES:Members Only
END:VEVENT
BEGIN:VEVENT
DTSTART;TZID=America/Los_Angeles:20250219T190000
DTEND;TZID=America/Los_Angeles:20250219T190000
DTSTAMP:20260423T083222
CREATED:20250129T031656Z
LAST-MODIFIED:20250129T031656Z
UID:8104-1739991600-1739991600@salmonbayeagles.com
SUMMARY:Aerie Meeting
DESCRIPTION:Aerie meetings are held the first and third Wednesdays of each month at 7:00 P.M. in the Grand Hall on the second floor. Members in good standing are encouraged to attend. Initiation of new members occurs on the third Wednesday of each month.
URL:https://salmonbayeagles.com/event/aerie-meeting-58/
LOCATION:Social Room
CATEGORIES:Members Only
END:VEVENT
BEGIN:VEVENT
DTSTART;TZID=America/Los_Angeles:20250220T190000
DTEND;TZID=America/Los_Angeles:20250220T190000
DTSTAMP:20260423T083222
CREATED:20250129T031725Z
LAST-MODIFIED:20250129T031725Z
UID:8111-1740078000-1740078000@salmonbayeagles.com
SUMMARY:Murphy's Hearty Beef Stew
DESCRIPTION:Nothing is sounds more comforting than MurphyÕs Hearty Beef Stew with some crusty bread and dessert. Only $15 to warm you up.
URL:https://salmonbayeagles.com/event/murphys-hearty-beef-stew/
LOCATION:Social Room
CATEGORIES:Members Only
END:VEVENT
BEGIN:VEVENT
DTSTART;TZID=America/Los_Angeles:20250220T200000
DTEND;TZID=America/Los_Angeles:20250220T200000
DTSTAMP:20260423T083222
CREATED:20250129T031819Z
LAST-MODIFIED:20250129T031819Z
UID:8123-1740081600-1740081600@salmonbayeagles.com
SUMMARY:Mark DuFresne
DESCRIPTION:Mark Dufresne is not your average blues artist. This dynamic quartet presents their original rhythm and blues material with the flair of a classic Chicago Blues Revue Band.
URL:https://salmonbayeagles.com/event/mark-dufresne/
LOCATION:Social Room
CATEGORIES:Members Only
END:VEVENT
BEGIN:VEVENT
DTSTART;TZID=America/Los_Angeles:20250221T190000
DTEND;TZID=America/Los_Angeles:20250221T190000
DTSTAMP:20260423T083222
CREATED:20250129T031729Z
LAST-MODIFIED:20250129T031729Z
UID:8112-1740164400-1740164400@salmonbayeagles.com
SUMMARY:Murphy's Hearty Beef Stew
DESCRIPTION:Nothing is sounds more comforting than MurphyÕs Hearty Beef Stew with some crusty bread and dessert. Only $15 to warm you up.
URL:https://salmonbayeagles.com/event/murphys-hearty-beef-stew-2/
LOCATION:Social Room
CATEGORIES:Members Only
END:VEVENT
BEGIN:VEVENT
DTSTART;TZID=America/Los_Angeles:20250221T200000
DTEND;TZID=America/Los_Angeles:20250221T200000
DTSTAMP:20260423T083222
CREATED:20250129T031824Z
LAST-MODIFIED:20250129T031824Z
UID:8124-1740168000-1740168000@salmonbayeagles.com
SUMMARY:Tumbling Dice
DESCRIPTION:Experience the music of the Rolling Stones with Tumbling Dice\, a tribute band playing all your favorite songs from the 60’s\, 70’s\, and 80’s.
URL:https://salmonbayeagles.com/event/tumbling-dice/
LOCATION:Social Room
CATEGORIES:Members Only
END:VEVENT
BEGIN:VEVENT
DTSTART;TZID=America/Los_Angeles:20250222T190000
DTEND;TZID=America/Los_Angeles:20250222T190000
DTSTAMP:20260423T083222
CREATED:20250129T031733Z
LAST-MODIFIED:20250129T031733Z
UID:8113-1740250800-1740250800@salmonbayeagles.com
SUMMARY:Murphy's Hearty Beef Stew
DESCRIPTION:Nothing is sounds more comforting than MurphyÕs Hearty Beef Stew with some crusty bread and dessert. Only $15 to warm you up.
URL:https://salmonbayeagles.com/event/murphys-hearty-beef-stew-3/
LOCATION:Social Room
CATEGORIES:Members Only
END:VEVENT
BEGIN:VEVENT
DTSTART;TZID=America/Los_Angeles:20250222T200000
DTEND;TZID=America/Los_Angeles:20250222T200000
DTSTAMP:20260423T083222
CREATED:20250129T031828Z
LAST-MODIFIED:20250129T031828Z
UID:8125-1740254400-1740254400@salmonbayeagles.com
SUMMARY:Burn Band
DESCRIPTION:Electrifying audiences with their unique blend of original pop and jazz\, Burn Band delivers an unforgettable musical experience
URL:https://salmonbayeagles.com/event/burn-band-2/
LOCATION:Social Room
CATEGORIES:Members Only
END:VEVENT
BEGIN:VEVENT
DTSTART;TZID=America/Los_Angeles:20250226T180000
DTEND;TZID=America/Los_Angeles:20250226T180000
DTSTAMP:20260423T083222
CREATED:20250129T031614Z
LAST-MODIFIED:20250129T031614Z
UID:8097-1740592800-1740592800@salmonbayeagles.com
SUMMARY:Joker Poker
DESCRIPTION:Wednesdays are Poker Joker nights. If no one pulls the Joker\, the pot grows every week. You can win over $500! HOW TO PLAY: Joker Poker raffles tickets cost $1 each and maybe purchased from the bartender or conductor of the raffle up until 6pm.
URL:https://salmonbayeagles.com/event/joker-poker-124/
LOCATION:Social Room
CATEGORIES:Members Only
END:VEVENT
BEGIN:VEVENT
DTSTART;TZID=America/Los_Angeles:20250226T190000
DTEND;TZID=America/Los_Angeles:20250226T190000
DTSTAMP:20260423T083222
CREATED:20250129T031633Z
LAST-MODIFIED:20250129T031633Z
UID:8101-1740596400-1740596400@salmonbayeagles.com
SUMMARY:Movie Nite
DESCRIPTION:Check Facebook
URL:https://salmonbayeagles.com/event/movie-nite-39/
LOCATION:Social Room
CATEGORIES:Members Only
END:VEVENT
BEGIN:VEVENT
DTSTART;TZID=America/Los_Angeles:20250227T190000
DTEND;TZID=America/Los_Angeles:20250227T190000
DTSTAMP:20260423T083222
CREATED:20250129T031737Z
LAST-MODIFIED:20250129T031737Z
UID:8114-1740682800-1740682800@salmonbayeagles.com
SUMMARY:Judy's Prawn Po'Boys
DESCRIPTION:Judy is back with her signature Prawn PoÕBoys with fresh lettuce and tomato in a delicious sauce for $15. Service starts at 6:30pm.
URL:https://salmonbayeagles.com/event/judys-prawn-poboys/
LOCATION:Social Room
CATEGORIES:Members Only
END:VEVENT
BEGIN:VEVENT
DTSTART;TZID=America/Los_Angeles:20250227T200000
DTEND;TZID=America/Los_Angeles:20250227T200000
DTSTAMP:20260423T083222
CREATED:20250129T031836Z
LAST-MODIFIED:20250129T031836Z
UID:8127-1740686400-1740686400@salmonbayeagles.com
SUMMARY:Salmon Dan's Jam
DESCRIPTION:Salmon Dan (aka Dan Abernethy) is hosting his monthly jam session featuring special guests Billy Reed on piano\, Marty Vadalabene on drums\, and Walter White on bass.
URL:https://salmonbayeagles.com/event/salmon-dans-jam-11/
LOCATION:Social Room
CATEGORIES:Members Only
END:VEVENT
BEGIN:VEVENT
DTSTART;TZID=America/Los_Angeles:20250228T190000
DTEND;TZID=America/Los_Angeles:20250228T190000
DTSTAMP:20260423T083222
CREATED:20250129T031741Z
LAST-MODIFIED:20250129T031741Z
UID:8115-1740769200-1740769200@salmonbayeagles.com
SUMMARY:Judy's Prawn Po'Boys
DESCRIPTION:Judy is back with her signature Prawn PoÕBoys with fresh lettuce and tomato in a delicious sauce for $15. Service starts at 6:30pm.
URL:https://salmonbayeagles.com/event/judys-prawn-poboys-2/
LOCATION:Social Room
CATEGORIES:Members Only
END:VEVENT
BEGIN:VEVENT
DTSTART;TZID=America/Los_Angeles:20250228T200000
DTEND;TZID=America/Los_Angeles:20250228T200000
DTSTAMP:20260423T083222
CREATED:20250129T031840Z
LAST-MODIFIED:20250129T031840Z
UID:8128-1740772800-1740772800@salmonbayeagles.com
SUMMARY:Market Street Dixieland Jazz Band
DESCRIPTION:Market Street Dixieland Jazz Band is a six-piece ensemble specializing in hot New Orleans traditional jazz\, Dixieland\, and 1920s-style tunes.
URL:https://salmonbayeagles.com/event/market-street-dixieland-jazz-band-2/
LOCATION:Social Room
CATEGORIES:Members Only
END:VEVENT
BEGIN:VEVENT
DTSTART;TZID=America/Los_Angeles:20250301T190000
DTEND;TZID=America/Los_Angeles:20250301T190000
DTSTAMP:20260423T083222
CREATED:20250129T031744Z
LAST-MODIFIED:20250129T031744Z
UID:8116-1740855600-1740855600@salmonbayeagles.com
SUMMARY:Judy's Prawn Po'Boys
DESCRIPTION:Judy is back with her signature Prawn PoÕBoys with fresh lettuce and tomato in a delicious sauce for $15. Service starts at 6:30pm.
URL:https://salmonbayeagles.com/event/judys-prawn-poboys-3/
LOCATION:Social Room
CATEGORIES:Members Only
END:VEVENT
BEGIN:VEVENT
DTSTART;TZID=America/Los_Angeles:20250301T200000
DTEND;TZID=America/Los_Angeles:20250301T200000
DTSTAMP:20260423T083222
CREATED:20250129T031832Z
LAST-MODIFIED:20250129T031832Z
UID:8126-1740859200-1740859200@salmonbayeagles.com
SUMMARY:Willet's Flying A
DESCRIPTION:PNW music veterans Willett’s Flying A bring heartfelt storytelling to life through their harmonious blend of original songs and covers from iconic artists like Joni Mitchell and James Taylor.
URL:https://salmonbayeagles.com/event/willets-flying-a-2/
LOCATION:Social Room
CATEGORIES:Members Only
END:VEVENT
BEGIN:VEVENT
DTSTART;TZID=America/Los_Angeles:20250305T180000
DTEND;TZID=America/Los_Angeles:20250305T180000
DTSTAMP:20260423T083222
CREATED:20250228T004440Z
LAST-MODIFIED:20250228T004440Z
UID:8138-1741197600-1741197600@salmonbayeagles.com
SUMMARY:Joker Poker
DESCRIPTION:Wednesdays are Poker Joker nights. If no one pulls the Joker\, the pot grows every week. The next winner could be you. HOW TO PLAY: Joker Poker raffles tickets cost $1 each and maybe purchased from the bartender or conductor of the raffle up until 6pm.
URL:https://salmonbayeagles.com/event/joker-poker-125/
LOCATION:Social Room
END:VEVENT
BEGIN:VEVENT
DTSTART;TZID=America/Los_Angeles:20250305T181500
DTEND;TZID=America/Los_Angeles:20250305T181500
DTSTAMP:20260423T083222
CREATED:20250228T004732Z
LAST-MODIFIED:20250228T004732Z
UID:8151-1741198500-1741198500@salmonbayeagles.com
SUMMARY:Trustee Meeting
DESCRIPTION:Speak with the Aerie Trustees! Any Aerie can come to a Trustee Meeting (every Wednesday at 6:15) and ask questions about club operations or voice concerns and ideas during the first part of our weekly meeting.
URL:https://salmonbayeagles.com/event/trustee-meeting-28/
LOCATION:Social Room
END:VEVENT
BEGIN:VEVENT
DTSTART;TZID=America/Los_Angeles:20250305T190000
DTEND;TZID=America/Los_Angeles:20250305T190000
DTSTAMP:20260423T083222
CREATED:20250228T004717Z
LAST-MODIFIED:20250228T004717Z
UID:8148-1741201200-1741201200@salmonbayeagles.com
SUMMARY:Aerie Meeting
DESCRIPTION:Aerie meetings are held the first and third Wednesdays of each month at 7:00 P.M. in the Grand Hall on the second floor. All members are welcome. Initiation of new members occurs during the meeting held on the 2nd Wednesday of each month.
URL:https://salmonbayeagles.com/event/aerie-meeting-59/
LOCATION:Social Room
END:VEVENT
BEGIN:VEVENT
DTSTART;TZID=America/Los_Angeles:20250306T190000
DTEND;TZID=America/Los_Angeles:20250306T190000
DTSTAMP:20260423T083222
CREATED:20250228T004908Z
LAST-MODIFIED:20250228T004908Z
UID:8155-1741287600-1741287600@salmonbayeagles.com
SUMMARY:Fish Tacos
DESCRIPTION:March 6-8 It’s a Baja favorite! Get Judy’s Fish Tacos for $15. Image crispy battered fish with slaw\, cilantro\, lime\, served with warm tortillas.
URL:https://salmonbayeagles.com/event/fish-tacos/
LOCATION:Social Room
END:VEVENT
BEGIN:VEVENT
DTSTART;TZID=America/Los_Angeles:20250306T200000
DTEND;TZID=America/Los_Angeles:20250306T200000
DTSTAMP:20260423T083222
CREATED:20250228T005127Z
LAST-MODIFIED:20250228T005127Z
UID:8167-1741291200-1741291200@salmonbayeagles.com
SUMMARY:Stevie & the Blue Flames
DESCRIPTION:Stevie and the Blue Flames\, formed in the 80s by Steve Bailey\, is a veteran band known for energetic performances. With awards and skilled musicians\, they deliver tight rhythms and dynamic solos\, showcasing their love for blues music.
URL:https://salmonbayeagles.com/event/stevie-the-blue-flames-8/
LOCATION:Social Room
END:VEVENT
BEGIN:VEVENT
DTSTART;TZID=America/Los_Angeles:20250307T190000
DTEND;TZID=America/Los_Angeles:20250307T190000
DTSTAMP:20260423T083222
CREATED:20250228T004911Z
LAST-MODIFIED:20250228T004911Z
UID:8156-1741374000-1741374000@salmonbayeagles.com
SUMMARY:Fish Tacos
DESCRIPTION:March 6-8 It’s a Baja favorite! Get Judy’s Fish Tacos for $15. Image crispy battered fish with slaw\, cilantro\, lime\, served with warm tortillas.
URL:https://salmonbayeagles.com/event/fish-tacos-2/
LOCATION:Social Room
END:VEVENT
BEGIN:VEVENT
DTSTART;TZID=America/Los_Angeles:20250307T200000
DTEND;TZID=America/Los_Angeles:20250307T200000
DTSTAMP:20260423T083222
CREATED:20250228T193004Z
LAST-MODIFIED:20250228T193004Z
UID:8171-1741377600-1741377600@salmonbayeagles.com
SUMMARY:Vadavenus
DESCRIPTION:Vadavenus delivers a dynamic fusion of soul\, blues\, and rock\, featuring multi-instrumentalist Marty Vadalabene on drums\, keys\, and vocals. Their repertoire spans soulful originals and jazz-infused instrumentals.
URL:https://salmonbayeagles.com/event/vadavenus-5/
LOCATION:Social Room
END:VEVENT
BEGIN:VEVENT
DTSTART;TZID=America/Los_Angeles:20250308T133000
DTEND;TZID=America/Los_Angeles:20250308T133000
DTSTAMP:20260423T083222
CREATED:20250228T195007Z
LAST-MODIFIED:20250228T195134Z
UID:8188-1741440600-1741440600@salmonbayeagles.com
SUMMARY:CPR Training Class
DESCRIPTION:Need a refresher on CPR or want to acquire some valuable life skills? Sign up for our CPR class on March 8! Members can get trained and certified for just $25. Non-members can get training for $25 and receive a Red Cross CPR card for an additional $25. Register and prepay at the bar.
URL:https://salmonbayeagles.com/event/cpr-training-class/
CATEGORIES:Charity
END:VEVENT
BEGIN:VEVENT
DTSTART;TZID=America/Los_Angeles:20250308T190000
DTEND;TZID=America/Los_Angeles:20250308T190000
DTSTAMP:20260423T083222
CREATED:20250228T004915Z
LAST-MODIFIED:20250228T004915Z
UID:8157-1741460400-1741460400@salmonbayeagles.com
SUMMARY:Fish Tacos
DESCRIPTION:March 6-8 It’s a Baja favorite! Get Judy’s Fish Tacos for $15. Image crispy battered fish with slaw\, cilantro\, lime\, served with warm tortillas.
URL:https://salmonbayeagles.com/event/fish-tacos-3/
LOCATION:Social Room
END:VEVENT
BEGIN:VEVENT
DTSTART;TZID=America/Los_Angeles:20250308T200000
DTEND;TZID=America/Los_Angeles:20250308T200000
DTSTAMP:20260423T083222
CREATED:20250228T193008Z
LAST-MODIFIED:20250228T193008Z
UID:8172-1741464000-1741464000@salmonbayeagles.com
SUMMARY:Vududes
DESCRIPTION:The Vududes\, formed in 1997 from Fat Cat members\, showcase top Pacific Northwest talent. Led by singer-songwriter Pat Gossan\, they perform original material with a lineup of keys\, guitar\, bass\, and drums\, all contributing vocals.
URL:https://salmonbayeagles.com/event/vududes-5/
LOCATION:Social Room
END:VEVENT
BEGIN:VEVENT
DTSTART;TZID=America/Los_Angeles:20250312T180000
DTEND;TZID=America/Los_Angeles:20250312T180000
DTSTAMP:20260423T083222
CREATED:20250228T004443Z
LAST-MODIFIED:20250228T004443Z
UID:8139-1741802400-1741802400@salmonbayeagles.com
SUMMARY:Joker Poker
DESCRIPTION:Wednesdays are Poker Joker nights. If no one pulls the Joker\, the pot grows every week. The next winner could be you. HOW TO PLAY: Joker Poker raffles tickets cost $1 each and maybe purchased from the bartender or conductor of the raffle up until 6pm.
URL:https://salmonbayeagles.com/event/joker-poker-126/
LOCATION:Social Room
END:VEVENT
END:VCALENDAR