BEGIN:VCALENDAR
VERSION:2.0
PRODID:-//Salmon Bay Eagles 2141 - ECPv6.15.17.1//NONSGML v1.0//EN
CALSCALE:GREGORIAN
METHOD:PUBLISH
X-WR-CALNAME:Salmon Bay Eagles 2141
X-ORIGINAL-URL:https://salmonbayeagles.com
X-WR-CALDESC:Events for Salmon Bay Eagles 2141
REFRESH-INTERVAL;VALUE=DURATION:PT1H
X-Robots-Tag:noindex
X-PUBLISHED-TTL:PT1H
BEGIN:VTIMEZONE
TZID:America/Los_Angeles
BEGIN:DAYLIGHT
TZOFFSETFROM:-0800
TZOFFSETTO:-0700
TZNAME:PDT
DTSTART:20240310T100000
END:DAYLIGHT
BEGIN:STANDARD
TZOFFSETFROM:-0700
TZOFFSETTO:-0800
TZNAME:PST
DTSTART:20241103T090000
END:STANDARD
BEGIN:DAYLIGHT
TZOFFSETFROM:-0800
TZOFFSETTO:-0700
TZNAME:PDT
DTSTART:20250309T100000
END:DAYLIGHT
BEGIN:STANDARD
TZOFFSETFROM:-0700
TZOFFSETTO:-0800
TZNAME:PST
DTSTART:20251102T090000
END:STANDARD
BEGIN:DAYLIGHT
TZOFFSETFROM:-0800
TZOFFSETTO:-0700
TZNAME:PDT
DTSTART:20260308T100000
END:DAYLIGHT
BEGIN:STANDARD
TZOFFSETFROM:-0700
TZOFFSETTO:-0800
TZNAME:PST
DTSTART:20261101T090000
END:STANDARD
END:VTIMEZONE
BEGIN:VEVENT
DTSTART;TZID=America/Los_Angeles:20250315T100000
DTEND;TZID=America/Los_Angeles:20250315T100000
DTSTAMP:20260425T134718
CREATED:20250228T004514Z
LAST-MODIFIED:20250228T004514Z
UID:8147-1742032800-1742032800@salmonbayeagles.com
SUMMARY:District 5 Meeting
DESCRIPTION:District 5 Meeting with be held at the Eagles in Burien.
URL:https://salmonbayeagles.com/event/district-5-meeting-4/
LOCATION:Social Room
END:VEVENT
BEGIN:VEVENT
DTSTART;TZID=America/Los_Angeles:20250315T190000
DTEND;TZID=America/Los_Angeles:20250315T190000
DTSTAMP:20260425T134718
CREATED:20250228T005025Z
LAST-MODIFIED:20250228T005025Z
UID:8160-1742065200-1742065200@salmonbayeagles.com
SUMMARY:Corned Beef & Cabbage
DESCRIPTION:March 13-15 We’re serving Murphy’s Corn Beef & Cabbage Dinner and dessert for $15 in honor of the St Patricks holiday.
URL:https://salmonbayeagles.com/event/corned-beef-cabbage-3/
LOCATION:Social Room
END:VEVENT
BEGIN:VEVENT
DTSTART;TZID=America/Los_Angeles:20250315T200000
DTEND;TZID=America/Los_Angeles:20250315T200000
DTSTAMP:20260425T134718
CREATED:20250228T193018Z
LAST-MODIFIED:20250228T193018Z
UID:8175-1742068800-1742068800@salmonbayeagles.com
SUMMARY:Silver Tongued Devils
DESCRIPTION:Johnny Atomic & the Silver Tongue Devils: Top regional talent playing blues\, rock & R&B. Features ex-Fabulous Wailers guitarist John Hanford\, keyboardist Mike Japp\, drummer Ben Smith\, and bassist Rick Houle. Expect great live music and a good time!
URL:https://salmonbayeagles.com/event/silver-tongued-devils-4/
LOCATION:Social Room
END:VEVENT
BEGIN:VEVENT
DTSTART;TZID=America/Los_Angeles:20250319T180000
DTEND;TZID=America/Los_Angeles:20250319T180000
DTSTAMP:20260425T134718
CREATED:20250228T004448Z
LAST-MODIFIED:20250228T004448Z
UID:8140-1742407200-1742407200@salmonbayeagles.com
SUMMARY:Joker Poker
DESCRIPTION:Wednesdays are Poker Joker nights. If no one pulls the Joker\, the pot grows every week. The next winner could be you. HOW TO PLAY: Joker Poker raffles tickets cost $1 each and maybe purchased from the bartender or conductor of the raffle up until 6pm.
URL:https://salmonbayeagles.com/event/joker-poker-127/
LOCATION:Social Room
END:VEVENT
BEGIN:VEVENT
DTSTART;TZID=America/Los_Angeles:20250319T181500
DTEND;TZID=America/Los_Angeles:20250319T181500
DTSTAMP:20260425T134718
CREATED:20250228T004901Z
LAST-MODIFIED:20250228T004901Z
UID:8153-1742408100-1742408100@salmonbayeagles.com
SUMMARY:Trustee Meeting
DESCRIPTION:Speak with the Aerie Trustees! Any Aerie can come to a Trustee Meeting (every Wednesday at 6:15) and ask questions about club operations or voice concerns and ideas during the first part of our weekly meeting.
URL:https://salmonbayeagles.com/event/trustee-meeting-30/
LOCATION:Social Room
END:VEVENT
BEGIN:VEVENT
DTSTART;TZID=America/Los_Angeles:20250319T190000
DTEND;TZID=America/Los_Angeles:20250319T190000
DTSTAMP:20260425T134718
CREATED:20250228T004720Z
LAST-MODIFIED:20250228T194341Z
UID:8149-1742410800-1742410800@salmonbayeagles.com
SUMMARY:Aerie Meeting + Initiations
DESCRIPTION:Aerie meetings are held the first and third Wednesdays of each month at 7:00 P.M. in the Grand Hall on the second floor. All members are welcome. Initiation of new members occurs during the meeting held on the 2nd Wednesday of each month.
URL:https://salmonbayeagles.com/event/aerie-meeting-60/
LOCATION:Social Room
END:VEVENT
BEGIN:VEVENT
DTSTART;TZID=America/Los_Angeles:20250320T190000
DTEND;TZID=America/Los_Angeles:20250320T190000
DTSTAMP:20260425T134718
CREATED:20250228T005028Z
LAST-MODIFIED:20250228T005028Z
UID:8161-1742497200-1742497200@salmonbayeagles.com
SUMMARY:Italian Comfort Dinner
DESCRIPTION:Murphy is digging into her Italian roots and will delight us with a comforting\, family-style Italian Dinner for only $15 with dessert. Proceeds benefit the Foundation for Suicide Prevention.
URL:https://salmonbayeagles.com/event/italian-comfort-dinner/
LOCATION:Social Room
END:VEVENT
BEGIN:VEVENT
DTSTART;TZID=America/Los_Angeles:20250320T200000
DTEND;TZID=America/Los_Angeles:20250320T200000
DTSTAMP:20260425T134718
CREATED:20250228T193023Z
LAST-MODIFIED:20250312T003937Z
UID:8176-1742500800-1742500800@salmonbayeagles.com
SUMMARY:Pourboys ft. Johny Broomdust
DESCRIPTION:Experience The Pourboys live\, joined by Johny Broomdust (bass/guitar/vocals)! A veteran of Conor Byrne’s blues jam\, Johny brings his talent from epic road trips with the Johny Broomdust Trio and his Santa Fe band\, Broomdust Caravan. Now based in Vermont\, he returns to electrify the stage with The Pourboys!
URL:https://salmonbayeagles.com/event/broomdust-revue/
LOCATION:Social Room
END:VEVENT
BEGIN:VEVENT
DTSTART;TZID=America/Los_Angeles:20250321T190000
DTEND;TZID=America/Los_Angeles:20250321T190000
DTSTAMP:20260425T134718
CREATED:20250228T005031Z
LAST-MODIFIED:20250228T005031Z
UID:8162-1742583600-1742583600@salmonbayeagles.com
SUMMARY:Italian Comfort Dinner
DESCRIPTION:Murphy is digging into her Italian roots and will delight us with a comforting\, family-style Italian Dinner for only $15 with dessert. Proceeds benefit the Foundation for Suicide Prevention.
URL:https://salmonbayeagles.com/event/italian-comfort-dinner-2/
LOCATION:Social Room
END:VEVENT
BEGIN:VEVENT
DTSTART;TZID=America/Los_Angeles:20250321T200000
DTEND;TZID=America/Los_Angeles:20250321T200000
DTSTAMP:20260425T134718
CREATED:20250228T193026Z
LAST-MODIFIED:20250228T193026Z
UID:8177-1742587200-1742587200@salmonbayeagles.com
SUMMARY:Trifecta
DESCRIPTION:Trifecta: Guitar wizard Steve Black\, groove master King Dre & versatile virtuoso David “Saint Bees.” Three music legends unite for an unforgettable sonic experience!
URL:https://salmonbayeagles.com/event/trifecta-4/
LOCATION:Social Room
END:VEVENT
BEGIN:VEVENT
DTSTART;TZID=America/Los_Angeles:20250322T190000
DTEND;TZID=America/Los_Angeles:20250322T190000
DTSTAMP:20260425T134718
CREATED:20250228T005114Z
LAST-MODIFIED:20250228T005114Z
UID:8163-1742670000-1742670000@salmonbayeagles.com
SUMMARY:Italian Comfort Dinner
DESCRIPTION:Murphy is digging into her Italian roots and will delight us with a comforting\, family-style Italian Dinner for only $15 with dessert. Proceeds benefit the Foundation for Suicide Prevention.
URL:https://salmonbayeagles.com/event/italian-comfort-dinner-3/
LOCATION:Social Room
END:VEVENT
BEGIN:VEVENT
DTSTART;TZID=America/Los_Angeles:20250322T200000
DTEND;TZID=America/Los_Angeles:20250322T200000
DTSTAMP:20260425T134718
CREATED:20250228T193029Z
LAST-MODIFIED:20250228T193029Z
UID:8178-1742673600-1742673600@salmonbayeagles.com
SUMMARY:Tumbling Dice
DESCRIPTION:Experience the raw energy and timeless appeal of rock ‘n’ roll’s greatest band through the masterful performance of Tumbling Dice\, the PNW’s most authentic Rolling Stones tribute experience.
URL:https://salmonbayeagles.com/event/tumbling-dice-2/
LOCATION:Social Room
END:VEVENT
BEGIN:VEVENT
DTSTART;TZID=America/Los_Angeles:20250326T180000
DTEND;TZID=America/Los_Angeles:20250326T180000
DTSTAMP:20260425T134718
CREATED:20250228T004451Z
LAST-MODIFIED:20250228T004451Z
UID:8141-1743012000-1743012000@salmonbayeagles.com
SUMMARY:Joker Poker
DESCRIPTION:Wednesdays are Poker Joker nights. If no one pulls the Joker\, the pot grows every week. The next winner could be you. HOW TO PLAY: Joker Poker raffles tickets cost $1 each and maybe purchased from the bartender or conductor of the raffle up until 6pm.
URL:https://salmonbayeagles.com/event/joker-poker-128/
LOCATION:Social Room
END:VEVENT
BEGIN:VEVENT
DTSTART;TZID=America/Los_Angeles:20250326T181500
DTEND;TZID=America/Los_Angeles:20250326T181500
DTSTAMP:20260425T134718
CREATED:20250228T004904Z
LAST-MODIFIED:20250228T004904Z
UID:8154-1743012900-1743012900@salmonbayeagles.com
SUMMARY:Trustee Meeting
DESCRIPTION:Speak with the Aerie Trustees! Any Aerie can come to a Trustee Meeting (every Wednesday at 6:15) and ask questions about club operations or voice concerns and ideas during the first part of our weekly meeting.
URL:https://salmonbayeagles.com/event/trustee-meeting-31/
LOCATION:Social Room
END:VEVENT
BEGIN:VEVENT
DTSTART;TZID=America/Los_Angeles:20250326T190000
DTEND;TZID=America/Los_Angeles:20250326T190000
DTSTAMP:20260425T134718
CREATED:20250228T004501Z
LAST-MODIFIED:20250228T194234Z
UID:8143-1743015600-1743015600@salmonbayeagles.com
SUMMARY:Movie Nite
DESCRIPTION:Enjoy free popcorn while watching these classics coming straight to from VHS.
URL:https://salmonbayeagles.com/event/movie-nite-41/
LOCATION:Social Room
END:VEVENT
BEGIN:VEVENT
DTSTART;TZID=America/Los_Angeles:20250327T190000
DTEND;TZID=America/Los_Angeles:20250327T190000
DTSTAMP:20260425T134718
CREATED:20250228T005117Z
LAST-MODIFIED:20250228T005117Z
UID:8164-1743102000-1743102000@salmonbayeagles.com
SUMMARY:Louisiana Fish Fry
DESCRIPTION:Get ready for Judy’s Louisiana Fish Fry. It’s seasoned cornmeal crusted fish fried with Southern-style corn spoon-bread and coleslaw for $15. Proceeds benefit the Ballard Food Bank.
URL:https://salmonbayeagles.com/event/louisiana-fish-fry-5/
LOCATION:Social Room
END:VEVENT
BEGIN:VEVENT
DTSTART;TZID=America/Los_Angeles:20250327T200000
DTEND;TZID=America/Los_Angeles:20250327T200000
DTSTAMP:20260425T134718
CREATED:20250228T193032Z
LAST-MODIFIED:20250228T193032Z
UID:8179-1743105600-1743105600@salmonbayeagles.com
SUMMARY:Salmon Dan's Jam
DESCRIPTION:Salmon Dan hosts a monthly blues jam on the last Thursday\, backed by Billy Reed (piano)\, Marty Vadalabene (drums)\, and Walter White (bass). Professional and aspiring musicians welcome to join this revived Salmon Bay Eagles tradition.
URL:https://salmonbayeagles.com/event/salmon-dans-jam-12/
LOCATION:Social Room
END:VEVENT
BEGIN:VEVENT
DTSTART;VALUE=DATE:20250328
DTEND;VALUE=DATE:20250329
DTSTAMP:20260425T134718
CREATED:20250312T215704Z
LAST-MODIFIED:20250312T215704Z
UID:8230-1743120000-1743206399@salmonbayeagles.com
SUMMARY:Open House
DESCRIPTION:Membership Drive is an open house that is free to the public. Doors open at 3pm.
URL:https://salmonbayeagles.com/event/open-house-2/
END:VEVENT
BEGIN:VEVENT
DTSTART;TZID=America/Los_Angeles:20250328T190000
DTEND;TZID=America/Los_Angeles:20250328T190000
DTSTAMP:20260425T134718
CREATED:20250228T005121Z
LAST-MODIFIED:20250228T005121Z
UID:8165-1743188400-1743188400@salmonbayeagles.com
SUMMARY:Louisiana Fish Fry
DESCRIPTION:Get ready for Judy’s Louisiana Fish Fry. It’s seasoned cornmeal crusted fish fried with Southern-style corn spoon-bread and coleslaw for $15. Proceeds benefit the Ballard Food Bank.
URL:https://salmonbayeagles.com/event/louisiana-fish-fry-6/
LOCATION:Social Room
END:VEVENT
BEGIN:VEVENT
DTSTART;TZID=America/Los_Angeles:20250328T200000
DTEND;TZID=America/Los_Angeles:20250328T200000
DTSTAMP:20260425T134718
CREATED:20250228T193035Z
LAST-MODIFIED:20250312T003859Z
UID:8180-1743192000-1743192000@salmonbayeagles.com
SUMMARY:Ron Bailey & The Tangents
DESCRIPTION:Ron Bailey and the Tangents\, featuring seasoned musicians from renowned local bands\, deliver infectious music that fills dance floors. Led by showman Ron\, with a lineup on drums\, guitar\, bass\, and keys\, they keep the party going all night long. This event is open to the public with no cover. Must be 21+ to attend.
URL:https://salmonbayeagles.com/event/ron-bailey-the-tangents-17/
LOCATION:Social Room
END:VEVENT
BEGIN:VEVENT
DTSTART;VALUE=DATE:20250329
DTEND;VALUE=DATE:20250330
DTSTAMP:20260425T134718
CREATED:20250312T215733Z
LAST-MODIFIED:20250312T215733Z
UID:8232-1743206400-1743292799@salmonbayeagles.com
SUMMARY:Open House
DESCRIPTION:Membership Drive is an open house that is free to the public. Doors open at 3pm.
URL:https://salmonbayeagles.com/event/open-house-3/
END:VEVENT
BEGIN:VEVENT
DTSTART;TZID=America/Los_Angeles:20250329T170000
DTEND;TZID=America/Los_Angeles:20250329T170000
DTSTAMP:20260425T134718
CREATED:20250228T004724Z
LAST-MODIFIED:20250228T004724Z
UID:8150-1743267600-1743267600@salmonbayeagles.com
SUMMARY:SBE Celebrates 92 Years
DESCRIPTION:Join us on March 29 as we celebrate our Aerie’s 92nd anniversary and meet our State Worthy President. We’ll be serving food and cake.
URL:https://salmonbayeagles.com/event/sbe-celebrates-92-years/
LOCATION:Social Room
END:VEVENT
BEGIN:VEVENT
DTSTART;TZID=America/Los_Angeles:20250329T190000
DTEND;TZID=America/Los_Angeles:20250329T190000
DTSTAMP:20260425T134718
CREATED:20250228T005124Z
LAST-MODIFIED:20250228T005124Z
UID:8166-1743274800-1743274800@salmonbayeagles.com
SUMMARY:Louisiana Fish Fry
DESCRIPTION:Get ready for Judy’s Louisiana Fish Fry. It’s seasoned cornmeal crusted fish fried with Southern-style corn spoon-bread and coleslaw for $15. Proceeds benefit the Ballard Food Bank.
URL:https://salmonbayeagles.com/event/louisiana-fish-fry-7/
LOCATION:Social Room
END:VEVENT
BEGIN:VEVENT
DTSTART;TZID=America/Los_Angeles:20250329T200000
DTEND;TZID=America/Los_Angeles:20250329T200000
DTSTAMP:20260425T134718
CREATED:20250228T193039Z
LAST-MODIFIED:20250312T003653Z
UID:8181-1743278400-1743278400@salmonbayeagles.com
SUMMARY:X-Statics
DESCRIPTION:The X-Statics is a Seattle-based band that plays music from the 50s\, 60s\, 70s\, and beyond. Our sets include rock\, country\, blues\, ballads\, Latin and jazz covers. This event is open to the public with no cover. Must be 21+ to attend.
URL:https://salmonbayeagles.com/event/x-statics/
LOCATION:Social Room
END:VEVENT
BEGIN:VEVENT
DTSTART;TZID=America/Los_Angeles:20250402T180000
DTEND;TZID=America/Los_Angeles:20250402T180000
DTSTAMP:20260425T134718
CREATED:20250312T213424Z
LAST-MODIFIED:20250312T213424Z
UID:8200-1743616800-1743616800@salmonbayeagles.com
SUMMARY:Joker Poker
DESCRIPTION:Wednesdays are Poker Joker nights. If no one pulls the Joker\, the pot grows every week. The next winner could be you. HOW TO PLAY: Joker Poker raffles tickets cost $1 each and maybe purchased from the bartender or conductor of the raffle up until 6pm.
URL:https://salmonbayeagles.com/event/joker-poker-129/
LOCATION:Social Room
END:VEVENT
BEGIN:VEVENT
DTSTART;TZID=America/Los_Angeles:20250402T181500
DTEND;TZID=America/Los_Angeles:20250402T181500
DTSTAMP:20260425T134718
CREATED:20250312T213623Z
LAST-MODIFIED:20250312T213623Z
UID:8213-1743617700-1743617700@salmonbayeagles.com
SUMMARY:Trustee Meeting
DESCRIPTION:Speak with the Aerie Trustees! Any Aerie can come to a Trustee Meeting (every Wednesday at 6:15) and ask questions about club operations or voice concerns and ideas during the first part of our weekly meeting.
URL:https://salmonbayeagles.com/event/trustee-meeting-32/
LOCATION:Social Room
END:VEVENT
BEGIN:VEVENT
DTSTART;TZID=America/Los_Angeles:20250402T190000
DTEND;TZID=America/Los_Angeles:20250402T190000
DTSTAMP:20260425T134718
CREATED:20250312T213616Z
LAST-MODIFIED:20250312T213616Z
UID:8211-1743620400-1743620400@salmonbayeagles.com
SUMMARY:Aerie Meeting
DESCRIPTION:Aerie meetings are held the first and third Wednesdays of each month at 7:00 P.M. in the Grand Hall on the second floor. All members are welcome. Initiation of new members occurs during the meeting held on the 2nd Wednesday of each month.
URL:https://salmonbayeagles.com/event/aerie-meeting-61/
LOCATION:Social Room
END:VEVENT
BEGIN:VEVENT
DTSTART;TZID=America/Los_Angeles:20250403T190000
DTEND;TZID=America/Los_Angeles:20250403T190000
DTSTAMP:20260425T134718
CREATED:20250325T214056Z
LAST-MODIFIED:20250325T214056Z
UID:8239-1743706800-1743706800@salmonbayeagles.com
SUMMARY:Murphy's Beef Stroganoff
DESCRIPTION:Murphy is making a classic Beef Stroganoff with tender cuts of beef\, caramelized onions\, mushrooms\, and a tangy sour cream sauce. Only $15\, including vegetables and dessert.
URL:https://salmonbayeagles.com/event/murphys-beef-stroganoff/
LOCATION:Social Room
END:VEVENT
BEGIN:VEVENT
DTSTART;TZID=America/Los_Angeles:20250403T200000
DTEND;TZID=America/Los_Angeles:20250403T200000
DTSTAMP:20260425T134718
CREATED:20250312T213743Z
LAST-MODIFIED:20250312T213743Z
UID:8217-1743710400-1743710400@salmonbayeagles.com
SUMMARY:Jeff Herzog & Jet City Fliers
DESCRIPTION:The Jet City Fliers are playing their original blues and R&B compositions. Jeff Herzog’s harmonica work and Billy Lovy’s guitar skills make this a solid show for both new listeners and long-time blues fans.
URL:https://salmonbayeagles.com/event/jeff-herzog-jet-city-fliers/
LOCATION:Social Room
END:VEVENT
BEGIN:VEVENT
DTSTART;TZID=America/Los_Angeles:20250404T190000
DTEND;TZID=America/Los_Angeles:20250404T190000
DTSTAMP:20260425T134718
CREATED:20250325T214100Z
LAST-MODIFIED:20250325T214100Z
UID:8240-1743793200-1743793200@salmonbayeagles.com
SUMMARY:Murphy's Beef Stroganoff
DESCRIPTION:Murphy is making a classic Beef Stroganoff with tender cuts of beef\, caramelized onions\, mushrooms\, and a tangy sour cream sauce. Only $15\, including vegetables and dessert.
URL:https://salmonbayeagles.com/event/murphys-beef-stroganoff-2/
LOCATION:Social Room
END:VEVENT
END:VCALENDAR