BEGIN:VCALENDAR
VERSION:2.0
PRODID:-//Salmon Bay Eagles 2141 - ECPv6.15.17.1//NONSGML v1.0//EN
CALSCALE:GREGORIAN
METHOD:PUBLISH
X-ORIGINAL-URL:https://salmonbayeagles.com
X-WR-CALDESC:Events for Salmon Bay Eagles 2141
REFRESH-INTERVAL;VALUE=DURATION:PT1H
X-Robots-Tag:noindex
X-PUBLISHED-TTL:PT1H
BEGIN:VTIMEZONE
TZID:America/Los_Angeles
BEGIN:DAYLIGHT
TZOFFSETFROM:-0800
TZOFFSETTO:-0700
TZNAME:PDT
DTSTART:20240310T100000
END:DAYLIGHT
BEGIN:STANDARD
TZOFFSETFROM:-0700
TZOFFSETTO:-0800
TZNAME:PST
DTSTART:20241103T090000
END:STANDARD
BEGIN:DAYLIGHT
TZOFFSETFROM:-0800
TZOFFSETTO:-0700
TZNAME:PDT
DTSTART:20250309T100000
END:DAYLIGHT
BEGIN:STANDARD
TZOFFSETFROM:-0700
TZOFFSETTO:-0800
TZNAME:PST
DTSTART:20251102T090000
END:STANDARD
BEGIN:DAYLIGHT
TZOFFSETFROM:-0800
TZOFFSETTO:-0700
TZNAME:PDT
DTSTART:20260308T100000
END:DAYLIGHT
BEGIN:STANDARD
TZOFFSETFROM:-0700
TZOFFSETTO:-0800
TZNAME:PST
DTSTART:20261101T090000
END:STANDARD
END:VTIMEZONE
BEGIN:VEVENT
DTSTART;TZID=America/Los_Angeles:20250402T180000
DTEND;TZID=America/Los_Angeles:20250402T180000
DTSTAMP:20260425T162231
CREATED:20250312T213424Z
LAST-MODIFIED:20250312T213424Z
UID:8200-1743616800-1743616800@salmonbayeagles.com
SUMMARY:Joker Poker
DESCRIPTION:Wednesdays are Poker Joker nights. If no one pulls the Joker\, the pot grows every week. The next winner could be you. HOW TO PLAY: Joker Poker raffles tickets cost $1 each and maybe purchased from the bartender or conductor of the raffle up until 6pm.
URL:https://salmonbayeagles.com/event/joker-poker-129/
LOCATION:Social Room
END:VEVENT
BEGIN:VEVENT
DTSTART;TZID=America/Los_Angeles:20250402T181500
DTEND;TZID=America/Los_Angeles:20250402T181500
DTSTAMP:20260425T162231
CREATED:20250312T213623Z
LAST-MODIFIED:20250312T213623Z
UID:8213-1743617700-1743617700@salmonbayeagles.com
SUMMARY:Trustee Meeting
DESCRIPTION:Speak with the Aerie Trustees! Any Aerie can come to a Trustee Meeting (every Wednesday at 6:15) and ask questions about club operations or voice concerns and ideas during the first part of our weekly meeting.
URL:https://salmonbayeagles.com/event/trustee-meeting-32/
LOCATION:Social Room
END:VEVENT
BEGIN:VEVENT
DTSTART;TZID=America/Los_Angeles:20250402T190000
DTEND;TZID=America/Los_Angeles:20250402T190000
DTSTAMP:20260425T162231
CREATED:20250312T213616Z
LAST-MODIFIED:20250312T213616Z
UID:8211-1743620400-1743620400@salmonbayeagles.com
SUMMARY:Aerie Meeting
DESCRIPTION:Aerie meetings are held the first and third Wednesdays of each month at 7:00 P.M. in the Grand Hall on the second floor. All members are welcome. Initiation of new members occurs during the meeting held on the 2nd Wednesday of each month.
URL:https://salmonbayeagles.com/event/aerie-meeting-61/
LOCATION:Social Room
END:VEVENT
BEGIN:VEVENT
DTSTART;TZID=America/Los_Angeles:20250403T190000
DTEND;TZID=America/Los_Angeles:20250403T190000
DTSTAMP:20260425T162231
CREATED:20250325T214056Z
LAST-MODIFIED:20250325T214056Z
UID:8239-1743706800-1743706800@salmonbayeagles.com
SUMMARY:Murphy's Beef Stroganoff
DESCRIPTION:Murphy is making a classic Beef Stroganoff with tender cuts of beef\, caramelized onions\, mushrooms\, and a tangy sour cream sauce. Only $15\, including vegetables and dessert.
URL:https://salmonbayeagles.com/event/murphys-beef-stroganoff/
LOCATION:Social Room
END:VEVENT
BEGIN:VEVENT
DTSTART;TZID=America/Los_Angeles:20250403T200000
DTEND;TZID=America/Los_Angeles:20250403T200000
DTSTAMP:20260425T162231
CREATED:20250312T213743Z
LAST-MODIFIED:20250312T213743Z
UID:8217-1743710400-1743710400@salmonbayeagles.com
SUMMARY:Jeff Herzog & Jet City Fliers
DESCRIPTION:The Jet City Fliers are playing their original blues and R&B compositions. Jeff Herzog’s harmonica work and Billy Lovy’s guitar skills make this a solid show for both new listeners and long-time blues fans.
URL:https://salmonbayeagles.com/event/jeff-herzog-jet-city-fliers/
LOCATION:Social Room
END:VEVENT
BEGIN:VEVENT
DTSTART;TZID=America/Los_Angeles:20250404T190000
DTEND;TZID=America/Los_Angeles:20250404T190000
DTSTAMP:20260425T162231
CREATED:20250325T214100Z
LAST-MODIFIED:20250325T214100Z
UID:8240-1743793200-1743793200@salmonbayeagles.com
SUMMARY:Murphy's Beef Stroganoff
DESCRIPTION:Murphy is making a classic Beef Stroganoff with tender cuts of beef\, caramelized onions\, mushrooms\, and a tangy sour cream sauce. Only $15\, including vegetables and dessert.
URL:https://salmonbayeagles.com/event/murphys-beef-stroganoff-2/
LOCATION:Social Room
END:VEVENT
BEGIN:VEVENT
DTSTART;TZID=America/Los_Angeles:20250404T200000
DTEND;TZID=America/Los_Angeles:20250404T200000
DTSTAMP:20260425T162231
CREATED:20250312T213746Z
LAST-MODIFIED:20250312T213746Z
UID:8218-1743796800-1743796800@salmonbayeagles.com
SUMMARY:John Stephan
DESCRIPTION:Join the John Stephan Band this weekend for a soul-stirring blend of Blues\, R&B\, and Roots music that’ll get you moving. With 20+ years of making the Northwest dance\, our award-winning sound is guaranteed to make your night unforgettable.
URL:https://salmonbayeagles.com/event/john-stephan/
LOCATION:Social Room
END:VEVENT
BEGIN:VEVENT
DTSTART;TZID=America/Los_Angeles:20250405T190000
DTEND;TZID=America/Los_Angeles:20250405T190000
DTSTAMP:20260425T162231
CREATED:20250325T214103Z
LAST-MODIFIED:20250325T214103Z
UID:8241-1743879600-1743879600@salmonbayeagles.com
SUMMARY:Murphy's Beef Stroganoff
DESCRIPTION:Murphy is making a classic Beef Stroganoff with tender cuts of beef\, caramelized onions\, mushrooms\, and a tangy sour cream sauce. Only $15\, including vegetables and dessert.
URL:https://salmonbayeagles.com/event/murphys-beef-stroganoff-3/
LOCATION:Social Room
END:VEVENT
BEGIN:VEVENT
DTSTART;TZID=America/Los_Angeles:20250405T200000
DTEND;TZID=America/Los_Angeles:20250405T200000
DTSTAMP:20260425T162231
CREATED:20250312T213749Z
LAST-MODIFIED:20250312T213749Z
UID:8219-1743883200-1743883200@salmonbayeagles.com
SUMMARY:Lonnie Williams
DESCRIPTION:From a BBQ joint in Beaumont to the world stage – Lonnie Williams’ journey started with a Cannonball Adderley tune on the jukebox. Now this Seattle jazz legend hits our stage for an incredible night of music!
URL:https://salmonbayeagles.com/event/lonnie-williams/
LOCATION:Social Room
END:VEVENT
BEGIN:VEVENT
DTSTART;TZID=America/Los_Angeles:20250409T180000
DTEND;TZID=America/Los_Angeles:20250409T180000
DTSTAMP:20260425T162231
CREATED:20250312T213428Z
LAST-MODIFIED:20250312T213428Z
UID:8201-1744221600-1744221600@salmonbayeagles.com
SUMMARY:Joker Poker
DESCRIPTION:Wednesdays are Poker Joker nights. If no one pulls the Joker\, the pot grows every week. The next winner could be you. HOW TO PLAY: Joker Poker raffles tickets cost $1 each and maybe purchased from the bartender or conductor of the raffle up until 6pm.
URL:https://salmonbayeagles.com/event/joker-poker-130/
LOCATION:Social Room
END:VEVENT
BEGIN:VEVENT
DTSTART;TZID=America/Los_Angeles:20250409T181500
DTEND;TZID=America/Los_Angeles:20250409T181500
DTSTAMP:20260425T162231
CREATED:20250312T213456Z
LAST-MODIFIED:20250312T213456Z
UID:8209-1744222500-1744222500@salmonbayeagles.com
SUMMARY:Calendar Meeting
DESCRIPTION:Calendar meetings occur on the first Wednesday of the month at 6pm in the game room. This monthly meeting communicates upcoming events and volunteer needs to members.
URL:https://salmonbayeagles.com/event/calendar-meeting-8/
LOCATION:Social Room
END:VEVENT
BEGIN:VEVENT
DTSTART;TZID=America/Los_Angeles:20250409T190000
DTEND;TZID=America/Los_Angeles:20250409T190000
DTSTAMP:20260425T162231
CREATED:20250312T213443Z
LAST-MODIFIED:20250312T213443Z
UID:8205-1744225200-1744225200@salmonbayeagles.com
SUMMARY:Movie Nite
DESCRIPTION:Enjoy free popcorn while watching these classics coming straight to from VHS.
URL:https://salmonbayeagles.com/event/movie-nite-44/
LOCATION:Social Room
END:VEVENT
BEGIN:VEVENT
DTSTART;TZID=America/Los_Angeles:20250410T190000
DTEND;TZID=America/Los_Angeles:20250410T190000
DTSTAMP:20260425T162231
CREATED:20250325T214106Z
LAST-MODIFIED:20250325T214106Z
UID:8242-1744311600-1744311600@salmonbayeagles.com
SUMMARY:Jerk Chicken & Texas Rice
DESCRIPTION:Try our Caribbean Jerk Chicken & Texas Rice for a true flavor explosion! Chicken thighs are baked to perfection on a bed of fragrant rice and seasonings. Murphy will spice it up right. Only $15
URL:https://salmonbayeagles.com/event/jerk-chicken-texas-rice/
LOCATION:Social Room
END:VEVENT
BEGIN:VEVENT
DTSTART;TZID=America/Los_Angeles:20250410T200000
DTEND;TZID=America/Los_Angeles:20250410T200000
DTSTAMP:20260425T162231
CREATED:20250312T213937Z
LAST-MODIFIED:20250327T003416Z
UID:8220-1744315200-1744315200@salmonbayeagles.com
SUMMARY:Eric's Maine Connection
DESCRIPTION:Discover the compelling fusion of blues\, rock\, country\, and R&B with Seattle’s celebrated ensemble\, Eric’s Maine Connection. Led by award-winning slide guitarist Eric Rice\, alongside the dynamic rhythm section of Scotty Harris (bass) and Andrew Cloutier (drums)\, this powerhouse trio delivers unforgettable performances that resonate with authenticity and professional excellence.
URL:https://salmonbayeagles.com/event/eric-maines-connection/
LOCATION:Social Room
END:VEVENT
BEGIN:VEVENT
DTSTART;TZID=America/Los_Angeles:20250411T190000
DTEND;TZID=America/Los_Angeles:20250411T190000
DTSTAMP:20260425T162231
CREATED:20250325T214109Z
LAST-MODIFIED:20250325T214109Z
UID:8243-1744398000-1744398000@salmonbayeagles.com
SUMMARY:Jerk Chicken & Texas Rice
DESCRIPTION:Try our Caribbean Jerk Chicken & Texas Rice for a true flavor explosion! Chicken thighs are baked to perfection on a bed of fragrant rice and seasonings. Murphy will spice it up right. Only $15
URL:https://salmonbayeagles.com/event/jerk-chicken-texas-rice-2/
LOCATION:Social Room
END:VEVENT
BEGIN:VEVENT
DTSTART;TZID=America/Los_Angeles:20250411T200000
DTEND;TZID=America/Los_Angeles:20250411T200000
DTSTAMP:20260425T162231
CREATED:20250312T213940Z
LAST-MODIFIED:20250312T213940Z
UID:8221-1744401600-1744401600@salmonbayeagles.com
SUMMARY:Silver Tongued Devils
DESCRIPTION:This top regional band plays blues\, rock & R&B. Features ex-Fabulous Wailers guitarist John Hanford\, keyboardist Mike Japp\, drummer Ben Smith\, and bassist Rick Houle. Expect great live music and a good time!
URL:https://salmonbayeagles.com/event/silver-tongued-devils-5/
LOCATION:Social Room
END:VEVENT
BEGIN:VEVENT
DTSTART;TZID=America/Los_Angeles:20250412T190000
DTEND;TZID=America/Los_Angeles:20250412T190000
DTSTAMP:20260425T162231
CREATED:20250325T214113Z
LAST-MODIFIED:20250325T214113Z
UID:8244-1744484400-1744484400@salmonbayeagles.com
SUMMARY:Jerk Chicken & Texas Rice
DESCRIPTION:Try our Caribbean Jerk Chicken & Texas Rice for a true flavor explosion! Chicken thighs are baked to perfection on a bed of fragrant rice and seasonings. Murphy will spice it up right. Only $15
URL:https://salmonbayeagles.com/event/jerk-chicken-texas-rice-3/
LOCATION:Social Room
END:VEVENT
BEGIN:VEVENT
DTSTART;TZID=America/Los_Angeles:20250412T200000
DTEND;TZID=America/Los_Angeles:20250412T200000
DTSTAMP:20260425T162231
CREATED:20250312T213943Z
LAST-MODIFIED:20250312T213943Z
UID:8222-1744488000-1744488000@salmonbayeagles.com
SUMMARY:Red House
DESCRIPTION:Polly O’Keary and the Rhythm Method bring the heat with their unique fusion of traditional blues and contemporary sounds. From surf rock to rockabilly\, every performance is a journey through American music’s richest traditions – with a modern twist!
URL:https://salmonbayeagles.com/event/red-house-8/
LOCATION:Social Room
END:VEVENT
BEGIN:VEVENT
DTSTART;TZID=America/Los_Angeles:20250416T180000
DTEND;TZID=America/Los_Angeles:20250416T180000
DTSTAMP:20260425T162231
CREATED:20250312T213432Z
LAST-MODIFIED:20250312T213432Z
UID:8202-1744826400-1744826400@salmonbayeagles.com
SUMMARY:Joker Poker
DESCRIPTION:Wednesdays are Poker Joker nights. If no one pulls the Joker\, the pot grows every week. The next winner could be you. HOW TO PLAY: Joker Poker raffles tickets cost $1 each and maybe purchased from the bartender or conductor of the raffle up until 6pm.
URL:https://salmonbayeagles.com/event/joker-poker-131/
LOCATION:Social Room
END:VEVENT
BEGIN:VEVENT
DTSTART;TZID=America/Los_Angeles:20250416T181500
DTEND;TZID=America/Los_Angeles:20250416T181500
DTSTAMP:20260425T162231
CREATED:20250312T213626Z
LAST-MODIFIED:20250312T213626Z
UID:8214-1744827300-1744827300@salmonbayeagles.com
SUMMARY:Trustee Meeting
DESCRIPTION:Speak with the Aerie Trustees! Any Aerie can come to a Trustee Meeting (every Wednesday at 6:15) and ask questions about club operations or voice concerns and ideas during the first part of our weekly meeting.
URL:https://salmonbayeagles.com/event/trustee-meeting-33/
LOCATION:Social Room
END:VEVENT
BEGIN:VEVENT
DTSTART;TZID=America/Los_Angeles:20250416T190000
DTEND;TZID=America/Los_Angeles:20250416T190000
DTSTAMP:20260425T162231
CREATED:20250312T213619Z
LAST-MODIFIED:20250312T213619Z
UID:8212-1744830000-1744830000@salmonbayeagles.com
SUMMARY:Aerie Meeting + Officer Nominations
DESCRIPTION:Aerie meetings are held the first and third Wednesdays of each month at 7:00 P.M. in the Grand Hall on the second floor. All members are welcome. Initiation of new members occurs during the meeting held on the 2nd Wednesday of each month.
URL:https://salmonbayeagles.com/event/aerie-meeting-officer-nominations/
LOCATION:Social Room
END:VEVENT
BEGIN:VEVENT
DTSTART;TZID=America/Los_Angeles:20250417T190000
DTEND;TZID=America/Los_Angeles:20250417T190000
DTSTAMP:20260425T162231
CREATED:20250325T214117Z
LAST-MODIFIED:20250325T214117Z
UID:8245-1744916400-1744916400@salmonbayeagles.com
SUMMARY:Parmesan Crusted Salmon
DESCRIPTION:Enjoy Judy’s Parmesan-Crusted Salmon and elevate your week. Salmon Dillets are baked under a light\, crispy coating of panko breadcrumbs\, parmesan cheese\, Italian seasoning\, and garlic.
URL:https://salmonbayeagles.com/event/parmesan-crusted-salmon-4/
LOCATION:Social Room
END:VEVENT
BEGIN:VEVENT
DTSTART;TZID=America/Los_Angeles:20250417T200000
DTEND;TZID=America/Los_Angeles:20250417T200000
DTSTAMP:20260425T162231
CREATED:20250312T213946Z
LAST-MODIFIED:20250312T213946Z
UID:8223-1744920000-1744920000@salmonbayeagles.com
SUMMARY:Polly O'Keary & the Rhythm Method
DESCRIPTION:Get eady for a powerful fusion of blues\, funk & jazz with Polly O’Keary & the Rhythm Method. Experience world-class musicianship & unforgettable performances.
URL:https://salmonbayeagles.com/event/polly-okeary-the-rhythm-method-4/
LOCATION:Social Room
END:VEVENT
BEGIN:VEVENT
DTSTART;TZID=America/Los_Angeles:20250418T190000
DTEND;TZID=America/Los_Angeles:20250418T190000
DTSTAMP:20260425T162231
CREATED:20250325T214120Z
LAST-MODIFIED:20250325T214120Z
UID:8246-1745002800-1745002800@salmonbayeagles.com
SUMMARY:Parmesan Crusted Salmon
DESCRIPTION:Enjoy Judy’s Parmesan-Crusted Salmon and elevate your week. Salmon Dillets are baked under a light\, crispy coating of panko breadcrumbs\, parmesan cheese\, Italian seasoning\, and garlic.
URL:https://salmonbayeagles.com/event/parmesan-crusted-salmon-5/
LOCATION:Social Room
END:VEVENT
BEGIN:VEVENT
DTSTART;TZID=America/Los_Angeles:20250418T200000
DTEND;TZID=America/Los_Angeles:20250418T200000
DTSTAMP:20260425T162231
CREATED:20250312T213950Z
LAST-MODIFIED:20250312T213950Z
UID:8224-1745006400-1745006400@salmonbayeagles.com
SUMMARY:Vadavenus
DESCRIPTION:Vadavenus delivers a dynamic fusion of soul\, blues\, and rock\, featuring multi-instrumentalist Marty Vadalabene on drums\, keys\, and vocals. Their repertoire spans soulful originals and jazz-infused instrumentals.
URL:https://salmonbayeagles.com/event/vadavenus-6/
LOCATION:Social Room
END:VEVENT
BEGIN:VEVENT
DTSTART;TZID=America/Los_Angeles:20250419T100000
DTEND;TZID=America/Los_Angeles:20250419T100000
DTSTAMP:20260425T162231
CREATED:20250312T213613Z
LAST-MODIFIED:20250312T213613Z
UID:8210-1745056800-1745056800@salmonbayeagles.com
SUMMARY:District 5 Meeting
DESCRIPTION:District 5 Meeting with be held at the Eagles in White Center.
URL:https://salmonbayeagles.com/event/district-5-meeting-5/
LOCATION:Social Room
END:VEVENT
BEGIN:VEVENT
DTSTART;TZID=America/Los_Angeles:20250419T190000
DTEND;TZID=America/Los_Angeles:20250419T190000
DTSTAMP:20260425T162231
CREATED:20250325T214124Z
LAST-MODIFIED:20250325T214124Z
UID:8247-1745089200-1745089200@salmonbayeagles.com
SUMMARY:Parmesan Crusted Salmon
DESCRIPTION:Enjoy Judy’s Parmesan-Crusted Salmon and elevate your week. Salmon Dillets are baked under a light\, crispy coating of panko breadcrumbs\, parmesan cheese\, Italian seasoning\, and garlic.
URL:https://salmonbayeagles.com/event/parmesan-crusted-salmon-6/
LOCATION:Social Room
END:VEVENT
BEGIN:VEVENT
DTSTART;TZID=America/Los_Angeles:20250419T200000
DTEND;TZID=America/Los_Angeles:20250419T200000
DTSTAMP:20260425T162231
CREATED:20250312T214111Z
LAST-MODIFIED:20250312T214111Z
UID:8225-1745092800-1745092800@salmonbayeagles.com
SUMMARY:Criminal Squirrel Orchestra
DESCRIPTION:Criminal Squirrel Orchestra is bringing their infectious blend of original tunes and twisted covers to Salmon Bay Eagles! Four seasoned Seattle musicians who turn every show into an unforgettable party.
URL:https://salmonbayeagles.com/event/criminal-squirrel-orchestra-3/
LOCATION:Social Room
END:VEVENT
BEGIN:VEVENT
DTSTART;TZID=America/Los_Angeles:20250420T120000
DTEND;TZID=America/Los_Angeles:20250420T130000
DTSTAMP:20260425T162231
CREATED:20250312T220100Z
LAST-MODIFIED:20250312T220100Z
UID:8234-1745150400-1745154000@salmonbayeagles.com
SUMMARY:Salmon Bay Easter Egg Hunt
DESCRIPTION:The Salmon Bay Eagles are proud to host our 75th Annual Easter Egg Hunt at Salmon Bay Park. We welcome all children and families to join us in this wonderful community event that includes an Easter Egg Hunt\, fun activities\, and snacks for the whole family. The festivities begin at 12pm on Sunday\, April 20. \nEaster Egg Hunt @ Salmon Bay Park\n2001 NW Canoe Place\nSeattle\, WA 98117
URL:https://salmonbayeagles.com/event/salmon-bay-easter-egg-hunt/
END:VEVENT
BEGIN:VEVENT
DTSTART;TZID=America/Los_Angeles:20250423T180000
DTEND;TZID=America/Los_Angeles:20250423T180000
DTSTAMP:20260425T162231
CREATED:20250312T213435Z
LAST-MODIFIED:20250312T213435Z
UID:8203-1745431200-1745431200@salmonbayeagles.com
SUMMARY:Joker Poker
DESCRIPTION:Wednesdays are Poker Joker nights. If no one pulls the Joker\, the pot grows every week. The next winner could be you. HOW TO PLAY: Joker Poker raffles tickets cost $1 each and maybe purchased from the bartender or conductor of the raffle up until 6pm.
URL:https://salmonbayeagles.com/event/joker-poker-132/
LOCATION:Social Room
END:VEVENT
END:VCALENDAR