BEGIN:VCALENDAR
VERSION:2.0
PRODID:-//Salmon Bay Eagles 2141 - ECPv6.15.17.1//NONSGML v1.0//EN
CALSCALE:GREGORIAN
METHOD:PUBLISH
X-ORIGINAL-URL:https://salmonbayeagles.com
X-WR-CALDESC:Events for Salmon Bay Eagles 2141
REFRESH-INTERVAL;VALUE=DURATION:PT1H
X-Robots-Tag:noindex
X-PUBLISHED-TTL:PT1H
BEGIN:VTIMEZONE
TZID:America/Los_Angeles
BEGIN:DAYLIGHT
TZOFFSETFROM:-0800
TZOFFSETTO:-0700
TZNAME:PDT
DTSTART:20240310T100000
END:DAYLIGHT
BEGIN:STANDARD
TZOFFSETFROM:-0700
TZOFFSETTO:-0800
TZNAME:PST
DTSTART:20241103T090000
END:STANDARD
BEGIN:DAYLIGHT
TZOFFSETFROM:-0800
TZOFFSETTO:-0700
TZNAME:PDT
DTSTART:20250309T100000
END:DAYLIGHT
BEGIN:STANDARD
TZOFFSETFROM:-0700
TZOFFSETTO:-0800
TZNAME:PST
DTSTART:20251102T090000
END:STANDARD
BEGIN:DAYLIGHT
TZOFFSETFROM:-0800
TZOFFSETTO:-0700
TZNAME:PDT
DTSTART:20260308T100000
END:DAYLIGHT
BEGIN:STANDARD
TZOFFSETFROM:-0700
TZOFFSETTO:-0800
TZNAME:PST
DTSTART:20261101T090000
END:STANDARD
END:VTIMEZONE
BEGIN:VEVENT
DTSTART;TZID=America/Los_Angeles:20250418T200000
DTEND;TZID=America/Los_Angeles:20250418T200000
DTSTAMP:20260425T185407
CREATED:20250312T213950Z
LAST-MODIFIED:20250312T213950Z
UID:8224-1745006400-1745006400@salmonbayeagles.com
SUMMARY:Vadavenus
DESCRIPTION:Vadavenus delivers a dynamic fusion of soul\, blues\, and rock\, featuring multi-instrumentalist Marty Vadalabene on drums\, keys\, and vocals. Their repertoire spans soulful originals and jazz-infused instrumentals.
URL:https://salmonbayeagles.com/event/vadavenus-6/
LOCATION:Social Room
END:VEVENT
BEGIN:VEVENT
DTSTART;TZID=America/Los_Angeles:20250419T100000
DTEND;TZID=America/Los_Angeles:20250419T100000
DTSTAMP:20260425T185407
CREATED:20250312T213613Z
LAST-MODIFIED:20250312T213613Z
UID:8210-1745056800-1745056800@salmonbayeagles.com
SUMMARY:District 5 Meeting
DESCRIPTION:District 5 Meeting with be held at the Eagles in White Center.
URL:https://salmonbayeagles.com/event/district-5-meeting-5/
LOCATION:Social Room
END:VEVENT
BEGIN:VEVENT
DTSTART;TZID=America/Los_Angeles:20250419T190000
DTEND;TZID=America/Los_Angeles:20250419T190000
DTSTAMP:20260425T185407
CREATED:20250325T214124Z
LAST-MODIFIED:20250325T214124Z
UID:8247-1745089200-1745089200@salmonbayeagles.com
SUMMARY:Parmesan Crusted Salmon
DESCRIPTION:Enjoy Judy’s Parmesan-Crusted Salmon and elevate your week. Salmon Dillets are baked under a light\, crispy coating of panko breadcrumbs\, parmesan cheese\, Italian seasoning\, and garlic.
URL:https://salmonbayeagles.com/event/parmesan-crusted-salmon-6/
LOCATION:Social Room
END:VEVENT
BEGIN:VEVENT
DTSTART;TZID=America/Los_Angeles:20250419T200000
DTEND;TZID=America/Los_Angeles:20250419T200000
DTSTAMP:20260425T185407
CREATED:20250312T214111Z
LAST-MODIFIED:20250312T214111Z
UID:8225-1745092800-1745092800@salmonbayeagles.com
SUMMARY:Criminal Squirrel Orchestra
DESCRIPTION:Criminal Squirrel Orchestra is bringing their infectious blend of original tunes and twisted covers to Salmon Bay Eagles! Four seasoned Seattle musicians who turn every show into an unforgettable party.
URL:https://salmonbayeagles.com/event/criminal-squirrel-orchestra-3/
LOCATION:Social Room
END:VEVENT
BEGIN:VEVENT
DTSTART;TZID=America/Los_Angeles:20250420T120000
DTEND;TZID=America/Los_Angeles:20250420T130000
DTSTAMP:20260425T185407
CREATED:20250312T220100Z
LAST-MODIFIED:20250312T220100Z
UID:8234-1745150400-1745154000@salmonbayeagles.com
SUMMARY:Salmon Bay Easter Egg Hunt
DESCRIPTION:The Salmon Bay Eagles are proud to host our 75th Annual Easter Egg Hunt at Salmon Bay Park. We welcome all children and families to join us in this wonderful community event that includes an Easter Egg Hunt\, fun activities\, and snacks for the whole family. The festivities begin at 12pm on Sunday\, April 20. \nEaster Egg Hunt @ Salmon Bay Park\n2001 NW Canoe Place\nSeattle\, WA 98117
URL:https://salmonbayeagles.com/event/salmon-bay-easter-egg-hunt/
END:VEVENT
BEGIN:VEVENT
DTSTART;TZID=America/Los_Angeles:20250423T180000
DTEND;TZID=America/Los_Angeles:20250423T180000
DTSTAMP:20260425T185407
CREATED:20250312T213435Z
LAST-MODIFIED:20250312T213435Z
UID:8203-1745431200-1745431200@salmonbayeagles.com
SUMMARY:Joker Poker
DESCRIPTION:Wednesdays are Poker Joker nights. If no one pulls the Joker\, the pot grows every week. The next winner could be you. HOW TO PLAY: Joker Poker raffles tickets cost $1 each and maybe purchased from the bartender or conductor of the raffle up until 6pm.
URL:https://salmonbayeagles.com/event/joker-poker-132/
LOCATION:Social Room
END:VEVENT
BEGIN:VEVENT
DTSTART;TZID=America/Los_Angeles:20250423T181500
DTEND;TZID=America/Los_Angeles:20250423T181500
DTSTAMP:20260425T185407
CREATED:20250312T213736Z
LAST-MODIFIED:20250312T213736Z
UID:8215-1745432100-1745432100@salmonbayeagles.com
SUMMARY:Trustee Meeting
DESCRIPTION:Speak with the Aerie Trustees! Any Aerie can come to a Trustee Meeting (every Wednesday at 6:15) and ask questions about club operations or voice concerns and ideas during the first part of our weekly meeting.
URL:https://salmonbayeagles.com/event/trustee-meeting-34/
LOCATION:Social Room
END:VEVENT
BEGIN:VEVENT
DTSTART;TZID=America/Los_Angeles:20250423T190000
DTEND;TZID=America/Los_Angeles:20250423T190000
DTSTAMP:20260425T185407
CREATED:20250312T213449Z
LAST-MODIFIED:20250312T213449Z
UID:8207-1745434800-1745434800@salmonbayeagles.com
SUMMARY:Movie Nite
DESCRIPTION:Enjoy free popcorn while watching these classics coming straight to from VHS.
URL:https://salmonbayeagles.com/event/movie-nite-46/
LOCATION:Social Room
END:VEVENT
BEGIN:VEVENT
DTSTART;TZID=America/Los_Angeles:20250424T190000
DTEND;TZID=America/Los_Angeles:20250424T190000
DTSTAMP:20260425T185407
CREATED:20250325T214127Z
LAST-MODIFIED:20250325T214127Z
UID:8248-1745521200-1745521200@salmonbayeagles.com
SUMMARY:Prawn Po’boys
DESCRIPTION:Judy is making her crowd-favorite Prawn Po’boys the classic Louisiana way—fried prawns\, shredded lettuce\, tomato\, and homemade rémoulade sauce.
URL:https://salmonbayeagles.com/event/prawn-poboys/
LOCATION:Social Room
END:VEVENT
BEGIN:VEVENT
DTSTART;TZID=America/Los_Angeles:20250424T200000
DTEND;TZID=America/Los_Angeles:20250424T200000
DTSTAMP:20260425T185407
CREATED:20250312T214114Z
LAST-MODIFIED:20250312T214114Z
UID:8226-1745524800-1745524800@salmonbayeagles.com
SUMMARY:Salmon Dan's Jam
DESCRIPTION:Salmon Dan hosts a monthly blues jam on the last Thursday\, backed by Billy Reed (piano)\, Marty Vadalabene (drums)\, and Walter White (bass). Professional and aspiring musicians welcome to join this revived Salmon Bay Eagles tradition.
URL:https://salmonbayeagles.com/event/salmon-dans-jam-13/
LOCATION:Social Room
END:VEVENT
BEGIN:VEVENT
DTSTART;TZID=America/Los_Angeles:20250425T190000
DTEND;TZID=America/Los_Angeles:20250425T190000
DTSTAMP:20260425T185407
CREATED:20250325T214143Z
LAST-MODIFIED:20250325T214143Z
UID:8249-1745607600-1745607600@salmonbayeagles.com
SUMMARY:Prawn Po’boys
DESCRIPTION:Judy is making her crowd-favorite Prawn Po’boys the classic Louisiana way—fried prawns\, shredded lettuce\, tomato\, and homemade rémoulade sauce.
URL:https://salmonbayeagles.com/event/prawn-poboys-2/
LOCATION:Social Room
END:VEVENT
BEGIN:VEVENT
DTSTART;TZID=America/Los_Angeles:20250425T200000
DTEND;TZID=America/Los_Angeles:20250425T200000
DTSTAMP:20260425T185407
CREATED:20250312T214117Z
LAST-MODIFIED:20250312T214117Z
UID:8227-1745611200-1745611200@salmonbayeagles.com
SUMMARY:Bale Jumpers
DESCRIPTION:Started as friends jamming on the porch\, now they’re bringing down the house! The Bale Jumpers are cooking up a tasty mix of your favorite tunes with our own special sauce. From Johnny Cash to Bob Marley\, there’s something for everyone.
URL:https://salmonbayeagles.com/event/bale-jumpers/
LOCATION:Social Room
END:VEVENT
BEGIN:VEVENT
DTSTART;TZID=America/Los_Angeles:20250426T190000
DTEND;TZID=America/Los_Angeles:20250426T190000
DTSTAMP:20260425T185407
CREATED:20250325T214147Z
LAST-MODIFIED:20250325T214147Z
UID:8250-1745694000-1745694000@salmonbayeagles.com
SUMMARY:Prawn Po’boys
DESCRIPTION:Judy is making her crowd-favorite Prawn Po’boys the classic Louisiana way—fried prawns\, shredded lettuce\, tomato\, and homemade rémoulade sauce.
URL:https://salmonbayeagles.com/event/prawn-poboys-3/
LOCATION:Social Room
END:VEVENT
BEGIN:VEVENT
DTSTART;TZID=America/Los_Angeles:20250426T200000
DTEND;TZID=America/Los_Angeles:20250426T200000
DTSTAMP:20260425T185407
CREATED:20250312T214121Z
LAST-MODIFIED:20250312T214121Z
UID:8228-1745697600-1745697600@salmonbayeagles.com
SUMMARY:Trifecta
DESCRIPTION:It’s the Trifecta: Guitar wizard Steve Black\, groove master King Dre & versatile virtuoso David “Saint Bees.” Three music legends unite for an unforgettable sonic experience!
URL:https://salmonbayeagles.com/event/trifecta-5/
LOCATION:Social Room
END:VEVENT
BEGIN:VEVENT
DTSTART;TZID=America/Los_Angeles:20250430T180000
DTEND;TZID=America/Los_Angeles:20250430T180000
DTSTAMP:20260425T185407
CREATED:20250312T213439Z
LAST-MODIFIED:20250312T213439Z
UID:8204-1746036000-1746036000@salmonbayeagles.com
SUMMARY:Joker Poker
DESCRIPTION:Wednesdays are Poker Joker nights. If no one pulls the Joker\, the pot grows every week. The next winner could be you. HOW TO PLAY: Joker Poker raffles tickets cost $1 each and maybe purchased from the bartender or conductor of the raffle up until 6pm.
URL:https://salmonbayeagles.com/event/joker-poker-133/
LOCATION:Social Room
END:VEVENT
BEGIN:VEVENT
DTSTART;TZID=America/Los_Angeles:20250430T181500
DTEND;TZID=America/Los_Angeles:20250430T181500
DTSTAMP:20260425T185407
CREATED:20250312T213739Z
LAST-MODIFIED:20250312T213739Z
UID:8216-1746036900-1746036900@salmonbayeagles.com
SUMMARY:Trustee Meeting
DESCRIPTION:Speak with the Aerie Trustees! Any Aerie can come to a Trustee Meeting (every Wednesday at 6:15) and ask questions about club operations or voice concerns and ideas during the first part of our weekly meeting.
URL:https://salmonbayeagles.com/event/trustee-meeting-35/
LOCATION:Social Room
END:VEVENT
BEGIN:VEVENT
DTSTART;TZID=America/Los_Angeles:20250430T190000
DTEND;TZID=America/Los_Angeles:20250430T190000
DTSTAMP:20260425T185407
CREATED:20250312T213452Z
LAST-MODIFIED:20250312T213452Z
UID:8208-1746039600-1746039600@salmonbayeagles.com
SUMMARY:Movie Nite
DESCRIPTION:Enjoy free popcorn while watching these classics coming straight to from VHS.
URL:https://salmonbayeagles.com/event/movie-nite-47/
LOCATION:Social Room
END:VEVENT
BEGIN:VEVENT
DTSTART;TZID=America/Los_Angeles:20250501T190000
DTEND;TZID=America/Los_Angeles:20250501T190000
DTSTAMP:20260425T185407
CREATED:20250430T004931Z
LAST-MODIFIED:20250430T004931Z
UID:8280-1746126000-1746126000@salmonbayeagles.com
SUMMARY:Tacos de Mayo
DESCRIPTION:May 1–3: Murphy is making tacos with a variety of meats and toppings. It’s a great way to celebrate the upcoming Cinco de Mayo.
URL:https://salmonbayeagles.com/event/tacos-de-mayo/
LOCATION:Social Room
END:VEVENT
BEGIN:VEVENT
DTSTART;TZID=America/Los_Angeles:20250501T200000
DTEND;TZID=America/Los_Angeles:20250501T200000
DTSTAMP:20260425T185407
CREATED:20250430T005346Z
LAST-MODIFIED:20250430T005346Z
UID:8295-1746129600-1746129600@salmonbayeagles.com
SUMMARY:Ryan T Higgins Band
DESCRIPTION:Ryan T. Higgins is an accomplished musician and guitar builder from the Pacific Northwest\, celebrated for his unique fusion of rock\, blues\, jam\, and roots music.
URL:https://salmonbayeagles.com/event/ryan-t-higgins-band-3/
LOCATION:Social Room
END:VEVENT
BEGIN:VEVENT
DTSTART;TZID=America/Los_Angeles:20250502T190000
DTEND;TZID=America/Los_Angeles:20250502T190000
DTSTAMP:20260425T185407
CREATED:20250430T004932Z
LAST-MODIFIED:20250430T004932Z
UID:8281-1746212400-1746212400@salmonbayeagles.com
SUMMARY:Tacos de Mayo
DESCRIPTION:May 1–3: Murphy is making tacos with a variety of meats and toppings. It’s a great way to celebrate the upcoming Cinco de Mayo.
URL:https://salmonbayeagles.com/event/tacos-de-mayo-2/
LOCATION:Social Room
END:VEVENT
BEGIN:VEVENT
DTSTART;TZID=America/Los_Angeles:20250502T200000
DTEND;TZID=America/Los_Angeles:20250502T200000
DTSTAMP:20260425T185407
CREATED:20250430T005348Z
LAST-MODIFIED:20250430T005348Z
UID:8296-1746216000-1746216000@salmonbayeagles.com
SUMMARY:Youfouric
DESCRIPTION:Experience the magic of Youfouric – where Americana meets blues\, folk & country! Featuring music legends Steve Stusser\, Burnie LaCombe\, Marty Vadavenus (Doug Kershaw’s drummer) & Danny Godinez (Santana collaborator). Pure musical mastery on stage!
URL:https://salmonbayeagles.com/event/youfouric/
LOCATION:Social Room
END:VEVENT
BEGIN:VEVENT
DTSTART;TZID=America/Los_Angeles:20250503T190000
DTEND;TZID=America/Los_Angeles:20250503T190000
DTSTAMP:20260425T185407
CREATED:20250430T004933Z
LAST-MODIFIED:20250430T004933Z
UID:8282-1746298800-1746298800@salmonbayeagles.com
SUMMARY:Tacos de Mayo
DESCRIPTION:May 1–3: Murphy is making tacos with a variety of meats and toppings. It’s a great way to celebrate the upcoming Cinco de Mayo.
URL:https://salmonbayeagles.com/event/tacos-de-mayo-3/
LOCATION:Social Room
END:VEVENT
BEGIN:VEVENT
DTSTART;TZID=America/Los_Angeles:20250503T200000
DTEND;TZID=America/Los_Angeles:20250503T200000
DTSTAMP:20260425T185407
CREATED:20250430T005349Z
LAST-MODIFIED:20250430T005349Z
UID:8297-1746302400-1746302400@salmonbayeagles.com
SUMMARY:Alki Heathens
DESCRIPTION:The Alki Heathens bring their electric West Seattle sound to Salmon Bay Eagles! Experience the thunderous harmonies of @StressboyRecords’ newest warriors. Charley Rowan & Tim Scallon’s originals will shake your soul! AHO!
URL:https://salmonbayeagles.com/event/alki-heathens/
LOCATION:Social Room
END:VEVENT
BEGIN:VEVENT
DTSTART;TZID=America/Los_Angeles:20250507T180000
DTEND;TZID=America/Los_Angeles:20250507T180000
DTSTAMP:20260425T185407
CREATED:20250430T004850Z
LAST-MODIFIED:20250430T004850Z
UID:8263-1746640800-1746640800@salmonbayeagles.com
SUMMARY:Joker Poker
DESCRIPTION:Wednesdays are Poker Joker nights. If no one pulls the Joker\, the pot grows every week. The next winner could be you. HOW TO PLAY: Joker Poker raffles tickets cost $1 each and maybe purchased from the bartender or conductor of the raffle up until 6pm.
URL:https://salmonbayeagles.com/event/joker-poker-134/
LOCATION:Social Room
END:VEVENT
BEGIN:VEVENT
DTSTART;TZID=America/Los_Angeles:20250507T181500
DTEND;TZID=America/Los_Angeles:20250507T181500
DTSTAMP:20260425T185407
CREATED:20250430T004918Z
LAST-MODIFIED:20250430T004918Z
UID:8276-1746641700-1746641700@salmonbayeagles.com
SUMMARY:Trustee Meeting
DESCRIPTION:Speak with the Aerie Trustees! Any Aerie can come to a Trustee Meeting (every Wednesday at 6:15) and ask questions about club operations or voice concerns and ideas during the first part of our weekly meeting.
URL:https://salmonbayeagles.com/event/trustee-meeting-36/
LOCATION:Social Room
END:VEVENT
BEGIN:VEVENT
DTSTART;TZID=America/Los_Angeles:20250507T190000
DTEND;TZID=America/Los_Angeles:20250507T190000
DTSTAMP:20260425T185407
CREATED:20250430T004914Z
LAST-MODIFIED:20250430T004914Z
UID:8273-1746644400-1746644400@salmonbayeagles.com
SUMMARY:Aerie Meeting
DESCRIPTION:Aerie meetings are held the first and third Wednesdays of each month at 7:00 P.M. in the Grand Hall on the second floor. All members are welcome. Initiation of new members occurs during the meeting held on the 2nd Wednesday of each month.
URL:https://salmonbayeagles.com/event/aerie-meeting-62/
LOCATION:Social Room
END:VEVENT
BEGIN:VEVENT
DTSTART;TZID=America/Los_Angeles:20250508T190000
DTEND;TZID=America/Los_Angeles:20250508T190000
DTSTAMP:20260425T185407
CREATED:20250430T004944Z
LAST-MODIFIED:20250430T004944Z
UID:8283-1746730800-1746730800@salmonbayeagles.com
SUMMARY:French Dip Plate
DESCRIPTION:May 8–10: The return of a diner classic—delicious Beef French Dip with\nau jus\, courtesy of Chef Murphy. And don’t forget dessert!
URL:https://salmonbayeagles.com/event/french-dip-plate/
LOCATION:Social Room
END:VEVENT
BEGIN:VEVENT
DTSTART;TZID=America/Los_Angeles:20250508T200000
DTEND;TZID=America/Los_Angeles:20250508T200000
DTSTAMP:20260425T185407
CREATED:20250430T005425Z
LAST-MODIFIED:20250430T005425Z
UID:8298-1746734400-1746734400@salmonbayeagles.com
SUMMARY:McPage & Powell
DESCRIPTION:Award-winning duo McPage & Powell bring their magic blend of Roots\, Blues & Pop to the stage! From intimate acoustics to full band power\, they’ll move you. Ft. WBS Best Female Vocalist @MaryMcPage + 25x nominees for “Best of Blues”!
URL:https://salmonbayeagles.com/event/mcpage-powell/
LOCATION:Social Room
END:VEVENT
BEGIN:VEVENT
DTSTART;TZID=America/Los_Angeles:20250509T190000
DTEND;TZID=America/Los_Angeles:20250509T190000
DTSTAMP:20260425T185407
CREATED:20250430T004945Z
LAST-MODIFIED:20250430T004945Z
UID:8284-1746817200-1746817200@salmonbayeagles.com
SUMMARY:French Dip Plate
DESCRIPTION:May 8–10: The return of a diner classic—delicious Beef French Dip with\nau jus\, courtesy of Chef Murphy. And don’t forget dessert!
URL:https://salmonbayeagles.com/event/french-dip-plate-2/
LOCATION:Social Room
END:VEVENT
BEGIN:VEVENT
DTSTART;TZID=America/Los_Angeles:20250509T200000
DTEND;TZID=America/Los_Angeles:20250509T200000
DTSTAMP:20260425T185407
CREATED:20250430T005427Z
LAST-MODIFIED:20250430T005427Z
UID:8299-1746820800-1746820800@salmonbayeagles.com
SUMMARY:Tumbling Dice
DESCRIPTION:Experience the raw energy and timeless appeal of rock ‘n’ roll’s greatest band through the masterful performance of Tumbling Dice\, the PNW’s most authentic Rolling Stones tribute experience.
URL:https://salmonbayeagles.com/event/tumbling-dice-3/
LOCATION:Social Room
END:VEVENT
END:VCALENDAR