BEGIN:VCALENDAR
VERSION:2.0
PRODID:-//Salmon Bay Eagles 2141 - ECPv6.15.17.1//NONSGML v1.0//EN
CALSCALE:GREGORIAN
METHOD:PUBLISH
X-WR-CALNAME:Salmon Bay Eagles 2141
X-ORIGINAL-URL:https://salmonbayeagles.com
X-WR-CALDESC:Events for Salmon Bay Eagles 2141
REFRESH-INTERVAL;VALUE=DURATION:PT1H
X-Robots-Tag:noindex
X-PUBLISHED-TTL:PT1H
BEGIN:VTIMEZONE
TZID:America/Los_Angeles
BEGIN:DAYLIGHT
TZOFFSETFROM:-0800
TZOFFSETTO:-0700
TZNAME:PDT
DTSTART:20240310T100000
END:DAYLIGHT
BEGIN:STANDARD
TZOFFSETFROM:-0700
TZOFFSETTO:-0800
TZNAME:PST
DTSTART:20241103T090000
END:STANDARD
BEGIN:DAYLIGHT
TZOFFSETFROM:-0800
TZOFFSETTO:-0700
TZNAME:PDT
DTSTART:20250309T100000
END:DAYLIGHT
BEGIN:STANDARD
TZOFFSETFROM:-0700
TZOFFSETTO:-0800
TZNAME:PST
DTSTART:20251102T090000
END:STANDARD
BEGIN:DAYLIGHT
TZOFFSETFROM:-0800
TZOFFSETTO:-0700
TZNAME:PDT
DTSTART:20260308T100000
END:DAYLIGHT
BEGIN:STANDARD
TZOFFSETFROM:-0700
TZOFFSETTO:-0800
TZNAME:PST
DTSTART:20261101T090000
END:STANDARD
END:VTIMEZONE
BEGIN:VEVENT
DTSTART;TZID=America/Los_Angeles:20250507T181500
DTEND;TZID=America/Los_Angeles:20250507T181500
DTSTAMP:20260425T212351
CREATED:20250430T004918Z
LAST-MODIFIED:20250430T004918Z
UID:8276-1746641700-1746641700@salmonbayeagles.com
SUMMARY:Trustee Meeting
DESCRIPTION:Speak with the Aerie Trustees! Any Aerie can come to a Trustee Meeting (every Wednesday at 6:15) and ask questions about club operations or voice concerns and ideas during the first part of our weekly meeting.
URL:https://salmonbayeagles.com/event/trustee-meeting-36/
LOCATION:Social Room
END:VEVENT
BEGIN:VEVENT
DTSTART;TZID=America/Los_Angeles:20250507T190000
DTEND;TZID=America/Los_Angeles:20250507T190000
DTSTAMP:20260425T212351
CREATED:20250430T004914Z
LAST-MODIFIED:20250430T004914Z
UID:8273-1746644400-1746644400@salmonbayeagles.com
SUMMARY:Aerie Meeting
DESCRIPTION:Aerie meetings are held the first and third Wednesdays of each month at 7:00 P.M. in the Grand Hall on the second floor. All members are welcome. Initiation of new members occurs during the meeting held on the 2nd Wednesday of each month.
URL:https://salmonbayeagles.com/event/aerie-meeting-62/
LOCATION:Social Room
END:VEVENT
BEGIN:VEVENT
DTSTART;TZID=America/Los_Angeles:20250508T190000
DTEND;TZID=America/Los_Angeles:20250508T190000
DTSTAMP:20260425T212351
CREATED:20250430T004944Z
LAST-MODIFIED:20250430T004944Z
UID:8283-1746730800-1746730800@salmonbayeagles.com
SUMMARY:French Dip Plate
DESCRIPTION:May 8–10: The return of a diner classic—delicious Beef French Dip with\nau jus\, courtesy of Chef Murphy. And don’t forget dessert!
URL:https://salmonbayeagles.com/event/french-dip-plate/
LOCATION:Social Room
END:VEVENT
BEGIN:VEVENT
DTSTART;TZID=America/Los_Angeles:20250508T200000
DTEND;TZID=America/Los_Angeles:20250508T200000
DTSTAMP:20260425T212351
CREATED:20250430T005425Z
LAST-MODIFIED:20250430T005425Z
UID:8298-1746734400-1746734400@salmonbayeagles.com
SUMMARY:McPage & Powell
DESCRIPTION:Award-winning duo McPage & Powell bring their magic blend of Roots\, Blues & Pop to the stage! From intimate acoustics to full band power\, they’ll move you. Ft. WBS Best Female Vocalist @MaryMcPage + 25x nominees for “Best of Blues”!
URL:https://salmonbayeagles.com/event/mcpage-powell/
LOCATION:Social Room
END:VEVENT
BEGIN:VEVENT
DTSTART;TZID=America/Los_Angeles:20250509T190000
DTEND;TZID=America/Los_Angeles:20250509T190000
DTSTAMP:20260425T212351
CREATED:20250430T004945Z
LAST-MODIFIED:20250430T004945Z
UID:8284-1746817200-1746817200@salmonbayeagles.com
SUMMARY:French Dip Plate
DESCRIPTION:May 8–10: The return of a diner classic—delicious Beef French Dip with\nau jus\, courtesy of Chef Murphy. And don’t forget dessert!
URL:https://salmonbayeagles.com/event/french-dip-plate-2/
LOCATION:Social Room
END:VEVENT
BEGIN:VEVENT
DTSTART;TZID=America/Los_Angeles:20250509T200000
DTEND;TZID=America/Los_Angeles:20250509T200000
DTSTAMP:20260425T212351
CREATED:20250430T005427Z
LAST-MODIFIED:20250430T005427Z
UID:8299-1746820800-1746820800@salmonbayeagles.com
SUMMARY:Tumbling Dice
DESCRIPTION:Experience the raw energy and timeless appeal of rock ‘n’ roll’s greatest band through the masterful performance of Tumbling Dice\, the PNW’s most authentic Rolling Stones tribute experience.
URL:https://salmonbayeagles.com/event/tumbling-dice-3/
LOCATION:Social Room
END:VEVENT
BEGIN:VEVENT
DTSTART;TZID=America/Los_Angeles:20250510T190000
DTEND;TZID=America/Los_Angeles:20250510T190000
DTSTAMP:20260425T212351
CREATED:20250430T004946Z
LAST-MODIFIED:20250430T004946Z
UID:8285-1746903600-1746903600@salmonbayeagles.com
SUMMARY:French Dip Plate
DESCRIPTION:May 8–10: The return of a diner classic—delicious Beef French Dip with\nau jus\, courtesy of Chef Murphy. And don’t forget dessert!
URL:https://salmonbayeagles.com/event/french-dip-plate-3/
LOCATION:Social Room
END:VEVENT
BEGIN:VEVENT
DTSTART;TZID=America/Los_Angeles:20250510T200000
DTEND;TZID=America/Los_Angeles:20250510T200000
DTSTAMP:20260425T212351
CREATED:20250430T005428Z
LAST-MODIFIED:20250430T005428Z
UID:8300-1746907200-1746907200@salmonbayeagles.com
SUMMARY:Ron Bailey & The Tangents
DESCRIPTION:Ron & the Tangents\, featuring seasoned musicians from renowned local bands\, deliver infectious music that fills dance floors. Led by showman Ron\, with a lineup on drums\, guitar\, bass\, and keys\, they keep the party going all night long.
URL:https://salmonbayeagles.com/event/ron-bailey-the-tangents-18/
LOCATION:Social Room
END:VEVENT
BEGIN:VEVENT
DTSTART;TZID=America/Los_Angeles:20250511T130000
DTEND;TZID=America/Los_Angeles:20250511T140000
DTSTAMP:20260425T212351
CREATED:20250430T004916Z
LAST-MODIFIED:20250430T010332Z
UID:8275-1746968400-1746972000@salmonbayeagles.com
SUMMARY:Mother's Day Brunch
DESCRIPTION:Join us for brunch on Sunday\, May 11 at 1pm as we celebrate moms and all they do. Mom’s eat free! Murphy will be making a wonderful spread of favorite brunch items.
URL:https://salmonbayeagles.com/event/mothers-day-brunch-2/
LOCATION:Social Room
END:VEVENT
BEGIN:VEVENT
DTSTART;TZID=America/Los_Angeles:20250514T180000
DTEND;TZID=America/Los_Angeles:20250514T180000
DTSTAMP:20260425T212351
CREATED:20250430T004852Z
LAST-MODIFIED:20250430T004852Z
UID:8264-1747245600-1747245600@salmonbayeagles.com
SUMMARY:Joker Poker
DESCRIPTION:Wednesdays are Poker Joker nights. If no one pulls the Joker\, the pot grows every week. The next winner could be you. HOW TO PLAY: Joker Poker raffles tickets cost $1 each and maybe purchased from the bartender or conductor of the raffle up until 6pm.
URL:https://salmonbayeagles.com/event/joker-poker-135/
LOCATION:Social Room
END:VEVENT
BEGIN:VEVENT
DTSTART;TZID=America/Los_Angeles:20250514T181500
DTEND;TZID=America/Los_Angeles:20250514T181500
DTSTAMP:20260425T212351
CREATED:20250430T004902Z
LAST-MODIFIED:20250430T004902Z
UID:8271-1747246500-1747246500@salmonbayeagles.com
SUMMARY:Calendar Meeting
DESCRIPTION:Calendar meetings occur on the first Wednesday of the month at 6pm in the game room. This monthly meeting communicates upcoming events and volunteer needs to members.
URL:https://salmonbayeagles.com/event/calendar-meeting-9/
LOCATION:Social Room
END:VEVENT
BEGIN:VEVENT
DTSTART;TZID=America/Los_Angeles:20250514T181500
DTEND;TZID=America/Los_Angeles:20250514T181500
DTSTAMP:20260425T212351
CREATED:20250430T004919Z
LAST-MODIFIED:20250430T004919Z
UID:8277-1747246500-1747246500@salmonbayeagles.com
SUMMARY:Trustee Meeting
DESCRIPTION:Speak with the Aerie Trustees! Any Aerie can come to a Trustee Meeting (every Wednesday at 6:15) and ask questions about club operations or voice concerns and ideas during the first part of our weekly meeting.
URL:https://salmonbayeagles.com/event/trustee-meeting-37/
LOCATION:Social Room
END:VEVENT
BEGIN:VEVENT
DTSTART;TZID=America/Los_Angeles:20250515T190000
DTEND;TZID=America/Los_Angeles:20250515T190000
DTSTAMP:20260425T212351
CREATED:20250430T004948Z
LAST-MODIFIED:20250430T004948Z
UID:8286-1747335600-1747335600@salmonbayeagles.com
SUMMARY:Fresh Salmon Cakes
DESCRIPTION:May 15–17: It’s not Norwegian Ballard without salmon\, so Judy is making\nfresh salmon cakes for dinner. Proceeds benefit the Ballard Food Bank.
URL:https://salmonbayeagles.com/event/fresh-salmon-cakes/
LOCATION:Social Room
END:VEVENT
BEGIN:VEVENT
DTSTART;TZID=America/Los_Angeles:20250515T200000
DTEND;TZID=America/Los_Angeles:20250515T200000
DTSTAMP:20260425T212351
CREATED:20250430T005430Z
LAST-MODIFIED:20250430T005430Z
UID:8301-1747339200-1747339200@salmonbayeagles.com
SUMMARY:Dana Lupinacci
DESCRIPTION:Dana Lupinacci is a dynamic Seattle-based performer known for her exceptional versatility in blues\, jazz\, and roots music\, captivating audiences with her powerful vocals and engaging stage presence.
URL:https://salmonbayeagles.com/event/dana-lupinacci-4/
LOCATION:Social Room
END:VEVENT
BEGIN:VEVENT
DTSTART;TZID=America/Los_Angeles:20250516T190000
DTEND;TZID=America/Los_Angeles:20250516T190000
DTSTAMP:20260425T212351
CREATED:20250430T004949Z
LAST-MODIFIED:20250430T004949Z
UID:8287-1747422000-1747422000@salmonbayeagles.com
SUMMARY:Fresh Salmon Cakes
DESCRIPTION:May 15–17: It’s not Norwegian Ballard without salmon\, so Judy is making\nfresh salmon cakes for dinner. Proceeds benefit the Ballard Food Bank.
URL:https://salmonbayeagles.com/event/fresh-salmon-cakes-2/
LOCATION:Social Room
END:VEVENT
BEGIN:VEVENT
DTSTART;TZID=America/Los_Angeles:20250516T200000
DTEND;TZID=America/Los_Angeles:20250516T200000
DTSTAMP:20260425T212351
CREATED:20250430T005431Z
LAST-MODIFIED:20250430T005431Z
UID:8302-1747425600-1747425600@salmonbayeagles.com
SUMMARY:Quicknine
DESCRIPTION:Where classic 70s meets modern groove! Quicknine brings original rock that’ll make you think AND dance. Six-piece band featuring theremin\, dual guitars & meditation drum. Your next favorite rock experience awaits!
URL:https://salmonbayeagles.com/event/quicknine-4/
LOCATION:Social Room
END:VEVENT
BEGIN:VEVENT
DTSTART;TZID=America/Los_Angeles:20250517T110000
DTEND;TZID=America/Los_Angeles:20250517T110000
DTSTAMP:20260425T212351
CREATED:20250430T004904Z
LAST-MODIFIED:20250430T004904Z
UID:8272-1747479600-1747479600@salmonbayeagles.com
SUMMARY:District 5 BBQ at Salmon Bay Eagles
DESCRIPTION:May 17 Saturday: We’re hosting the last District 5 Meeting of the year at\nSalmon Bay Eagles with a blowout BBQ. Come at 11 a.m. and feast.
URL:https://salmonbayeagles.com/event/district-5-bbq-at-salmon-bay-eagles/
LOCATION:Social Room
END:VEVENT
BEGIN:VEVENT
DTSTART;TZID=America/Los_Angeles:20250517T190000
DTEND;TZID=America/Los_Angeles:20250517T190000
DTSTAMP:20260425T212351
CREATED:20250430T005144Z
LAST-MODIFIED:20250430T005144Z
UID:8288-1747508400-1747508400@salmonbayeagles.com
SUMMARY:Fresh Salmon Cakes
DESCRIPTION:May 15–17: It’s not Norwegian Ballard without salmon\, so Judy is making\nfresh salmon cakes for dinner. Proceeds benefit the Ballard Food Bank.
URL:https://salmonbayeagles.com/event/fresh-salmon-cakes-3/
LOCATION:Social Room
END:VEVENT
BEGIN:VEVENT
DTSTART;TZID=America/Los_Angeles:20250517T200000
DTEND;TZID=America/Los_Angeles:20250517T200000
DTSTAMP:20260425T212351
CREATED:20250430T005441Z
LAST-MODIFIED:20250430T005441Z
UID:8303-1747512000-1747512000@salmonbayeagles.com
SUMMARY:Seattle Houserockers
DESCRIPTION:From blues to funk\, R&B to swing\, the Seattle Houserockers have got it all. Catch their electrifying performance and witness the magic of Dan\, John\, Marty\, and John as they serve up a musical feast that’ll have you dancing all night long!
URL:https://salmonbayeagles.com/event/seattle-houserockers-3/
LOCATION:Social Room
END:VEVENT
BEGIN:VEVENT
DTSTART;TZID=America/Los_Angeles:20250521T180000
DTEND;TZID=America/Los_Angeles:20250521T180000
DTSTAMP:20260425T212351
CREATED:20250430T004853Z
LAST-MODIFIED:20250430T004853Z
UID:8265-1747850400-1747850400@salmonbayeagles.com
SUMMARY:Joker Poker
DESCRIPTION:Wednesdays are Poker Joker nights. If no one pulls the Joker\, the pot grows every week. The next winner could be you. HOW TO PLAY: Joker Poker raffles tickets cost $1 each and maybe purchased from the bartender or conductor of the raffle up until 6pm.
URL:https://salmonbayeagles.com/event/joker-poker-136/
LOCATION:Social Room
END:VEVENT
BEGIN:VEVENT
DTSTART;TZID=America/Los_Angeles:20250521T181500
DTEND;TZID=America/Los_Angeles:20250521T181500
DTSTAMP:20260425T212351
CREATED:20250430T004929Z
LAST-MODIFIED:20250430T004929Z
UID:8278-1747851300-1747851300@salmonbayeagles.com
SUMMARY:Trustee Meeting
DESCRIPTION:Speak with the Aerie Trustees! Any Aerie can come to a Trustee Meeting (every Wednesday at 6:15) and ask questions about club operations or voice concerns and ideas during the first part of our weekly meeting.
URL:https://salmonbayeagles.com/event/trustee-meeting-38/
LOCATION:Social Room
END:VEVENT
BEGIN:VEVENT
DTSTART;TZID=America/Los_Angeles:20250521T190000
DTEND;TZID=America/Los_Angeles:20250521T190000
DTSTAMP:20260425T212351
CREATED:20250430T004915Z
LAST-MODIFIED:20250430T004915Z
UID:8274-1747854000-1747854000@salmonbayeagles.com
SUMMARY:Aerie Officer Installation
DESCRIPTION:The installation of our new Aerie Officers will be held on Wednesday\, May 21\, at 7pm. This event honors all incoming\, outgoing\, and continuing officers. Members are encouraged to attend and celebrate this transition.
URL:https://salmonbayeagles.com/event/aerie-officer-installation/
LOCATION:Social Room
END:VEVENT
BEGIN:VEVENT
DTSTART;TZID=America/Los_Angeles:20250522T190000
DTEND;TZID=America/Los_Angeles:20250522T190000
DTSTAMP:20260425T212351
CREATED:20250430T005146Z
LAST-MODIFIED:20250430T005146Z
UID:8289-1747940400-1747940400@salmonbayeagles.com
SUMMARY:Stir-fry & Egg Rolls
DESCRIPTION:May 22–24: We love international flavors! This week\, it’s stir fry and egg\nrolls for dinner—better than takeout\, because it’s made by Murphy.
URL:https://salmonbayeagles.com/event/stir-fry-egg-rolls/
LOCATION:Social Room
END:VEVENT
BEGIN:VEVENT
DTSTART;TZID=America/Los_Angeles:20250522T200000
DTEND;TZID=America/Los_Angeles:20250522T200000
DTSTAMP:20260425T212351
CREATED:20250430T005442Z
LAST-MODIFIED:20250430T005442Z
UID:8304-1747944000-1747944000@salmonbayeagles.com
SUMMARY:Silver Tongued Devils
DESCRIPTION:Johnny Atomic & the Silver Tongue Devils: Top regional talent playing blues\, rock & R&B. Features ex-Fabulous Wailers guitarist John Hanford\, keyboardist Mike Japp\, drummer Ben Smith\, and bassist Rick Houle. Expect great live music and a good time!
URL:https://salmonbayeagles.com/event/silver-tongued-devils-6/
LOCATION:Social Room
END:VEVENT
BEGIN:VEVENT
DTSTART;TZID=America/Los_Angeles:20250523T190000
DTEND;TZID=America/Los_Angeles:20250523T190000
DTSTAMP:20260425T212351
CREATED:20250430T005147Z
LAST-MODIFIED:20250430T005147Z
UID:8290-1748026800-1748026800@salmonbayeagles.com
SUMMARY:Stir-fry & Egg Rolls
DESCRIPTION:May 22–24: We love international flavors! This week\, it’s stir fry and egg\nrolls for dinner—better than takeout\, because it’s made by Murphy.
URL:https://salmonbayeagles.com/event/stir-fry-egg-rolls-2/
LOCATION:Social Room
END:VEVENT
BEGIN:VEVENT
DTSTART;TZID=America/Los_Angeles:20250523T200000
DTEND;TZID=America/Los_Angeles:20250523T200000
DTSTAMP:20260425T212351
CREATED:20250430T005444Z
LAST-MODIFIED:20250430T005444Z
UID:8305-1748030400-1748030400@salmonbayeagles.com
SUMMARY:John Pinetree
DESCRIPTION:Join us for a night of captivating music with John Pinetree & The Yellin’ Degenerates! This talented group blends Americana\, blues\, jazz\, neo-soul\, and funk\, creating a unique and dynamic sound.
URL:https://salmonbayeagles.com/event/john-pinetree/
LOCATION:Social Room
END:VEVENT
BEGIN:VEVENT
DTSTART;TZID=America/Los_Angeles:20250524T190000
DTEND;TZID=America/Los_Angeles:20250524T190000
DTSTAMP:20260425T212351
CREATED:20250430T005149Z
LAST-MODIFIED:20250430T005149Z
UID:8291-1748113200-1748113200@salmonbayeagles.com
SUMMARY:Stir-fry & Egg Rolls
DESCRIPTION:May 22–24: We love international flavors! This week\, it’s stir fry and egg\nrolls for dinner—better than takeout\, because it’s made by Murphy.
URL:https://salmonbayeagles.com/event/stir-fry-egg-rolls-3/
LOCATION:Social Room
END:VEVENT
BEGIN:VEVENT
DTSTART;TZID=America/Los_Angeles:20250524T200000
DTEND;TZID=America/Los_Angeles:20250524T200000
DTSTAMP:20260425T212351
CREATED:20250430T005445Z
LAST-MODIFIED:20250430T005445Z
UID:8306-1748116800-1748116800@salmonbayeagles.com
SUMMARY:Chris Stevens
DESCRIPTION:NW blues legend Chris Stevens brings his “blues on the edge of jazz” to life! Channeling BB King & T-Bone Walker with a twist of spy themes & surf guitar. Experience this Gibson-wielding master with the Chris Stevens Band – where blues breaks boundaries!
URL:https://salmonbayeagles.com/event/chris-stevens/
LOCATION:Social Room
END:VEVENT
BEGIN:VEVENT
DTSTART;TZID=America/Los_Angeles:20250528T180000
DTEND;TZID=America/Los_Angeles:20250528T180000
DTSTAMP:20260425T212351
CREATED:20250430T004854Z
LAST-MODIFIED:20250430T004854Z
UID:8266-1748455200-1748455200@salmonbayeagles.com
SUMMARY:Joker Poker
DESCRIPTION:Wednesdays are Poker Joker nights. If no one pulls the Joker\, the pot grows every week. The next winner could be you. HOW TO PLAY: Joker Poker raffles tickets cost $1 each and maybe purchased from the bartender or conductor of the raffle up until 6pm.
URL:https://salmonbayeagles.com/event/joker-poker-137/
LOCATION:Social Room
END:VEVENT
BEGIN:VEVENT
DTSTART;TZID=America/Los_Angeles:20250528T181500
DTEND;TZID=America/Los_Angeles:20250528T181500
DTSTAMP:20260425T212351
CREATED:20250430T004930Z
LAST-MODIFIED:20250430T004930Z
UID:8279-1748456100-1748456100@salmonbayeagles.com
SUMMARY:Trustee Meeting
DESCRIPTION:Speak with the Aerie Trustees! Any Aerie can come to a Trustee Meeting (every Wednesday at 6:15) and ask questions about club operations or voice concerns and ideas during the first part of our weekly meeting.
URL:https://salmonbayeagles.com/event/trustee-meeting-39/
LOCATION:Social Room
END:VEVENT
END:VCALENDAR